BEGIN:VCALENDAR
VERSION:2.0
PRODID:-//Lakeway Garden Club - ECPv6.15.20//NONSGML v1.0//EN
CALSCALE:GREGORIAN
METHOD:PUBLISH
X-WR-CALNAME:Lakeway Garden Club
X-ORIGINAL-URL:https://lakewaygardenclub.com
X-WR-CALDESC:Events for Lakeway Garden Club
REFRESH-INTERVAL;VALUE=DURATION:PT1H
X-Robots-Tag:noindex
X-PUBLISHED-TTL:PT1H
BEGIN:VTIMEZONE
TZID:America/Chicago
BEGIN:DAYLIGHT
TZOFFSETFROM:-0600
TZOFFSETTO:-0500
TZNAME:CDT
DTSTART:20220313T080000
END:DAYLIGHT
BEGIN:STANDARD
TZOFFSETFROM:-0500
TZOFFSETTO:-0600
TZNAME:CST
DTSTART:20221106T070000
END:STANDARD
BEGIN:DAYLIGHT
TZOFFSETFROM:-0600
TZOFFSETTO:-0500
TZNAME:CDT
DTSTART:20230312T080000
END:DAYLIGHT
BEGIN:STANDARD
TZOFFSETFROM:-0500
TZOFFSETTO:-0600
TZNAME:CST
DTSTART:20231105T070000
END:STANDARD
BEGIN:DAYLIGHT
TZOFFSETFROM:-0600
TZOFFSETTO:-0500
TZNAME:CDT
DTSTART:20240310T080000
END:DAYLIGHT
BEGIN:STANDARD
TZOFFSETFROM:-0500
TZOFFSETTO:-0600
TZNAME:CST
DTSTART:20241103T070000
END:STANDARD
END:VTIMEZONE
BEGIN:VEVENT
DTSTART;TZID=America/Chicago:20230511T080000
DTEND;TZID=America/Chicago:20230511T100000
DTSTAMP:20260425T222920
CREATED:20230420T054546Z
LAST-MODIFIED:20230420T054546Z
UID:900-1683792000-1683799200@lakewaygardenclub.com
SUMMARY:Birds in the Landscape
DESCRIPTION:Join birders from Travis Audubon and horticulturists from the Wildflower Center on a morning field trip the second Thursday of every month. Your guides will help identify both native and migratory birds and the native plants they rely on for food and shelter. Bring binoculars to see what feathered friends you can find throughout the gardens. \nThis class will take place in person at the Wildflower Center. Space is limited and registration is required. PLEASE NOTE: In February 2023\, this class will meet on the third Thursday of the month (Feb. 16). \n$15 per adult and $8 per youth (5 – 17 yrs). FREE for Travis Audubon members with discount code*\n*Advanced registration is still required. Travis Audubon members\, email our offices for your discount code.
URL:https://lakewaygardenclub.com/event/birds-in-the-landscape/
LOCATION:Wildflower Center\, 4801 La Crosse Ave\, Austin\, TX\, 78739\, United States
CATEGORIES:Class,Wildflower Center
ATTACH;FMTTYPE=image/jpeg:https://lakewaygardenclub.com/wp-content/uploads/2023/04/Yellow-Rumped-Warbler_SFW.jpg
END:VEVENT
END:VCALENDAR