BEGIN:VCALENDAR
VERSION:2.0
PRODID:-//Lakeway Garden Club - ECPv6.15.20//NONSGML v1.0//EN
CALSCALE:GREGORIAN
METHOD:PUBLISH
X-ORIGINAL-URL:https://lakewaygardenclub.com
X-WR-CALDESC:Events for Lakeway Garden Club
REFRESH-INTERVAL;VALUE=DURATION:PT1H
X-Robots-Tag:noindex
X-PUBLISHED-TTL:PT1H
BEGIN:VTIMEZONE
TZID:America/Chicago
BEGIN:DAYLIGHT
TZOFFSETFROM:-0600
TZOFFSETTO:-0500
TZNAME:CDT
DTSTART:20220313T080000
END:DAYLIGHT
BEGIN:STANDARD
TZOFFSETFROM:-0500
TZOFFSETTO:-0600
TZNAME:CST
DTSTART:20221106T070000
END:STANDARD
BEGIN:DAYLIGHT
TZOFFSETFROM:-0600
TZOFFSETTO:-0500
TZNAME:CDT
DTSTART:20230312T080000
END:DAYLIGHT
BEGIN:STANDARD
TZOFFSETFROM:-0500
TZOFFSETTO:-0600
TZNAME:CST
DTSTART:20231105T070000
END:STANDARD
BEGIN:DAYLIGHT
TZOFFSETFROM:-0600
TZOFFSETTO:-0500
TZNAME:CDT
DTSTART:20240310T080000
END:DAYLIGHT
BEGIN:STANDARD
TZOFFSETFROM:-0500
TZOFFSETTO:-0600
TZNAME:CST
DTSTART:20241103T070000
END:STANDARD
END:VTIMEZONE
BEGIN:VEVENT
DTSTART;TZID=America/Chicago:20230516T100000
DTEND;TZID=America/Chicago:20230516T110000
DTSTAMP:20260425T223050
CREATED:20230430T210612Z
LAST-MODIFIED:20230430T210838Z
UID:918-1684231200-1684234800@lakewaygardenclub.com
SUMMARY:Veggies 101
DESCRIPTION:Have you ever wanted to learn how to grow your own food\, but didn’t know where to start? We will walk you through all the basics from soil prep\, to raised beds\, to planting in the right season.
URL:https://lakewaygardenclub.com/event/veggies-101/
LOCATION:The Natural Gardener\, 8648 Old Bee Caves Rd\, Austin\, TX\, 78735\, United States
CATEGORIES:Class,Free,Outdoor,The Natural Gardener
ATTACH;FMTTYPE=image/png:https://lakewaygardenclub.com/wp-content/uploads/2023/04/veggiebounty.png
END:VEVENT
END:VCALENDAR