BEGIN:VCALENDAR
VERSION:2.0
PRODID:-//Lakeway Garden Club - ECPv6.15.20//NONSGML v1.0//EN
CALSCALE:GREGORIAN
METHOD:PUBLISH
X-ORIGINAL-URL:https://lakewaygardenclub.com
X-WR-CALDESC:Events for Lakeway Garden Club
REFRESH-INTERVAL;VALUE=DURATION:PT1H
X-Robots-Tag:noindex
X-PUBLISHED-TTL:PT1H
BEGIN:VTIMEZONE
TZID:America/Chicago
BEGIN:DAYLIGHT
TZOFFSETFROM:-0600
TZOFFSETTO:-0500
TZNAME:CDT
DTSTART:20220313T080000
END:DAYLIGHT
BEGIN:STANDARD
TZOFFSETFROM:-0500
TZOFFSETTO:-0600
TZNAME:CST
DTSTART:20221106T070000
END:STANDARD
BEGIN:DAYLIGHT
TZOFFSETFROM:-0600
TZOFFSETTO:-0500
TZNAME:CDT
DTSTART:20230312T080000
END:DAYLIGHT
BEGIN:STANDARD
TZOFFSETFROM:-0500
TZOFFSETTO:-0600
TZNAME:CST
DTSTART:20231105T070000
END:STANDARD
BEGIN:DAYLIGHT
TZOFFSETFROM:-0600
TZOFFSETTO:-0500
TZNAME:CDT
DTSTART:20240310T080000
END:DAYLIGHT
BEGIN:STANDARD
TZOFFSETFROM:-0500
TZOFFSETTO:-0600
TZNAME:CST
DTSTART:20241103T070000
END:STANDARD
END:VTIMEZONE
BEGIN:VEVENT
DTSTART;TZID=America/Chicago:20230520T090000
DTEND;TZID=America/Chicago:20230520T110000
DTSTAMP:20260425T222950
CREATED:20230420T054803Z
LAST-MODIFIED:20230420T054922Z
UID:903-1684573200-1684580400@lakewaygardenclub.com
SUMMARY:Container Gardening Workshop
DESCRIPTION:Learning the art of container gardening means you don’t need a lot of land to support pollinators\, enjoy the benefits of greenery and get your hands in the soil! Create a portable native plant paradise on your patio\, balcony\, or in your yard with this hands-on workshop taught by our very own Samantha Elkinton\, Gardens Manager. Learn how to identify native plants that do well in containers and get tips for transplanting and keeping your flora healthy. \nMaterials and plants for this class are included with registration. Participants are also welcome to bring a container of their choice (size specifications will be sent to participants prior to the workshop). This class will take place in person at the Wildflower Center. Space is limited and registration is required.
URL:https://lakewaygardenclub.com/event/container-gardening-workshop/
LOCATION:Wildflower Center\, 4801 La Crosse Ave\, Austin\, TX\, 78739\, United States
CATEGORIES:Class,Wildflower Center,Workshop
ATTACH;FMTTYPE=image/jpeg:https://lakewaygardenclub.com/wp-content/uploads/2021/04/containergarden.jpg
END:VEVENT
BEGIN:VEVENT
DTSTART;TZID=America/Chicago:20230520T100000
DTEND;TZID=America/Chicago:20230520T110000
DTSTAMP:20260425T222950
CREATED:20230405T044238Z
LAST-MODIFIED:20230430T211307Z
UID:854-1684576800-1684580400@lakewaygardenclub.com
SUMMARY:[Cancelled] Class: Austin's Creeks - Keep Austin Beautiful
DESCRIPTION:[Cancelled] Learn basic ecological concepts: what makes up a riparian ecosystem\, its function\, the characteristics of healthy vs. degraded areas\, and how ecologists and conservationists go about restoring riparian areas\, with examples. Also learn how to get involved with KAB and the Adopt-a-Creek program!
URL:https://lakewaygardenclub.com/event/class-austins-creeks-keep-austin-beautiful/
LOCATION:The Natural Gardener\, 8648 Old Bee Caves Rd\, Austin\, TX\, 78735\, United States
CATEGORIES:Class,Free,The Natural Gardener
ATTACH;FMTTYPE=image/jpeg:https://lakewaygardenclub.com/wp-content/uploads/2023/02/keepaustinbeautiful.jpg
END:VEVENT
END:VCALENDAR