BEGIN:VCALENDAR
VERSION:2.0
PRODID:-//Lakeway Garden Club - ECPv6.15.20//NONSGML v1.0//EN
CALSCALE:GREGORIAN
METHOD:PUBLISH
X-WR-CALNAME:Lakeway Garden Club
X-ORIGINAL-URL:https://lakewaygardenclub.com
X-WR-CALDESC:Events for Lakeway Garden Club
REFRESH-INTERVAL;VALUE=DURATION:PT1H
X-Robots-Tag:noindex
X-PUBLISHED-TTL:PT1H
BEGIN:VTIMEZONE
TZID:America/Chicago
BEGIN:DAYLIGHT
TZOFFSETFROM:-0600
TZOFFSETTO:-0500
TZNAME:CDT
DTSTART:20220313T080000
END:DAYLIGHT
BEGIN:STANDARD
TZOFFSETFROM:-0500
TZOFFSETTO:-0600
TZNAME:CST
DTSTART:20221106T070000
END:STANDARD
BEGIN:DAYLIGHT
TZOFFSETFROM:-0600
TZOFFSETTO:-0500
TZNAME:CDT
DTSTART:20230312T080000
END:DAYLIGHT
BEGIN:STANDARD
TZOFFSETFROM:-0500
TZOFFSETTO:-0600
TZNAME:CST
DTSTART:20231105T070000
END:STANDARD
BEGIN:DAYLIGHT
TZOFFSETFROM:-0600
TZOFFSETTO:-0500
TZNAME:CDT
DTSTART:20240310T080000
END:DAYLIGHT
BEGIN:STANDARD
TZOFFSETFROM:-0500
TZOFFSETTO:-0600
TZNAME:CST
DTSTART:20241103T070000
END:STANDARD
END:VTIMEZONE
BEGIN:VEVENT
DTSTART;VALUE=DATE:20230609
DTEND;VALUE=DATE:20230612
DTSTAMP:20260425T205419
CREATED:20230419T232818Z
LAST-MODIFIED:20230419T232818Z
UID:877-1686268800-1686527999@lakewaygardenclub.com
SUMMARY:Blanco Lavender Festival
DESCRIPTION:Join us for the Blanco Lavender Festival held annually in June in historic Blanco\, TX. Take a tour of the Hill Country Lavender farm or stroll the Lavender Market\, on the grounds of the historic Blanco County Courthouse. Both of these options are always a must-see highlight of the festival. At the Lavender Market\, select artists and craftspeople from across Texas and beyond will offer the finest lavender-related pleasures and treasures. \nHill Country Lavender Farm Owner Tasha Corradini has been involved with the farm since 1999 when the first lavender sprig was planted at the original location\, owned at the time by National Geographic photographer Robb Kendrick and author Jeannie Ralston. After serving as the farm’s manager for several years\, Tasha purchased Hill Country Lavender and relocated to the corner of FM 2325 and 165. The new farm is a boutique farm sitting on 2.75 acres of land. The field is split into two sections\, featuring over 8 different types of lavender. Visitors are invited to visit the farm and enjoy the beauty of the lavender field in and out of bloom. Hill Country Lavender’s product line include more than 75 products\, offering a variety of soaps\, lotions\, sprays\, as well as a full line of culinary items. Products are all small batch\, handmade by the owners. All products are also available year-round at Brieger Pottery on the Blanco Square. \nLavender Market Hours: Fri 12 – 6 / Sat 9 – 6 / Sun 10 -4\nHill Country Lavender Farm Hours: Fri 10 -5 / Sat 9 – 5 / Sun 10 – 4 (festival weekend only)
URL:https://lakewaygardenclub.com/event/blanco-lavender-festival/
LOCATION:Blanco Lavender Festival\, Blanco\, TX\, United States
CATEGORIES:Free,Outdoor,Special Event
ATTACH;FMTTYPE=image/jpeg:https://lakewaygardenclub.com/wp-content/uploads/2023/04/lavenderfarm.jpeg
END:VEVENT
END:VCALENDAR