BEGIN:VCALENDAR
VERSION:2.0
PRODID:-//Lakeway Garden Club - ECPv6.15.20//NONSGML v1.0//EN
CALSCALE:GREGORIAN
METHOD:PUBLISH
X-ORIGINAL-URL:https://lakewaygardenclub.com
X-WR-CALDESC:Events for Lakeway Garden Club
REFRESH-INTERVAL;VALUE=DURATION:PT1H
X-Robots-Tag:noindex
X-PUBLISHED-TTL:PT1H
BEGIN:VTIMEZONE
TZID:America/Chicago
BEGIN:DAYLIGHT
TZOFFSETFROM:-0600
TZOFFSETTO:-0500
TZNAME:CDT
DTSTART:20220313T080000
END:DAYLIGHT
BEGIN:STANDARD
TZOFFSETFROM:-0500
TZOFFSETTO:-0600
TZNAME:CST
DTSTART:20221106T070000
END:STANDARD
BEGIN:DAYLIGHT
TZOFFSETFROM:-0600
TZOFFSETTO:-0500
TZNAME:CDT
DTSTART:20230312T080000
END:DAYLIGHT
BEGIN:STANDARD
TZOFFSETFROM:-0500
TZOFFSETTO:-0600
TZNAME:CST
DTSTART:20231105T070000
END:STANDARD
BEGIN:DAYLIGHT
TZOFFSETFROM:-0600
TZOFFSETTO:-0500
TZNAME:CDT
DTSTART:20240310T080000
END:DAYLIGHT
BEGIN:STANDARD
TZOFFSETFROM:-0500
TZOFFSETTO:-0600
TZNAME:CST
DTSTART:20241103T070000
END:STANDARD
END:VTIMEZONE
BEGIN:VEVENT
DTSTART;TZID=America/Chicago:20230627T100000
DTEND;TZID=America/Chicago:20230627T110000
DTSTAMP:20260425T192017
CREATED:20230615T210553Z
LAST-MODIFIED:20230615T210553Z
UID:1018-1687860000-1687863600@lakewaygardenclub.com
SUMMARY:Class: Seed Saving
DESCRIPTION:Come and learn how to save your own vegetable seeds to save money\, preserve genetic diversity\, and ensure you’ll never be without that favorite vegetable variety! Presented by Colleen Dieter.
URL:https://lakewaygardenclub.com/event/class-seed-saving/
LOCATION:The Natural Gardener\, 8648 Old Bee Caves Rd\, Austin\, TX\, 78735\, United States
CATEGORIES:Class,Free,The Natural Gardener
ATTACH;FMTTYPE=image/jpeg:https://lakewaygardenclub.com/wp-content/uploads/2022/10/flowerseeds.jpg
END:VEVENT
END:VCALENDAR