BEGIN:VCALENDAR
VERSION:2.0
PRODID:-//Lakeway Garden Club - ECPv6.15.20//NONSGML v1.0//EN
CALSCALE:GREGORIAN
METHOD:PUBLISH
X-WR-CALNAME:Lakeway Garden Club
X-ORIGINAL-URL:https://lakewaygardenclub.com
X-WR-CALDESC:Events for Lakeway Garden Club
REFRESH-INTERVAL;VALUE=DURATION:PT1H
X-Robots-Tag:noindex
X-PUBLISHED-TTL:PT1H
BEGIN:VTIMEZONE
TZID:America/Chicago
BEGIN:DAYLIGHT
TZOFFSETFROM:-0600
TZOFFSETTO:-0500
TZNAME:CDT
DTSTART:20220313T080000
END:DAYLIGHT
BEGIN:STANDARD
TZOFFSETFROM:-0500
TZOFFSETTO:-0600
TZNAME:CST
DTSTART:20221106T070000
END:STANDARD
BEGIN:DAYLIGHT
TZOFFSETFROM:-0600
TZOFFSETTO:-0500
TZNAME:CDT
DTSTART:20230312T080000
END:DAYLIGHT
BEGIN:STANDARD
TZOFFSETFROM:-0500
TZOFFSETTO:-0600
TZNAME:CST
DTSTART:20231105T070000
END:STANDARD
BEGIN:DAYLIGHT
TZOFFSETFROM:-0600
TZOFFSETTO:-0500
TZNAME:CDT
DTSTART:20240310T080000
END:DAYLIGHT
BEGIN:STANDARD
TZOFFSETFROM:-0500
TZOFFSETTO:-0600
TZNAME:CST
DTSTART:20241103T070000
END:STANDARD
END:VTIMEZONE
BEGIN:VEVENT
DTSTART;TZID=America/Chicago:20230729T100000
DTEND;TZID=America/Chicago:20230729T110000
DTSTAMP:20260425T192534
CREATED:20230615T213309Z
LAST-MODIFIED:20230615T213309Z
UID:1034-1690624800-1690628400@lakewaygardenclub.com
SUMMARY:Class: Permaculture Design
DESCRIPTION:Join this open forum where class attendees can bring their challenges to the table. Learn about conventional solutions as well as ecological solutions from Leffler Ross.
URL:https://lakewaygardenclub.com/event/class-permaculture-design/
LOCATION:The Natural Gardener\, 8648 Old Bee Caves Rd\, Austin\, TX\, 78735\, United States
CATEGORIES:Class,Free,The Natural Gardener
ATTACH;FMTTYPE=image/jpeg:https://lakewaygardenclub.com/wp-content/uploads/2021/04/cropped-Garden.jpg
END:VEVENT
BEGIN:VEVENT
DTSTART;TZID=America/Chicago:20230729T103000
DTEND;TZID=America/Chicago:20230729T123000
DTSTAMP:20260425T192534
CREATED:20230615T221211Z
LAST-MODIFIED:20230615T221211Z
UID:1050-1690626600-1690633800@lakewaygardenclub.com
SUMMARY:Workshop: Plant Propagation
DESCRIPTION:Ever wanted to know the science and art of making more plants from your plants? Visit Zilker Botanical Garden on July 29th at 10:30 for our plant propagation workshop. Learn the science behind plant propagation including everything from leaf to stem to seed to spore\, and then practice propagation techniques on demonstration plants. Folks will be able to take home propagation materials from the workshop. \nThis workshop is included with admission (free for members)\, but separate workshop registration is required to attend. When you complete registration\, you will be prompted to pay for an admission ticket. This way you won’t need to purchase admission upon arrival for the workshop!
URL:https://lakewaygardenclub.com/event/workshop-plant-propagation/
LOCATION:Zilker Botanical Garden\, 2220 Barton Springs Road\, Austin\, TX\, 78746\, United States
CATEGORIES:Workshop,Zilker Botanical Garden
ATTACH;FMTTYPE=image/jpeg:https://lakewaygardenclub.com/wp-content/uploads/2023/05/gardenoutreach.jpg
END:VEVENT
END:VCALENDAR