BEGIN:VCALENDAR
VERSION:2.0
PRODID:-//Lakeway Garden Club - ECPv6.15.20//NONSGML v1.0//EN
CALSCALE:GREGORIAN
METHOD:PUBLISH
X-WR-CALNAME:Lakeway Garden Club
X-ORIGINAL-URL:https://lakewaygardenclub.com
X-WR-CALDESC:Events for Lakeway Garden Club
REFRESH-INTERVAL;VALUE=DURATION:PT1H
X-Robots-Tag:noindex
X-PUBLISHED-TTL:PT1H
BEGIN:VTIMEZONE
TZID:America/Chicago
BEGIN:DAYLIGHT
TZOFFSETFROM:-0600
TZOFFSETTO:-0500
TZNAME:CDT
DTSTART:20230312T080000
END:DAYLIGHT
BEGIN:STANDARD
TZOFFSETFROM:-0500
TZOFFSETTO:-0600
TZNAME:CST
DTSTART:20231105T070000
END:STANDARD
BEGIN:DAYLIGHT
TZOFFSETFROM:-0600
TZOFFSETTO:-0500
TZNAME:CDT
DTSTART:20240310T080000
END:DAYLIGHT
BEGIN:STANDARD
TZOFFSETFROM:-0500
TZOFFSETTO:-0600
TZNAME:CST
DTSTART:20241103T070000
END:STANDARD
BEGIN:DAYLIGHT
TZOFFSETFROM:-0600
TZOFFSETTO:-0500
TZNAME:CDT
DTSTART:20250309T080000
END:DAYLIGHT
BEGIN:STANDARD
TZOFFSETFROM:-0500
TZOFFSETTO:-0600
TZNAME:CST
DTSTART:20251102T070000
END:STANDARD
END:VTIMEZONE
BEGIN:VEVENT
DTSTART;TZID=America/Chicago:20240127T100000
DTEND;TZID=America/Chicago:20240127T110000
DTSTAMP:20260425T105919
CREATED:20240110T190341Z
LAST-MODIFIED:20240110T190743Z
UID:1540-1706349600-1706353200@lakewaygardenclub.com
SUMMARY:Grapes: Care & Pruning Class
DESCRIPTION:Grapes: Care & Pruning – Presented by Dr. Lacey Mount + TNG Grounds Staff\n\nThis class will be split in two parts. During the first half hour\, Dr. Lacey Mount will be discussing grape varieties for our area as well as the diseases that can affect them. You will then visit our orchard with Roger and David to learn about proper grape pruning techniques.
URL:https://lakewaygardenclub.com/event/grapes-care-pruning/
LOCATION:The Natural Gardener\, 8648 Old Bee Caves Rd\, Austin\, TX\, 78735\, United States
CATEGORIES:Class,Free,The Natural Gardener
ATTACH;FMTTYPE=image/jpeg:https://lakewaygardenclub.com/wp-content/uploads/2024/01/grapes.jpg
END:VEVENT
END:VCALENDAR