BEGIN:VCALENDAR
VERSION:2.0
PRODID:-//Lakeway Garden Club - ECPv6.15.20//NONSGML v1.0//EN
CALSCALE:GREGORIAN
METHOD:PUBLISH
X-WR-CALNAME:Lakeway Garden Club
X-ORIGINAL-URL:https://lakewaygardenclub.com
X-WR-CALDESC:Events for Lakeway Garden Club
REFRESH-INTERVAL;VALUE=DURATION:PT1H
X-Robots-Tag:noindex
X-PUBLISHED-TTL:PT1H
BEGIN:VTIMEZONE
TZID:America/Chicago
BEGIN:DAYLIGHT
TZOFFSETFROM:-0600
TZOFFSETTO:-0500
TZNAME:CDT
DTSTART:20230312T080000
END:DAYLIGHT
BEGIN:STANDARD
TZOFFSETFROM:-0500
TZOFFSETTO:-0600
TZNAME:CST
DTSTART:20231105T070000
END:STANDARD
BEGIN:DAYLIGHT
TZOFFSETFROM:-0600
TZOFFSETTO:-0500
TZNAME:CDT
DTSTART:20240310T080000
END:DAYLIGHT
BEGIN:STANDARD
TZOFFSETFROM:-0500
TZOFFSETTO:-0600
TZNAME:CST
DTSTART:20241103T070000
END:STANDARD
BEGIN:DAYLIGHT
TZOFFSETFROM:-0600
TZOFFSETTO:-0500
TZNAME:CDT
DTSTART:20250309T080000
END:DAYLIGHT
BEGIN:STANDARD
TZOFFSETFROM:-0500
TZOFFSETTO:-0600
TZNAME:CST
DTSTART:20251102T070000
END:STANDARD
END:VTIMEZONE
BEGIN:VEVENT
DTSTART;TZID=America/Chicago:20240312T090000
DTEND;TZID=America/Chicago:20240312T170000
DTSTAMP:20260425T075832
CREATED:20240109T184305Z
LAST-MODIFIED:20240109T184956Z
UID:1455-1710234000-1710262800@lakewaygardenclub.com
SUMMARY:Free Day at Zilker Botanical Garden
DESCRIPTION:On select dates throughout the year\, Zilker Botanical Garden offers free days where no admission is charged. \nFree Days for 2024: January 15\, February 19\, March 12\, April 28\, July 14\, September 7\, November 11\, December 26 \nNo advance registration is necessary. Final entry to the Garden is 4:30pm. \nParking is always free and available via our main parking lot\, which can be accessed through the front entrance of the garden. If overflow parking is needed\, our overflow lot at 2300 Stratford Drive will be open. If you park in the overflow lot\, you can enter directly across the street through the Hartman Gate at the back entrance. This is a highly ornamental gate and is easily recognizable. \n 
URL:https://lakewaygardenclub.com/event/free-day-at-zilker-march/
LOCATION:Zilker Botanical Garden\, 2220 Barton Springs Road\, Austin\, TX\, 78746\, United States
CATEGORIES:Free,Zilker Botanical Garden
ATTACH;FMTTYPE=image/jpeg:https://lakewaygardenclub.com/wp-content/uploads/2024/01/zilkerlily.jpg
END:VEVENT
END:VCALENDAR