BEGIN:VCALENDAR
VERSION:2.0
PRODID:-//Lakeway Garden Club - ECPv6.15.20//NONSGML v1.0//EN
CALSCALE:GREGORIAN
METHOD:PUBLISH
X-WR-CALNAME:Lakeway Garden Club
X-ORIGINAL-URL:https://lakewaygardenclub.com
X-WR-CALDESC:Events for Lakeway Garden Club
REFRESH-INTERVAL;VALUE=DURATION:PT1H
X-Robots-Tag:noindex
X-PUBLISHED-TTL:PT1H
BEGIN:VTIMEZONE
TZID:America/Chicago
BEGIN:DAYLIGHT
TZOFFSETFROM:-0600
TZOFFSETTO:-0500
TZNAME:CDT
DTSTART:20240310T080000
END:DAYLIGHT
BEGIN:STANDARD
TZOFFSETFROM:-0500
TZOFFSETTO:-0600
TZNAME:CST
DTSTART:20241103T070000
END:STANDARD
BEGIN:DAYLIGHT
TZOFFSETFROM:-0600
TZOFFSETTO:-0500
TZNAME:CDT
DTSTART:20250309T080000
END:DAYLIGHT
BEGIN:STANDARD
TZOFFSETFROM:-0500
TZOFFSETTO:-0600
TZNAME:CST
DTSTART:20251102T070000
END:STANDARD
BEGIN:DAYLIGHT
TZOFFSETFROM:-0600
TZOFFSETTO:-0500
TZNAME:CDT
DTSTART:20260308T080000
END:DAYLIGHT
BEGIN:STANDARD
TZOFFSETFROM:-0500
TZOFFSETTO:-0600
TZNAME:CST
DTSTART:20261101T070000
END:STANDARD
END:VTIMEZONE
BEGIN:VEVENT
DTSTART;TZID=America/Chicago:20250506T100000
DTEND;TZID=America/Chicago:20250506T113000
DTSTAMP:20260424T034016
CREATED:20250501T174238Z
LAST-MODIFIED:20250501T174238Z
UID:1880-1746525600-1746531000@lakewaygardenclub.com
SUMMARY:Austin Herb Society Monthly Meeting
DESCRIPTION:Since 1983\, the Austin Herb Society has been educating members and the community about herbs\, including propagation\, landscaping\, history\, folklore\, and culinary\, medicinal\, and decorative uses of herbs. While our members are united by an interest in herbs\, they are also a diverse group of individuals: from gardeners and herbalists to cooks and business owners. \nAHS members design and maintain the Zilker Herb Garden-a dazzling landscape of color and fragrance that has become a centerpiece of Zilker Botanical Garden. Here\, visitors can touch\, taste\, and smell they way through nearly 200 varieties of herbs\, depending on the season. Bees and butterflies dot the beds of basil\, lavender\, and calendula. There are classic culinary herbs like rosemary\, mint\, and thyme alongside herbs revered for their health attributes\, including aloe and echinacea. \nIn addition to hands-on learning in the Zilker Herb Garden\, members enjoy: \n\nMonthly meetings with expert speakers on diverse topics (currently via zoom)\nEducational workshops and seminars throughout the year\nStudy groups focused on culinary herbs and herbal products\nField trips to unique gardens and herb-loving businesses\nDelicious herbal refreshments at our in-person meetings\nFellowship with interesting and informed herb lovers\n\nPlease join us in exploring the wonderful world of herbs! \nYou can also find us on Facebook
URL:https://lakewaygardenclub.com/event/austin-herb-society-monthly-meeting-18/
LOCATION:Zilker Botanical Garden\, 2220 Barton Springs Road\, Austin\, TX\, 78746\, United States
CATEGORIES:Free,Garden Organization,Meeting,Zilker Botanical Garden
ATTACH;FMTTYPE=image/jpeg:https://lakewaygardenclub.com/wp-content/uploads/2023/04/austinherbsociety.jpg
END:VEVENT
BEGIN:VEVENT
DTSTART;TZID=America/Chicago:20250506T100000
DTEND;TZID=America/Chicago:20250506T150000
DTSTAMP:20260424T034016
CREATED:20250501T181027Z
LAST-MODIFIED:20250501T181027Z
UID:1924-1746525600-1746543600@lakewaygardenclub.com
SUMMARY:LMUD Native Plant Talks
DESCRIPTION:LT Seed Library Seed Swap – 10am \nPresenter: Leah Crenwelge\, local resident \nAs a daughter of the pioneers who have been farming and ranching in the Texas Hill Country since the 1840s\, Leah is excited to share with you her love of this land and its incredible plant biodiversity. Free seeds available through the LT Seed Library include Central Texas native plants and thriving veggies/herbs. Bring your extra seeds to swap or stop by for pro tips! Donations of heirloom/open-pollinated veggie/herb seeds and native plant seeds are also welcome. \n\nGrowing Native Plants from Seed – 2pm \nPresenter: Craig Bruska\, Chair Native Seed Committee\, Native Plant Society of Texas \nLearn how and when to sow native plants seeds to create a native wildlife habitat from seed. Using the lowest cost method to replace water hungry nonnative grasses and plants with their native Texas plant equivalents suited to the Lakeway area. Learn how to select the right native plant to grow from seed for the soil\, light\, water needs.
URL:https://lakewaygardenclub.com/event/lmud-native-plant-talks/
LOCATION:Lakeway MUD\, 1097 Lohmans Crossing Rd\, Lakeway\, TX\, 78734\, United States
CATEGORIES:Free,Lakeway MUD,Lecture
ATTACH;FMTTYPE=image/jpeg:https://lakewaygardenclub.com/wp-content/uploads/2025/05/nativeplants-coneflowers.jpeg
END:VEVENT
END:VCALENDAR