BEGIN:VCALENDAR
VERSION:2.0
PRODID:-//Lakeway Garden Club - ECPv6.15.20//NONSGML v1.0//EN
CALSCALE:GREGORIAN
METHOD:PUBLISH
X-ORIGINAL-URL:https://lakewaygardenclub.com
X-WR-CALDESC:Events for Lakeway Garden Club
REFRESH-INTERVAL;VALUE=DURATION:PT1H
X-Robots-Tag:noindex
X-PUBLISHED-TTL:PT1H
BEGIN:VTIMEZONE
TZID:America/Chicago
BEGIN:DAYLIGHT
TZOFFSETFROM:-0600
TZOFFSETTO:-0500
TZNAME:CDT
DTSTART:20240310T080000
END:DAYLIGHT
BEGIN:STANDARD
TZOFFSETFROM:-0500
TZOFFSETTO:-0600
TZNAME:CST
DTSTART:20241103T070000
END:STANDARD
BEGIN:DAYLIGHT
TZOFFSETFROM:-0600
TZOFFSETTO:-0500
TZNAME:CDT
DTSTART:20250309T080000
END:DAYLIGHT
BEGIN:STANDARD
TZOFFSETFROM:-0500
TZOFFSETTO:-0600
TZNAME:CST
DTSTART:20251102T070000
END:STANDARD
BEGIN:DAYLIGHT
TZOFFSETFROM:-0600
TZOFFSETTO:-0500
TZNAME:CDT
DTSTART:20260308T080000
END:DAYLIGHT
BEGIN:STANDARD
TZOFFSETFROM:-0500
TZOFFSETTO:-0600
TZNAME:CST
DTSTART:20261101T070000
END:STANDARD
END:VTIMEZONE
BEGIN:VEVENT
DTSTART;TZID=America/Chicago:20251112T190000
DTEND;TZID=America/Chicago:20251112T200000
DTSTAMP:20260423T190327
CREATED:20250501T180237Z
LAST-MODIFIED:20250501T180237Z
UID:1920-1762974000-1762977600@lakewaygardenclub.com
SUMMARY:Austin Bonsai Society Monthly Meeting
DESCRIPTION:Bonsai is a living art form\, with each plant constantly changing under the hand of the artist. It is a painting never quite finished. Bonsai also change with the seasons\, with each plant having its own unique attractiveness during each season. Miniature maples\, tiny elms\, delicate pines\, and junipers reflect both the seasons and the climates where they grow. Under our eyes\, and in miniature form\, we are privileged to watch the budding and leafing out of spring\, followed by the flowers and fruit of summer\, and the stark\, yet beautiful\, effect of bare branches against the winter sky. \nBonsai is an exciting adventure that cannot be adequately described to those who have not experienced it personally. Miniature trees and landscapes\, carefully nurtured in the seemingly too small containers\, return to us much more than they exact in the cost of creating and maintaining these plants\, which soon become our “children.” Bonsai is an adventure in which you can participate with us. \nYou can find the Austin Bonsai Society on Facebook\, Instagram\, and YouTube.
URL:https://lakewaygardenclub.com/event/austin-bonsai-society-monthly-meeting-25/
LOCATION:Zilker Botanical Garden\, 2220 Barton Springs Road\, Austin\, TX\, 78746\, United States
CATEGORIES:Garden Organization,Zilker Botanical Garden
ATTACH;FMTTYPE=image/png:https://lakewaygardenclub.com/wp-content/uploads/2024/01/LGC-Bonsai.png
ORGANIZER;CN="Lakeway Garden Club":MAILTO:info@lakewaygardenclub.com
END:VEVENT
END:VCALENDAR