BEGIN:VCALENDAR
VERSION:2.0
PRODID:-//Lakeway Garden Club - ECPv6.15.20//NONSGML v1.0//EN
CALSCALE:GREGORIAN
METHOD:PUBLISH
X-WR-CALNAME:Lakeway Garden Club
X-ORIGINAL-URL:https://lakewaygardenclub.com
X-WR-CALDESC:Events for Lakeway Garden Club
REFRESH-INTERVAL;VALUE=DURATION:PT1H
X-Robots-Tag:noindex
X-PUBLISHED-TTL:PT1H
BEGIN:VTIMEZONE
TZID:America/Chicago
BEGIN:DAYLIGHT
TZOFFSETFROM:-0600
TZOFFSETTO:-0500
TZNAME:CDT
DTSTART:20220313T080000
END:DAYLIGHT
BEGIN:STANDARD
TZOFFSETFROM:-0500
TZOFFSETTO:-0600
TZNAME:CST
DTSTART:20221106T070000
END:STANDARD
BEGIN:DAYLIGHT
TZOFFSETFROM:-0600
TZOFFSETTO:-0500
TZNAME:CDT
DTSTART:20230312T080000
END:DAYLIGHT
BEGIN:STANDARD
TZOFFSETFROM:-0500
TZOFFSETTO:-0600
TZNAME:CST
DTSTART:20231105T070000
END:STANDARD
BEGIN:DAYLIGHT
TZOFFSETFROM:-0600
TZOFFSETTO:-0500
TZNAME:CDT
DTSTART:20240310T080000
END:DAYLIGHT
BEGIN:STANDARD
TZOFFSETFROM:-0500
TZOFFSETTO:-0600
TZNAME:CST
DTSTART:20241103T070000
END:STANDARD
END:VTIMEZONE
BEGIN:VEVENT
DTSTART;TZID=America/Chicago:20231021T090000
DTEND;TZID=America/Chicago:20231021T130000
DTSTAMP:20260423T122502
CREATED:20230919T044229Z
LAST-MODIFIED:20230919T044229Z
UID:1197-1697878800-1697893200@lakewaygardenclub.com
SUMMARY:Fall 2023 Earth-Kind Gardening Field Day
DESCRIPTION:Join us for “Gardening in Extreme Conditions” at the Texas A&M AgriLife Extension Service and Travis County Master Gardeners Fall 2023 Earth-Kind® Gardening Field Day! This family-fun and educational event will be held on Saturday\, October 21st from 9 am to 1 pm at the Travis County AgriLife Extension office located at 1600 Smith Road\, Austin\, TX 78721. Parking is available along Smith Road. The event is free and open to the public. It will be held rain or shine. Attendees will receive a free hypertufa pot courtesy of Leaf Landscape Supply (@leaflandscapesupply) while supplies last. For more information please visit  https://travis-tx.tamu.edu/event/earth-kind-gardening-field-day-gardening-in-extreme-conditions/. See you there!
URL:https://lakewaygardenclub.com/event/fall-2023-earth-kind-gardening-field-day/
LOCATION:Texas A&M AgriLife Extension\, 1600 Smith Road\, Austin\, TX\, 78721\, United States
CATEGORIES:Ask a Master Gardener,Earth-Kind,Free,Garden Tips,Outdoor,Plant Clinic,Texas A&M AgriLife Extension
ATTACH;FMTTYPE=image/png:https://lakewaygardenclub.com/wp-content/uploads/2023/09/OCT21_EarthKindFall2023_Square.png
END:VEVENT
BEGIN:VEVENT
DTSTART;TZID=America/Chicago:20230422T120000
DTEND;TZID=America/Chicago:20230422T140000
DTSTAMP:20260423T122502
CREATED:20230222T224939Z
LAST-MODIFIED:20230405T042912Z
UID:678-1682164800-1682172000@lakewaygardenclub.com
SUMMARY:Lakeway Garden Club Open House
DESCRIPTION:To celebrate Earth Day\, the Lakeway Garden Club is hosting their first open house at the Lake Travis Community Library. The Lakeway Garden Club will offer an overview of the club\, its upcoming projects and how to become a member for free. We will also offer an area where you can find answers to most questions about growing vegetables\, native plants and more. There will be a fun Earth Day origami activity for the kids too! Don’t miss this Earth Day event with some free\, family- friendly gardening fun! Light refreshments provided.
URL:https://lakewaygardenclub.com/event/earth-day-open-house/
LOCATION:Lake Travis Community Library\, 1938 Lohmans Crossing\, Austin\, TX\, 78734\, United States
CATEGORIES:Ask a Master Gardener,Kids,Lake Travis Community Library,Lakeway Garden Club,Plant Clinic
ATTACH;FMTTYPE=image/png:https://lakewaygardenclub.com/wp-content/uploads/2023/02/LGC_Square_EarthDayOpenHouse-1.png
ORGANIZER;CN="Lakeway Garden Club":MAILTO:info@lakewaygardenclub.com
END:VEVENT
BEGIN:VEVENT
DTSTART;TZID=America/Chicago:20230325T090000
DTEND;TZID=America/Chicago:20230325T130000
DTSTAMP:20260423T122502
CREATED:20230222T204012Z
LAST-MODIFIED:20230222T204012Z
UID:671-1679734800-1679749200@lakewaygardenclub.com
SUMMARY:2023 Earth-Kind Field Day
DESCRIPTION:Join us at the 2023 Earth-Kind Field Day this spring! Texas A&M AgriLife Extension Service and Travis County Master Gardeners announce their spring 2023 Earth-Kind Gardening Field Day to be held Saturday\, March 25th from 9 am to 1 pm at the Travis County AgriLife Extension office located at 1600 Smith Road\, Austin\, TX 78721 (map). Parking is available along Smith Road. The event is free and open to the public. \nThe spring 2023 theme is Container Gardening 101 – for indoor and outdoor gardening. The first 100 attendees will receive a free 5.5″ eco-container and saucer. \nWorkshops will teach participants about houseplant care\, growing ornamentals or vegetables in pots\, and create a composting system. Other activities focus on vermicomposting\, irrigation\, rainwater harvesting\, and entomology. A limited supply of Earth-Kind plants and the popular Travis County Master Gardener publications Garden Guide for Austin and Vicinity\, and From Drought to Deluge: The Resilient Central Texas Garden will be available for purchase. \nSee you there! \nSchedule:\n\n9:00 a.m. Compost Workshop.\nLearn how to turn everyday waste from your home or garden into beneficial compost.\n\n  \n\n10:00 a.m. Houseplant University.\nGet tips on plant selection\, watering\, and light to help you successfully grow indoor plants. A demonstration on repotting and dividing is included. You’ll also learn how to manage pests – including soil gnats!\n\n  \n\n11:00 a.m. The 6D’s of Container Gardening.\nWatch a demonstration on planting a container garden for your outdoor living spaces. Advice on types of soil\, pot size\, drainage\, and more.\n\n  \n\n12:00 p.m. Ribbon Cutting on New Greenhouse\nDedication Ceremony for new educational greenhouse
URL:https://lakewaygardenclub.com/event/2023-earth-kind-field-day/
LOCATION:Texas A&M AgriLife Extension\, 1600 Smith Road\, Austin\, TX\, 78721\, United States
CATEGORIES:Ask a Master Gardener,Earth-Kind,Texas A&M AgriLife Extension,Workshop
ATTACH;FMTTYPE=image/png:https://lakewaygardenclub.com/wp-content/uploads/2023/02/2023-Earth-Kind-Field-Day.png
END:VEVENT
END:VCALENDAR