BEGIN:VCALENDAR
VERSION:2.0
PRODID:-//Lakeway Garden Club - ECPv6.15.20//NONSGML v1.0//EN
CALSCALE:GREGORIAN
METHOD:PUBLISH
X-WR-CALNAME:Lakeway Garden Club
X-ORIGINAL-URL:https://lakewaygardenclub.com
X-WR-CALDESC:Events for Lakeway Garden Club
REFRESH-INTERVAL;VALUE=DURATION:PT1H
X-Robots-Tag:noindex
X-PUBLISHED-TTL:PT1H
BEGIN:VTIMEZONE
TZID:America/Chicago
BEGIN:DAYLIGHT
TZOFFSETFROM:-0600
TZOFFSETTO:-0500
TZNAME:CDT
DTSTART:20230312T080000
END:DAYLIGHT
BEGIN:STANDARD
TZOFFSETFROM:-0500
TZOFFSETTO:-0600
TZNAME:CST
DTSTART:20231105T070000
END:STANDARD
BEGIN:DAYLIGHT
TZOFFSETFROM:-0600
TZOFFSETTO:-0500
TZNAME:CDT
DTSTART:20240310T080000
END:DAYLIGHT
BEGIN:STANDARD
TZOFFSETFROM:-0500
TZOFFSETTO:-0600
TZNAME:CST
DTSTART:20241103T070000
END:STANDARD
BEGIN:DAYLIGHT
TZOFFSETFROM:-0600
TZOFFSETTO:-0500
TZNAME:CDT
DTSTART:20250309T080000
END:DAYLIGHT
BEGIN:STANDARD
TZOFFSETFROM:-0500
TZOFFSETTO:-0600
TZNAME:CST
DTSTART:20251102T070000
END:STANDARD
END:VTIMEZONE
BEGIN:VEVENT
DTSTART;TZID=America/Chicago:20240511T090000
DTEND;TZID=America/Chicago:20240511T150000
DTSTAMP:20260423T180334
CREATED:20240502T155032Z
LAST-MODIFIED:20240502T155119Z
UID:1659-1715418000-1715439600@lakewaygardenclub.com
SUMMARY:Inside Austin Gardens Tour
DESCRIPTION:Get ready to immerse yourself in a wonderland of flourishing flora! The Inside Austin Gardens Tour\, designed “For Gardeners\, By Gardeners\,” returns on Saturday\, May 11th\, from 9 am to 3 pm. This self-guided tour offers a rare glimpse into four exceptional private gardens\, each meticulously crafted by a Travis County Master Gardener. \nThis year’s theme celebrates the diversity and beauty of Central Texas gardening. Whether your backyard boasts sprawling acres or a cozy urban nook\, the featured gardens promise inspiration for all. \nRead more about the tour and purchase tickets online!
URL:https://lakewaygardenclub.com/event/inside-austin-gardens-tour/
CATEGORIES:Garden Tour,Outdoor
ATTACH;FMTTYPE=image/png:https://lakewaygardenclub.com/wp-content/uploads/2024/05/IAGT-2024-Square.png
END:VEVENT
END:VCALENDAR