BEGIN:VCALENDAR
VERSION:2.0
PRODID:-//Lakeway Garden Club - ECPv6.15.20//NONSGML v1.0//EN
CALSCALE:GREGORIAN
METHOD:PUBLISH
X-WR-CALNAME:Lakeway Garden Club
X-ORIGINAL-URL:https://lakewaygardenclub.com
X-WR-CALDESC:Events for Lakeway Garden Club
REFRESH-INTERVAL;VALUE=DURATION:PT1H
X-Robots-Tag:noindex
X-PUBLISHED-TTL:PT1H
BEGIN:VTIMEZONE
TZID:America/Chicago
BEGIN:DAYLIGHT
TZOFFSETFROM:-0600
TZOFFSETTO:-0500
TZNAME:CDT
DTSTART:20220313T080000
END:DAYLIGHT
BEGIN:STANDARD
TZOFFSETFROM:-0500
TZOFFSETTO:-0600
TZNAME:CST
DTSTART:20221106T070000
END:STANDARD
BEGIN:DAYLIGHT
TZOFFSETFROM:-0600
TZOFFSETTO:-0500
TZNAME:CDT
DTSTART:20230312T080000
END:DAYLIGHT
BEGIN:STANDARD
TZOFFSETFROM:-0500
TZOFFSETTO:-0600
TZNAME:CST
DTSTART:20231105T070000
END:STANDARD
BEGIN:DAYLIGHT
TZOFFSETFROM:-0600
TZOFFSETTO:-0500
TZNAME:CDT
DTSTART:20240310T080000
END:DAYLIGHT
BEGIN:STANDARD
TZOFFSETFROM:-0500
TZOFFSETTO:-0600
TZNAME:CST
DTSTART:20241103T070000
END:STANDARD
BEGIN:DAYLIGHT
TZOFFSETFROM:-0600
TZOFFSETTO:-0500
TZNAME:CDT
DTSTART:20250309T080000
END:DAYLIGHT
BEGIN:STANDARD
TZOFFSETFROM:-0500
TZOFFSETTO:-0600
TZNAME:CST
DTSTART:20251102T070000
END:STANDARD
END:VTIMEZONE
BEGIN:VEVENT
DTSTART;TZID=America/Chicago:20240905T103000
DTEND;TZID=America/Chicago:20240905T120000
DTSTAMP:20260423T123915
CREATED:20240308T230949Z
LAST-MODIFIED:20240308T231032Z
UID:1608-1725532200-1725537600@lakewaygardenclub.com
SUMMARY:Lakeway Garden Club Autumn Member Mixer
DESCRIPTION:Lakeway Garden Club hosts a quarterly meeting for all members at the Lake Travis Community Library. Our September 5th autumn get together will include group discussions about colorful garden topics and opportunities for volunteering in local garden projects. We’d love to display photos of our members’ gardens\, so please post your garden pix to our Facebook page and we will share them during our meeting. If you would like to request a future garden topic or have a specific gardening question\, please let us know. All are welcome to join for free if they are not already a member. See you then!
URL:https://lakewaygardenclub.com/event/lgc-autumn-member-mixer/
LOCATION:Lake Travis Community Library\, 1938 Lohmans Crossing\, Austin\, TX\, 78734\, United States
CATEGORIES:Lake Travis Community Library,Lakeway Garden Club,Meeting
ATTACH;FMTTYPE=image/png:https://lakewaygardenclub.com/wp-content/uploads/2024/03/LGC_Square_MemberMixer-Autumn-rev.png
ORGANIZER;CN="Lakeway Garden Club":MAILTO:info@lakewaygardenclub.com
END:VEVENT
BEGIN:VEVENT
DTSTART;TZID=America/Chicago:20240606T103000
DTEND;TZID=America/Chicago:20240606T120000
DTSTAMP:20260423T123915
CREATED:20231020T182537Z
LAST-MODIFIED:20240308T230443Z
UID:1252-1717669800-1717675200@lakewaygardenclub.com
SUMMARY:Lakeway Garden Club Summer Member Mixer
DESCRIPTION:Lakeway Garden Club hosts a quarterly meeting for all members at the Lake Travis Community Library. Our June 6th summer get together will include group discussions about colorful garden topics and opportunities for volunteering in local garden projects. We’d love to display photos of our members’ gardens\, so please post your garden pix to our Facebook page and we will share them during our meeting. If you would like to request a future garden topic or have a specific gardening question\, please let us know. All are welcome to join for free if they are not already a member. See you then!
URL:https://lakewaygardenclub.com/event/lakeway-garden-club-summer-member-mixer/
LOCATION:Lake Travis Community Library\, 1938 Lohmans Crossing\, Austin\, TX\, 78734\, United States
CATEGORIES:Lake Travis Community Library,Lakeway Garden Club,Meeting
ATTACH;FMTTYPE=image/png:https://lakewaygardenclub.com/wp-content/uploads/2023/10/LGC_Square_MemberMixer-Summer2024.png
ORGANIZER;CN="Lakeway Garden Club":MAILTO:info@lakewaygardenclub.com
END:VEVENT
BEGIN:VEVENT
DTSTART;TZID=America/Chicago:20240307T103000
DTEND;TZID=America/Chicago:20240307T120000
DTSTAMP:20260423T123915
CREATED:20231020T182229Z
LAST-MODIFIED:20240226T050053Z
UID:1250-1709807400-1709812800@lakewaygardenclub.com
SUMMARY:Lakeway Garden Club Spring Member Mixer
DESCRIPTION:Lakeway Garden Club hosts a quarterly meeting for all members at the Lake Travis Community Library. Our March 7th spring get together will include group discussions about blue zone gardening\, growing roses and opportunities for volunteering in local garden projects. If you have a request for a future garden topic or a specific question\, please let us know. All are welcome to join for free if they are not already a member. See you at 10:30am on March 7th at the Lake Travis Community Library! \n\n\n\n\n\n\n\n 
URL:https://lakewaygardenclub.com/event/lakeway-garden-club-spring-member-mixer/
LOCATION:Lake Travis Community Library\, 1938 Lohmans Crossing\, Austin\, TX\, 78734\, United States
CATEGORIES:Garden Tips,Lake Travis Community Library,Lakeway Garden Club,Meeting
ATTACH;FMTTYPE=image/png:https://lakewaygardenclub.com/wp-content/uploads/2023/10/LGC_Square_MemberMixer-Spring2024.png
ORGANIZER;CN="Lakeway Garden Club":MAILTO:info@lakewaygardenclub.com
END:VEVENT
BEGIN:VEVENT
DTSTART;TZID=America/Chicago:20231207T103000
DTEND;TZID=America/Chicago:20231207T120000
DTSTAMP:20260423T123915
CREATED:20230928T043944Z
LAST-MODIFIED:20230930T190602Z
UID:1207-1701945000-1701950400@lakewaygardenclub.com
SUMMARY:Lakeway Garden Club Holiday Member Mixer
DESCRIPTION:Lakeway Garden Club hosts a quarterly meeting for all members at the Lake Travis Community Library. Our December 7th holiday get together will include group discussions about smart gardening\, holiday plants and opportunities for volunteering in local garden projects. We’d love to display photos of our members’ gardens\, so please send in your garden pix and we will share them during our meeting. If you would like to request a future garden topic or have a specific gardening question\, please let us know. So RSVP and bring your favorite holiday treats to share and join us on December 7th. All are welcome to join for free if they are not already a member. See you then! \nRSVP online.
URL:https://lakewaygardenclub.com/event/lakeway-garden-club-member-mixer/
LOCATION:Lake Travis Community Library\, 1938 Lohmans Crossing\, Austin\, TX\, 78734\, United States
CATEGORIES:Free,Garden Organization,Lake Travis Community Library,Lakeway Garden Club,Meeting
ATTACH;FMTTYPE=image/png:https://lakewaygardenclub.com/wp-content/uploads/2023/09/LGC_Square_HolidayMemberMixer.png
ORGANIZER;CN="Lakeway Garden Club":MAILTO:info@lakewaygardenclub.com
END:VEVENT
BEGIN:VEVENT
DTSTART;TZID=America/Chicago:20230907T103000
DTEND;TZID=America/Chicago:20230907T120000
DTSTAMP:20260423T123915
CREATED:20230605T205551Z
LAST-MODIFIED:20230831T044057Z
UID:993-1694082600-1694088000@lakewaygardenclub.com
SUMMARY:Lakeway Garden Club Member Mixer
DESCRIPTION:Lakeway Garden Club hosts a quarterly meeting for all members at the Lake Travis Community Library. This informal forum is designed for sharing garden knowledge amongst LGC members. The casual get together will include group discussions about waterwise gardening\, native plants and creating bountiful vegetable gardens. We’d love to display photos of our members’ gardens\, so please send in your garden pix and we will share them during our meeting. If you would like to request a future garden topic or have a specific gardening question\, please let us know. So join us and bring your garden questions to learn something new! All are welcome to join for free if they are not already a member. Please RSVP. See you then! \n 
URL:https://lakewaygardenclub.com/event/lakeway-garden-club-members-mixer/
LOCATION:Lake Travis Community Library\, 1938 Lohmans Crossing\, Austin\, TX\, 78734\, United States
CATEGORIES:Garden Organization,Lake Travis Community Library,Lakeway Garden Club,Meeting
ATTACH;FMTTYPE=image/png:https://lakewaygardenclub.com/wp-content/uploads/2023/08/LGC_Square_MemberMixer.png
ORGANIZER;CN="Lakeway Garden Club":MAILTO:info@lakewaygardenclub.com
END:VEVENT
BEGIN:VEVENT
DTSTART;TZID=America/Chicago:20230422T120000
DTEND;TZID=America/Chicago:20230422T140000
DTSTAMP:20260423T123915
CREATED:20230222T224939Z
LAST-MODIFIED:20230405T042912Z
UID:678-1682164800-1682172000@lakewaygardenclub.com
SUMMARY:Lakeway Garden Club Open House
DESCRIPTION:To celebrate Earth Day\, the Lakeway Garden Club is hosting their first open house at the Lake Travis Community Library. The Lakeway Garden Club will offer an overview of the club\, its upcoming projects and how to become a member for free. We will also offer an area where you can find answers to most questions about growing vegetables\, native plants and more. There will be a fun Earth Day origami activity for the kids too! Don’t miss this Earth Day event with some free\, family- friendly gardening fun! Light refreshments provided.
URL:https://lakewaygardenclub.com/event/earth-day-open-house/
LOCATION:Lake Travis Community Library\, 1938 Lohmans Crossing\, Austin\, TX\, 78734\, United States
CATEGORIES:Ask a Master Gardener,Kids,Lake Travis Community Library,Lakeway Garden Club,Plant Clinic
ATTACH;FMTTYPE=image/png:https://lakewaygardenclub.com/wp-content/uploads/2023/02/LGC_Square_EarthDayOpenHouse-1.png
ORGANIZER;CN="Lakeway Garden Club":MAILTO:info@lakewaygardenclub.com
END:VEVENT
END:VCALENDAR