BEGIN:VCALENDAR
VERSION:2.0
PRODID:-//Lakeway Garden Club - ECPv6.15.20//NONSGML v1.0//EN
CALSCALE:GREGORIAN
METHOD:PUBLISH
X-WR-CALNAME:Lakeway Garden Club
X-ORIGINAL-URL:https://lakewaygardenclub.com
X-WR-CALDESC:Events for Lakeway Garden Club
REFRESH-INTERVAL;VALUE=DURATION:PT1H
X-Robots-Tag:noindex
X-PUBLISHED-TTL:PT1H
BEGIN:VTIMEZONE
TZID:America/Chicago
BEGIN:DAYLIGHT
TZOFFSETFROM:-0600
TZOFFSETTO:-0500
TZNAME:CDT
DTSTART:20220313T080000
END:DAYLIGHT
BEGIN:STANDARD
TZOFFSETFROM:-0500
TZOFFSETTO:-0600
TZNAME:CST
DTSTART:20221106T070000
END:STANDARD
BEGIN:DAYLIGHT
TZOFFSETFROM:-0600
TZOFFSETTO:-0500
TZNAME:CDT
DTSTART:20230312T080000
END:DAYLIGHT
BEGIN:STANDARD
TZOFFSETFROM:-0500
TZOFFSETTO:-0600
TZNAME:CST
DTSTART:20231105T070000
END:STANDARD
BEGIN:DAYLIGHT
TZOFFSETFROM:-0600
TZOFFSETTO:-0500
TZNAME:CDT
DTSTART:20240310T080000
END:DAYLIGHT
BEGIN:STANDARD
TZOFFSETFROM:-0500
TZOFFSETTO:-0600
TZNAME:CST
DTSTART:20241103T070000
END:STANDARD
BEGIN:DAYLIGHT
TZOFFSETFROM:-0600
TZOFFSETTO:-0500
TZNAME:CDT
DTSTART:20250309T080000
END:DAYLIGHT
BEGIN:STANDARD
TZOFFSETFROM:-0500
TZOFFSETTO:-0600
TZNAME:CST
DTSTART:20251102T070000
END:STANDARD
END:VTIMEZONE
BEGIN:VEVENT
DTSTART;TZID=America/Chicago:20240924T180000
DTEND;TZID=America/Chicago:20240924T200000
DTSTAMP:20260423T173432
CREATED:20240912T040417Z
LAST-MODIFIED:20240912T040417Z
UID:1750-1727200800-1727208000@lakewaygardenclub.com
SUMMARY:Landscape Design Class: Curb Appeal
DESCRIPTION:Join HGTV featured Landscape Designer Gay Gray and learn how to create an inviting landscape in your yard. \nLearn the basics in curb appeal and backyard design from Gay Gray who has been a featured landscape designer on HGTV and focuses on earth wise and organic gardening. Learn what deer-resistant and drought-tolerant plantings will work great in your landscape. Now your home can be more inviting to family and friends and have that extra detail which may have a potential buyer taking a closer look. The first 5 participants who register will have their pictures used as examples in class for design suggestions and ideas. \nAbout Gay Gray\nAfter a long career as an intellectual property litigator focusing on patent law\, Gay Bonorden Gray decided to do her part in making the world a more beautiful place.  Leaving a secure position in a Fortune 500 company as in-house counsel\, Gay went back to school to pursue a career in horticulture.   Since starting her business in landscaping\, Gay’s designs have appeared in print in several publications by Sunset Magazines and Books (available at retailers like Barnes and Noble and Home Depot) and have appeared multiple times on HGTV.   She filmed two television shows for HGTV’s Landscape Smart\, and had much fun doing it.
URL:https://lakewaygardenclub.com/event/landscape-design-class-curb-appeal-4/
LOCATION:Lakeway Activity Center\, 105 Cross Creek\, Lakeway\, TX\, 78734\, United States
CATEGORIES:Class,Lakeway Activity Center
ATTACH;FMTTYPE=image/png:https://lakewaygardenclub.com/wp-content/uploads/2023/10/Landcape-Design-Class-square.png
END:VEVENT
BEGIN:VEVENT
DTSTART;TZID=America/Chicago:20240221T180000
DTEND;TZID=America/Chicago:20240221T200000
DTSTAMP:20260423T173432
CREATED:20231025T194209Z
LAST-MODIFIED:20240912T040300Z
UID:1256-1708538400-1708545600@lakewaygardenclub.com
SUMMARY:Landscape Design Class: Curb Appeal
DESCRIPTION:Join HGTV featured Landscape Designer Gay Gray and learn how to create an inviting landscape in your yard. \nLearn the basics in curb appeal and backyard design from Gay Gray who has been a featured landscape designer on HGTV and focuses on earth wise and organic gardening. Learn what deer-resistant and drought-tolerant plantings will work great in your landscape. Now your home can be more inviting to family and friends and have that extra detail which may have a potential buyer taking a closer look. The first 5 participants who register will have their pictures used as examples in class for design suggestions and ideas. \nAbout Gay Gray\nAfter a long career as an intellectual property litigator focusing on patent law\, Gay Bonorden Gray decided to do her part in making the world a more beautiful place.  Leaving a secure position in a Fortune 500 company as in-house counsel\, Gay went back to school to pursue a career in horticulture.   Since starting her business in landscaping\, Gay’s designs have appeared in print in several publications by Sunset Magazines and Books (available at retailers like Barnes and Noble and Home Depot) and have appeared multiple times on HGTV.   She filmed two television shows for HGTV’s Landscape Smart\, and had much fun doing it.
URL:https://lakewaygardenclub.com/event/landscape-design-class-curb-appeal-3/
LOCATION:Lakeway Activity Center\, 105 Cross Creek\, Lakeway\, TX\, 78734\, United States
CATEGORIES:Class,Lakeway Activity Center
ATTACH;FMTTYPE=image/png:https://lakewaygardenclub.com/wp-content/uploads/2023/10/Landcape-Design-Class-square.png
END:VEVENT
BEGIN:VEVENT
DTSTART;TZID=America/Chicago:20231108T180000
DTEND;TZID=America/Chicago:20231108T200000
DTSTAMP:20260423T173433
CREATED:20231025T194054Z
LAST-MODIFIED:20231025T194054Z
UID:1254-1699466400-1699473600@lakewaygardenclub.com
SUMMARY:Landscape Design Class: Curb Appeal
DESCRIPTION:Join HGTV featured Landscape Designer Gay Gray and learn how to create an inviting landscape in your yard. \nLearn the basics in curb appeal and backyard design from Gay Gray who has been a featured landscape designer on HGTV and focuses on earth wise and organic gardening. Learn what deer-resistant and drought-tolerant plantings will work great in your landscape. Now your home can be more inviting to family and friends and have that extra detail which may have a potential buyer taking a closer look. The first 5 participants who register by September 13 will have their pictures used as examples in class for design suggestions and ideas. \nAbout Gay Gray\nAfter a long career as an intellectual property litigator focusing on patent law\, Gay Bonorden Gray decided to do her part in making the world a more beautiful place.  Leaving a secure position in a Fortune 500 company as in-house counsel\, Gay went back to school to pursue a career in horticulture.   Since starting her business in landscaping\, Gay’s designs have appeared in print in several publications by Sunset Magazines and Books (available at retailers like Barnes and Noble and Home Depot) and have appeared multiple times on HGTV.   She filmed two television shows for HGTV’s Landscape Smart\, and had much fun doing it.
URL:https://lakewaygardenclub.com/event/landscape-design-class-curb-appeal-2/
LOCATION:Lakeway Activity Center\, 105 Cross Creek\, Lakeway\, TX\, 78734\, United States
CATEGORIES:Class,Lakeway Activity Center
ATTACH;FMTTYPE=image/webp:https://lakewaygardenclub.com/wp-content/uploads/2023/08/GayGray.webp
END:VEVENT
BEGIN:VEVENT
DTSTART;TZID=America/Chicago:20231016T180000
DTEND;TZID=America/Chicago:20231016T200000
DTSTAMP:20260423T173433
CREATED:20230928T042414Z
LAST-MODIFIED:20230928T042414Z
UID:1204-1697479200-1697486400@lakewaygardenclub.com
SUMMARY:Landscape Design Class: Curb Appeal
DESCRIPTION:Join HGTV featured Landscape Designer Gay Gray and learn how to create an inviting landscape in your yard. \nLearn the basics in curb appeal and backyard design from Gay Gray who has been a featured landscape designer on HGTV and focuses on earth wise and organic gardening. Learn what deer-resistant and drought-tolerant plantings will work great in your landscape. Now your home can be more inviting to family and friends and have that extra detail which may have a potential buyer taking a closer look. The first 5 participants who register by September 13 will have their pictures used as examples in class for design suggestions and ideas. \nAbout Gay Gray\nAfter a long career as an intellectual property litigator focusing on patent law\, Gay Bonorden Gray decided to do her part in making the world a more beautiful place.  Leaving a secure position in a Fortune 500 company as in-house counsel\, Gay went back to school to pursue a career in horticulture.   Since starting her business in landscaping\, Gay’s designs have appeared in print in several publications by Sunset Magazines and Books (available at retailers like Barnes and Noble and Home Depot) and have appeared multiple times on HGTV.   She filmed two television shows for HGTV’s Landscape Smart\, and had much fun doing it. \n 
URL:https://lakewaygardenclub.com/event/landscape-design-class-curb-appeal/
LOCATION:Lakeway Activity Center\, 105 Cross Creek\, Lakeway\, TX\, 78734\, United States
CATEGORIES:Class,Lakeway Activity Center
ATTACH;FMTTYPE=image/webp:https://lakewaygardenclub.com/wp-content/uploads/2023/08/GayGray.webp
END:VEVENT
BEGIN:VEVENT
DTSTART;TZID=America/Chicago:20230920T181500
DTEND;TZID=America/Chicago:20230920T201500
DTSTAMP:20260423T173433
CREATED:20230822T192525Z
LAST-MODIFIED:20230822T192525Z
UID:1136-1695233700-1695240900@lakewaygardenclub.com
SUMMARY:Landscape Design Class
DESCRIPTION:Join HGTV featured Landscape Designer Gay Gray and learn how to create an inviting landscape in your yard. \nLearn the basics in curb appeal and backyard design from Gay Gray who has been a featured landscape designer on HGTV and focuses on earth wise and organic gardening. Learn what deer-resistant and drought-tolerant plantings will work great in your landscape. Now your home can be more inviting to family and friends and have that extra detail which may have a potential buyer taking a closer look. The first 5 participants who register by September 13 will have their pictures used as examples in class for design suggestions and ideas. \nAbout Gay Gray\nAfter a long career as an intellectual property litigator focusing on patent law\, Gay Bonorden Gray decided to do her part in making the world a more beautiful place.  Leaving a secure position in a Fortune 500 company as in-house counsel\, Gay went back to school to pursue a career in horticulture.   Since starting her business in landscaping\, Gay’s designs have appeared in print in several publications by Sunset Magazines and Books (available at retailers like Barnes and Noble and Home Depot) and have appeared multiple times on HGTV.   She filmed two television shows for HGTV’s Landscape Smart\, and had much fun doing it. \n 
URL:https://lakewaygardenclub.com/event/landscape-design-class/
LOCATION:Lakeway Activity Center\, 105 Cross Creek\, Lakeway\, TX\, 78734\, United States
CATEGORIES:Class,Lakeway Activity Center
ATTACH;FMTTYPE=image/webp:https://lakewaygardenclub.com/wp-content/uploads/2023/08/GayGray.webp
END:VEVENT
BEGIN:VEVENT
DTSTART;TZID=America/Chicago:20230625T160000
DTEND;TZID=America/Chicago:20230625T170000
DTSTAMP:20260423T173433
CREATED:20230615T204441Z
LAST-MODIFIED:20230615T204559Z
UID:1002-1687708800-1687712400@lakewaygardenclub.com
SUMMARY:Learn about Bats in the Garden with Dr. Tuttle
DESCRIPTION:For more than 60 years Dr. Tuttle has studied and photographed the world’s most amazing bats on every continent where they occur. His work has been featured in leading publications worldwide\, including five articles in National Geographic. And he has spoken at most of the world’s leading institutions of science\, from Harvard and the Smithsonian to the British Museum. \nHe will show bats as cute as any panda and as strange as any dinosaur\, bats worth billions of dollars annually to human economies and bats that are vital to whole ecosystems\, from deserts to rain forests. He will show giant flying foxes with nearly six-foot wingspans and tiny bumblebee bats that weigh less than a U.S. penny. His photos document bats capturing insects\, centipedes\, fish\, and frogs\, pollinating incredible flowers\, dispersing seeds\, and coming to his hand on call. Most importantly\, Dr. Tuttle will document a long history of bats proving themselves to be safe and invaluable neighbors and may even convince you to put up a bat house! \nYou won’t want to miss this free and family friendly event!
URL:https://lakewaygardenclub.com/event/learn-about-bats-in-the-garden-with-dr-tuttle/
LOCATION:Lakeway Activity Center\, 105 Cross Creek\, Lakeway\, TX\, 78734\, United States
CATEGORIES:Class,Free,Kids,Lakeway Activity Center
ATTACH;FMTTYPE=image/jpeg:https://lakewaygardenclub.com/wp-content/uploads/2023/06/How-to-Attract-Bats-to-Your-Garden.jpg
END:VEVENT
END:VCALENDAR