BEGIN:VCALENDAR
VERSION:2.0
PRODID:-//Lakeway Garden Club - ECPv6.15.20//NONSGML v1.0//EN
CALSCALE:GREGORIAN
METHOD:PUBLISH
X-WR-CALNAME:Lakeway Garden Club
X-ORIGINAL-URL:https://lakewaygardenclub.com
X-WR-CALDESC:Events for Lakeway Garden Club
REFRESH-INTERVAL;VALUE=DURATION:PT1H
X-Robots-Tag:noindex
X-PUBLISHED-TTL:PT1H
BEGIN:VTIMEZONE
TZID:America/Chicago
BEGIN:DAYLIGHT
TZOFFSETFROM:-0600
TZOFFSETTO:-0500
TZNAME:CDT
DTSTART:20220313T080000
END:DAYLIGHT
BEGIN:STANDARD
TZOFFSETFROM:-0500
TZOFFSETTO:-0600
TZNAME:CST
DTSTART:20221106T070000
END:STANDARD
BEGIN:DAYLIGHT
TZOFFSETFROM:-0600
TZOFFSETTO:-0500
TZNAME:CDT
DTSTART:20230312T080000
END:DAYLIGHT
BEGIN:STANDARD
TZOFFSETFROM:-0500
TZOFFSETTO:-0600
TZNAME:CST
DTSTART:20231105T070000
END:STANDARD
BEGIN:DAYLIGHT
TZOFFSETFROM:-0600
TZOFFSETTO:-0500
TZNAME:CDT
DTSTART:20240310T080000
END:DAYLIGHT
BEGIN:STANDARD
TZOFFSETFROM:-0500
TZOFFSETTO:-0600
TZNAME:CST
DTSTART:20241103T070000
END:STANDARD
END:VTIMEZONE
BEGIN:VEVENT
DTSTART;VALUE=DATE:20230302
DTEND;VALUE=DATE:20230303
DTSTAMP:20260423T110146
CREATED:20230222T234100Z
LAST-MODIFIED:20230222T234100Z
UID:708-1677715200-1677801599@lakewaygardenclub.com
SUMMARY:Average Last Frost
DESCRIPTION:March 2nd is our average last date for frost in the Central Texas area. Watch the weather before you plant just in case there are any last minute cold snaps!\n\nSourced from Farmer’s Almanac website.
URL:https://lakewaygardenclub.com/event/average-last-frost/
LOCATION:Lakeway Garden Club\, Lakeway\, TX\, 78734\, United States
CATEGORIES:Garden Tips,Lakeway Garden Club
ATTACH;FMTTYPE=image/jpeg:https://lakewaygardenclub.com/wp-content/uploads/2023/02/frost-on-plants.jpg
ORGANIZER;CN="Lakeway Garden Club":MAILTO:info@lakewaygardenclub.com
END:VEVENT
BEGIN:VEVENT
DTSTART;VALUE=DATE:20230214
DTEND;VALUE=DATE:20230215
DTSTAMP:20260423T110146
CREATED:20230222T232010Z
LAST-MODIFIED:20230222T232010Z
UID:700-1676332800-1676419199@lakewaygardenclub.com
SUMMARY:Prune Roses
DESCRIPTION:Prune roses around Valentine’s Day and Labor Day each year.
URL:https://lakewaygardenclub.com/event/prune-roses/
LOCATION:Lakeway Garden Club\, Lakeway\, TX\, 78734\, United States
CATEGORIES:Garden Tips,Lakeway Garden Club
ATTACH;FMTTYPE=image/jpeg:https://lakewaygardenclub.com/wp-content/uploads/2023/02/rose2.jpg
ORGANIZER;CN="Lakeway Garden Club":MAILTO:info@lakewaygardenclub.com
END:VEVENT
END:VCALENDAR