BEGIN:VCALENDAR
VERSION:2.0
PRODID:-//Lakeway Garden Club - ECPv6.15.20//NONSGML v1.0//EN
CALSCALE:GREGORIAN
METHOD:PUBLISH
X-ORIGINAL-URL:https://lakewaygardenclub.com
X-WR-CALDESC:Events for Lakeway Garden Club
REFRESH-INTERVAL;VALUE=DURATION:PT1H
X-Robots-Tag:noindex
X-PUBLISHED-TTL:PT1H
BEGIN:VTIMEZONE
TZID:America/Chicago
BEGIN:DAYLIGHT
TZOFFSETFROM:-0600
TZOFFSETTO:-0500
TZNAME:CDT
DTSTART:20220313T080000
END:DAYLIGHT
BEGIN:STANDARD
TZOFFSETFROM:-0500
TZOFFSETTO:-0600
TZNAME:CST
DTSTART:20221106T070000
END:STANDARD
BEGIN:DAYLIGHT
TZOFFSETFROM:-0600
TZOFFSETTO:-0500
TZNAME:CDT
DTSTART:20230312T080000
END:DAYLIGHT
BEGIN:STANDARD
TZOFFSETFROM:-0500
TZOFFSETTO:-0600
TZNAME:CST
DTSTART:20231105T070000
END:STANDARD
BEGIN:DAYLIGHT
TZOFFSETFROM:-0600
TZOFFSETTO:-0500
TZNAME:CDT
DTSTART:20240310T080000
END:DAYLIGHT
BEGIN:STANDARD
TZOFFSETFROM:-0500
TZOFFSETTO:-0600
TZNAME:CST
DTSTART:20241103T070000
END:STANDARD
END:VTIMEZONE
BEGIN:VEVENT
DTSTART;TZID=America/Chicago:20230327T140000
DTEND;TZID=America/Chicago:20230327T150000
DTSTAMP:20260423T142344
CREATED:20230313T155736Z
LAST-MODIFIED:20230313T155736Z
UID:769-1679925600-1679929200@lakewaygardenclub.com
SUMMARY:Let's Grow: WaterWise Gardens
DESCRIPTION:Lakeway Municipal Utility District (LMUD) is hosting a week-long series of water-related speakers from March 27-31 at their district office (1097 Lohmans Crossing). Join us on Monday March 27th at 2pm when the Lakeway Garden Club shares tips for successfully growing drought-tolerant\, low-maintenance native plants and how to create a WaterWise garden! The Lakeway Garden Club is free and open to all local area residents. For information about the Lakeway Garden Club\, visit https://lakewaygardenclub.com
URL:https://lakewaygardenclub.com/event/lets-grow-waterwise-gardens/
LOCATION:Lakeway Municipal Utility District\, 1097 Lohmans Crossing\, Lakeway\, TX\, 78734\, United States
CATEGORIES:Free,Garden Tips,Let's Grow Series
ATTACH;FMTTYPE=image/png:https://lakewaygardenclub.com/wp-content/uploads/2023/03/2023-Lets-Grow-Water-Wise-Gardens.png
ORGANIZER;CN="Lakeway Garden Club":MAILTO:info@lakewaygardenclub.com
END:VEVENT
END:VCALENDAR