BEGIN:VCALENDAR
VERSION:2.0
PRODID:-//Lakeway Garden Club - ECPv6.15.20//NONSGML v1.0//EN
CALSCALE:GREGORIAN
METHOD:PUBLISH
X-ORIGINAL-URL:https://lakewaygardenclub.com
X-WR-CALDESC:Events for Lakeway Garden Club
REFRESH-INTERVAL;VALUE=DURATION:PT1H
X-Robots-Tag:noindex
X-PUBLISHED-TTL:PT1H
BEGIN:VTIMEZONE
TZID:America/Chicago
BEGIN:DAYLIGHT
TZOFFSETFROM:-0600
TZOFFSETTO:-0500
TZNAME:CDT
DTSTART:20230312T080000
END:DAYLIGHT
BEGIN:STANDARD
TZOFFSETFROM:-0500
TZOFFSETTO:-0600
TZNAME:CST
DTSTART:20231105T070000
END:STANDARD
BEGIN:DAYLIGHT
TZOFFSETFROM:-0600
TZOFFSETTO:-0500
TZNAME:CDT
DTSTART:20240310T080000
END:DAYLIGHT
BEGIN:STANDARD
TZOFFSETFROM:-0500
TZOFFSETTO:-0600
TZNAME:CST
DTSTART:20241103T070000
END:STANDARD
BEGIN:DAYLIGHT
TZOFFSETFROM:-0600
TZOFFSETTO:-0500
TZNAME:CDT
DTSTART:20250309T080000
END:DAYLIGHT
BEGIN:STANDARD
TZOFFSETFROM:-0500
TZOFFSETTO:-0600
TZNAME:CST
DTSTART:20251102T070000
END:STANDARD
END:VTIMEZONE
BEGIN:VEVENT
DTSTART;TZID=America/Chicago:20241001T100000
DTEND;TZID=America/Chicago:20241001T113000
DTSTAMP:20260424T153825
CREATED:20240109T191138Z
LAST-MODIFIED:20240109T191138Z
UID:1532-1727776800-1727782200@lakewaygardenclub.com
SUMMARY:Austin Herb Society Monthly Meeting
DESCRIPTION:Since 1983\, the Austin Herb Society has been educating members and the community about herbs\, including propagation\, landscaping\, history\, folklore\, and culinary\, medicinal\, and decorative uses of herbs. While our members are united by an interest in herbs\, they are also a diverse group of individuals: from gardeners and herbalists to cooks and business owners. \nAHS members design and maintain the Zilker Herb Garden-a dazzling landscape of color and fragrance that has become a centerpiece of Zilker Botanical Garden. Here\, visitors can touch\, taste\, and smell they way through nearly 200 varieties of herbs\, depending on the season. Bees and butterflies dot the beds of basil\, lavender\, and calendula. There are classic culinary herbs like rosemary\, mint\, and thyme alongside herbs revered for their health attributes\, including aloe and echinacea. \nIn addition to hands-on learning in the Zilker Herb Garden\, members enjoy: \n\nMonthly meetings with expert speakers on diverse topics (currently via zoom)\nEducational workshops and seminars throughout the year\nStudy groups focused on culinary herbs and herbal products\nField trips to unique gardens and herb-loving businesses\nDelicious herbal refreshments at our in-person meetings\nFellowship with interesting and informed herb lovers\n\nPlease join us in exploring the wonderful world of herbs! \nYou can also find us on Facebook
URL:https://lakewaygardenclub.com/event/austin-herb-society-monthly-meeting-15/
LOCATION:Zilker Botanical Garden\, 2220 Barton Springs Road\, Austin\, TX\, 78746\, United States
CATEGORIES:Free,Garden Organization,Meeting,Zilker Botanical Garden
ATTACH;FMTTYPE=image/jpeg:https://lakewaygardenclub.com/wp-content/uploads/2023/04/austinherbsociety.jpg
END:VEVENT
BEGIN:VEVENT
DTSTART;TZID=America/Chicago:20241004T100000
DTEND;TZID=America/Chicago:20241004T110000
DTSTAMP:20260424T153825
CREATED:20240109T190648Z
LAST-MODIFIED:20240109T190648Z
UID:1510-1728036000-1728039600@lakewaygardenclub.com
SUMMARY:Austin Ikebana Group Monthly Meeting
DESCRIPTION:The Austin Ikebana Group was founded by Isamu Taniguchi (circa 1902-1992)\, who started building the Taniguchi Japanese Garden when he was 70 years old. Ikebana is more than simply arranging flowers-its Japanese characters mean “giving life to flowers.” This art form has spiritual and philosophical roots\, where the relationship between every flower\, stem\, branch\, leaf\, and even container expresses a balanced and harmonious nature. The feelings of the arranger play a key role as well. Members rotate leading demonstrations and workshops. Because members have trained in various schools of Ikebana\, including Ohara\, Sogetsu\, Ikenobo\, and Ichiyo\, they bring a rich atmosphere of learning and growth to the meetings. This becomes a contemplative practice of expressing gentleness and elegance through the art of flower arrangement. Meetings are monthly on the first Friday at 10am.
URL:https://lakewaygardenclub.com/event/austin-ikebana-group-monthly-meeting-19/
LOCATION:Zilker Botanical Garden\, 2220 Barton Springs Road\, Austin\, TX\, 78746\, United States
CATEGORIES:Garden Organization,Meeting,Zilker Botanical Garden
ATTACH;FMTTYPE=image/webp:https://lakewaygardenclub.com/wp-content/uploads/2023/04/il_fullxfull.3061789954_1c20.webp
END:VEVENT
BEGIN:VEVENT
DTSTART;TZID=America/Chicago:20241012T110000
DTEND;TZID=America/Chicago:20241012T130000
DTSTAMP:20260424T153825
CREATED:20240927T194427Z
LAST-MODIFIED:20240927T194805Z
UID:1760-1728730800-1728738000@lakewaygardenclub.com
SUMMARY:Central Texas Seed Savers - Seed Swap
DESCRIPTION:Join us for the 6th annual seed swap with Central Texas Seed Savers in the Austin Central Library 1st floor Demo Area and on the library’s east grounds near Shoal Creek. Please bring your seeds\, plants\, and cuttings.  Swap with others who can give them a new home.  For more information or to reserve a table for your swap items\, please Ask a Librarian. \nThe Central Texas Seed Savers are having a seed swap on October 12th at the Austin Central Library from 11 am to 1 pm. The address is 710 W Cesar Chavez St.\, Austin\, TX 78701. It’s free and open to all. You don’t need to bring seeds to participate. \n\nCommunity Swaps are a space for our community members to meet up\, give away items they no longer need\, acquire those that they do and participate in sustainable living. Bring it. Trade it. Leave no trace behind. \n 
URL:https://lakewaygardenclub.com/event/seed-swap/
LOCATION:Austin Central Library\, 710 W. César Chávez St.\, Austin\, TX\, 78730\, United States
CATEGORIES:Free,Kids,Meeting,Plant Clinic,Special Event
ATTACH;FMTTYPE=image/jpeg:https://lakewaygardenclub.com/wp-content/uploads/2024/09/seedswap.jpg
END:VEVENT
BEGIN:VEVENT
DTSTART;TZID=America/Chicago:20241014T150000
DTEND;TZID=America/Chicago:20241014T163000
DTSTAMP:20260424T153825
CREATED:20240927T200516Z
LAST-MODIFIED:20240927T200703Z
UID:1767-1728918000-1728923400@lakewaygardenclub.com
SUMMARY:Seed Collection Gathering
DESCRIPTION:Join us for Seed Collection Gatherings on the second Monday of each month from 3–4:30 pm in the northwest corner of the Austin Public Library Main Branch on the 6th floor. \nWhat is the Seed Collection? \n\n\n\nThe Seed Collection is a joint project of the Austin Public Library and the Central Texas Seed Savers\, a grassroots group of seed savers\, gardeners\, horticulturists and social activists that coalesced around the idea of establishing a repository and exchange system for seeds of land race\, heirloom\, locally adapted and native varieties of fruits and vegetable and other useful plants in Central Texas region. The Seed Collection is housed in the classic card catalog cabinet on the Austin Central Library’s 6th floor. Everyone is welcome to “check out” and “return” seeds from the collection. If you have more questions about this project or would like to join our green gang\, please Ask a Librarian. \n\n\n\nThe Seed Collection has taken root! \nThe Central Texas Seed Savers and the Austin Public Library are committed to supporting the local environment and community by sharing seeds and related knowledge through our programming and circulating collection. We believe that seeds are nutritional and historical suitcases which contain the potential for both physical and cultural sustenance. Seed collections like ours are intended to promote sustainability\, self-sufficiency\, food security and interpersonal exchange. \nHow does it work? \nBrowse the drawers\, check out up to four seed packets per visit and record them on our checkout clipboard on top of the catalog cabinet. When you have extra seeds\, keep the spirit alive with a donation. Fill out a form from drawer 19\, and place it with the donation in drawer 20. If needed\, you can find seed envelopes in drawer 21. The Seed Collection relies upon your contributions to keep it growing. \n 
URL:https://lakewaygardenclub.com/event/apl-seed-collection-gathering/
LOCATION:Austin Central Library\, 710 W. César Chávez St.\, Austin\, TX\, 78730\, United States
CATEGORIES:Meeting
ATTACH;FMTTYPE=image/jpeg:https://lakewaygardenclub.com/wp-content/uploads/2022/10/flowerseedsdried.jpg
END:VEVENT
END:VCALENDAR