BEGIN:VCALENDAR
VERSION:2.0
PRODID:-//Lakeway Garden Club - ECPv6.15.20//NONSGML v1.0//EN
CALSCALE:GREGORIAN
METHOD:PUBLISH
X-ORIGINAL-URL:https://lakewaygardenclub.com
X-WR-CALDESC:Events for Lakeway Garden Club
REFRESH-INTERVAL;VALUE=DURATION:PT1H
X-Robots-Tag:noindex
X-PUBLISHED-TTL:PT1H
BEGIN:VTIMEZONE
TZID:America/Chicago
BEGIN:DAYLIGHT
TZOFFSETFROM:-0600
TZOFFSETTO:-0500
TZNAME:CDT
DTSTART:20230312T080000
END:DAYLIGHT
BEGIN:STANDARD
TZOFFSETFROM:-0500
TZOFFSETTO:-0600
TZNAME:CST
DTSTART:20231105T070000
END:STANDARD
BEGIN:DAYLIGHT
TZOFFSETFROM:-0600
TZOFFSETTO:-0500
TZNAME:CDT
DTSTART:20240310T080000
END:DAYLIGHT
BEGIN:STANDARD
TZOFFSETFROM:-0500
TZOFFSETTO:-0600
TZNAME:CST
DTSTART:20241103T070000
END:STANDARD
BEGIN:DAYLIGHT
TZOFFSETFROM:-0600
TZOFFSETTO:-0500
TZNAME:CDT
DTSTART:20250309T080000
END:DAYLIGHT
BEGIN:STANDARD
TZOFFSETFROM:-0500
TZOFFSETTO:-0600
TZNAME:CST
DTSTART:20251102T070000
END:STANDARD
END:VTIMEZONE
BEGIN:VEVENT
DTSTART;TZID=America/Chicago:20241111T150000
DTEND;TZID=America/Chicago:20241111T163000
DTSTAMP:20260424T154138
CREATED:20240927T200947Z
LAST-MODIFIED:20240927T200947Z
UID:1771-1731337200-1731342600@lakewaygardenclub.com
SUMMARY:Seed Collection Gathering
DESCRIPTION:Join us for Seed Collection Gatherings on the second Monday of each month from 3–4:30 pm in the northwest corner of the Austin Public Library Main Branch on the 6th floor. \nWhat is the Seed Collection? \n\n\n\nThe Seed Collection is a joint project of the Austin Public Library and the Central Texas Seed Savers\, a grassroots group of seed savers\, gardeners\, horticulturists and social activists that coalesced around the idea of establishing a repository and exchange system for seeds of land race\, heirloom\, locally adapted and native varieties of fruits and vegetable and other useful plants in Central Texas region. The Seed Collection is housed in the classic card catalog cabinet on the Austin Central Library’s 6th floor. Everyone is welcome to “check out” and “return” seeds from the collection. If you have more questions about this project or would like to join our green gang\, please Ask a Librarian. \n\n\n\nThe Seed Collection has taken root! \nThe Central Texas Seed Savers and the Austin Public Library are committed to supporting the local environment and community by sharing seeds and related knowledge through our programming and circulating collection. We believe that seeds are nutritional and historical suitcases which contain the potential for both physical and cultural sustenance. Seed collections like ours are intended to promote sustainability\, self-sufficiency\, food security and interpersonal exchange. \nHow does it work? \nBrowse the drawers\, check out up to four seed packets per visit and record them on our checkout clipboard on top of the catalog cabinet. When you have extra seeds\, keep the spirit alive with a donation. Fill out a form from drawer 19\, and place it with the donation in drawer 20. If needed\, you can find seed envelopes in drawer 21. The Seed Collection relies upon your contributions to keep it growing. \n 
URL:https://lakewaygardenclub.com/event/seed-collection-gathering/
LOCATION:Austin Central Library\, 710 W. César Chávez St.\, Austin\, TX\, 78730\, United States
CATEGORIES:Meeting
ATTACH;FMTTYPE=image/jpeg:https://lakewaygardenclub.com/wp-content/uploads/2024/09/seedpackets.jpg
END:VEVENT
END:VCALENDAR