BEGIN:VCALENDAR
VERSION:2.0
PRODID:-//Lakeway Garden Club - ECPv6.15.20//NONSGML v1.0//EN
CALSCALE:GREGORIAN
METHOD:PUBLISH
X-ORIGINAL-URL:https://lakewaygardenclub.com
X-WR-CALDESC:Events for Lakeway Garden Club
REFRESH-INTERVAL;VALUE=DURATION:PT1H
X-Robots-Tag:noindex
X-PUBLISHED-TTL:PT1H
BEGIN:VTIMEZONE
TZID:America/Chicago
BEGIN:DAYLIGHT
TZOFFSETFROM:-0600
TZOFFSETTO:-0500
TZNAME:CDT
DTSTART:20220313T080000
END:DAYLIGHT
BEGIN:STANDARD
TZOFFSETFROM:-0500
TZOFFSETTO:-0600
TZNAME:CST
DTSTART:20221106T070000
END:STANDARD
BEGIN:DAYLIGHT
TZOFFSETFROM:-0600
TZOFFSETTO:-0500
TZNAME:CDT
DTSTART:20230312T080000
END:DAYLIGHT
BEGIN:STANDARD
TZOFFSETFROM:-0500
TZOFFSETTO:-0600
TZNAME:CST
DTSTART:20231105T070000
END:STANDARD
BEGIN:DAYLIGHT
TZOFFSETFROM:-0600
TZOFFSETTO:-0500
TZNAME:CDT
DTSTART:20240310T080000
END:DAYLIGHT
BEGIN:STANDARD
TZOFFSETFROM:-0500
TZOFFSETTO:-0600
TZNAME:CST
DTSTART:20241103T070000
END:STANDARD
END:VTIMEZONE
BEGIN:VEVENT
DTSTART;TZID=America/Chicago:20230606T100000
DTEND;TZID=America/Chicago:20230606T113000
DTSTAMP:20260423T211021
CREATED:20230615T223031Z
LAST-MODIFIED:20230615T223031Z
UID:1075-1686045600-1686051000@lakewaygardenclub.com
SUMMARY:Austin Herb Society Monthly Meeting
DESCRIPTION:Since 1983\, the Austin Herb Society has been educating members and the community about herbs\, including propagation\, landscaping\, history\, folklore\, and culinary\, medicinal\, and decorative uses of herbs. While our members are united by an interest in herbs\, they are also a diverse group of individuals: from gardeners and herbalists to cooks and business owners. \nAHS members design and maintain the Zilker Herb Garden-a dazzling landscape of color and fragrance that has become a centerpiece of Zilker Botanical Garden. Here\, visitors can touch\, taste\, and smell they way through nearly 200 varieties of herbs\, depending on the season. Bees and butterflies dot the beds of basil\, lavender\, and calendula. There are classic culinary herbs like rosemary\, mint\, and thyme alongside herbs revered for their health attributes\, including aloe and echinacea. \nIn addition to hands-on learning in the Zilker Herb Garden\, members enjoy: \n\nMonthly meetings with expert speakers on diverse topics (currently via zoom)\nEducational workshops and seminars throughout the year\nStudy groups focused on culinary herbs and herbal products\nField trips to unique gardens and herb-loving businesses\nDelicious herbal refreshments at our in-person meetings\nFellowship with interesting and informed herb lovers\n\nPlease join us in exploring the wonderful world of herbs! \nYou can also find us on Facebook
URL:https://lakewaygardenclub.com/event/austin-herb-society-monthly-meeting-6/
LOCATION:Zilker Botanical Garden\, 2220 Barton Springs Road\, Austin\, TX\, 78746\, United States
CATEGORIES:Free,Garden Organization,Meeting,Zilker Botanical Garden
ATTACH;FMTTYPE=image/jpeg:https://lakewaygardenclub.com/wp-content/uploads/2023/04/austinherbsociety.jpg
END:VEVENT
BEGIN:VEVENT
DTSTART;TZID=America/Chicago:20230525T190000
DTEND;TZID=America/Chicago:20230525T210000
DTSTAMP:20260423T211021
CREATED:20230420T052223Z
LAST-MODIFIED:20230420T052223Z
UID:894-1685041200-1685048400@lakewaygardenclub.com
SUMMARY:Resilient Beauty In The Garden
DESCRIPTION:As seasonal transitions and climatic extremes continue to challenge Central Texas gardens\, it becomes more important than ever for gardeners to explore the question: “How do plants thrive in the wild without our help?” Matt Welch\, a horticulturist\, farmer\, and plant ecologist\, spends entirely too much time pondering this very question. Join us for the monthly Garden Club of Austin meeting as he shares his best answers\, exploring the hidden ways the incredible plants and plant communities of the Hill Country survive the seasons\, and how you can take cues from these tough Texas plants to build wild beauty and resilience in your own garden. \nMatt Welch has spent the last 35 years enamored\, mystified\, perplexed and often confounded by the plant kingdom. He has worked in orchards\, nurseries\, botanical gardens\, academia\, and now lives and works on the Pedernales River\, canoes to work every day\, and is learning how to farm vegetables and grow cut flowers. An East Texan by birth and by disposition\, Matt left Nacogdoches for Austin in 2005 after working several years at the SFA Mast Arboretum and the Pineywoods Native Plant Center\, two gardens affiliated with Stephen F. Austin State University\, where he received his BS in Horticulture a hundred years ago. While there\, he happened upon the only thing he’ll be remembered by\, a pink fruited form of American Beautyberry\, known in the trade as Callicarpa americana ‘Welch’s Pink.’ \nThis will take place in the auditorium. \nOpen to the public\, free to attend.
URL:https://lakewaygardenclub.com/event/resilient-beauty-in-the-garden/
LOCATION:Zilker Botanical Garden\, 2220 Barton Springs Road\, Austin\, TX\, 78746\, United States
CATEGORIES:Free,Garden Organization,Lecture,Meeting,Zilker Botanical Garden
ATTACH;FMTTYPE=image/jpeg:https://lakewaygardenclub.com/wp-content/uploads/2023/04/taniguchi-zilker-bridge-photo.jpg
END:VEVENT
BEGIN:VEVENT
DTSTART;TZID=America/Chicago:20230502T183000
DTEND;TZID=America/Chicago:20230502T210000
DTSTAMP:20260423T211021
CREATED:20230420T051838Z
LAST-MODIFIED:20230420T052349Z
UID:890-1683052200-1683061200@lakewaygardenclub.com
SUMMARY:Think Outside The Pot: Alternative Growing Methods With Heart Of Texas Orchid Society
DESCRIPTION:Join us for the Heart of Texas Orchid Society’s May meeting on alternative growing methods for orchids. Clay and plastic pots are tried and true favorites for many orchid growers. They are inexpensive and readily available. In this discussion\, we will talk about alternative methods that mimic natural orchid environments: rafts\, baskets\, wood & mounts\, the PET method\, and Japanese kokedama. If you have an orchid that is grown in something besides a pot\, consider bringing it to the meeting. Seeing other growers’ creativity may inspire us to try something new. \nOpen to the public\, free to attend.
URL:https://lakewaygardenclub.com/event/think-outside-the-pot-alternative-growing-methods-with-heart-of-texas-orchid-society/
LOCATION:Zilker Botanical Garden\, 2220 Barton Springs Road\, Austin\, TX\, 78746\, United States
CATEGORIES:Garden Organization,Lecture,Meeting,Zilker Botanical Garden
ATTACH;FMTTYPE=image/jpeg:https://lakewaygardenclub.com/wp-content/uploads/2023/04/orchidwood.jpg
END:VEVENT
BEGIN:VEVENT
DTSTART;TZID=America/Chicago:20230502T100000
DTEND;TZID=America/Chicago:20230502T113000
DTSTAMP:20260423T211021
CREATED:20230405T043622Z
LAST-MODIFIED:20230405T043622Z
UID:847-1683021600-1683027000@lakewaygardenclub.com
SUMMARY:Austin Herb Society Monthly Meeting
DESCRIPTION:Since 1983\, the Austin Herb Society has been educating members and the community about herbs\, including propagation\, landscaping\, history\, folklore\, and culinary\, medicinal\, and decorative uses of herbs. While our members are united by an interest in herbs\, they are also a diverse group of individuals: from gardeners and herbalists to cooks and business owners. \nAHS members design and maintain the Zilker Herb Garden-a dazzling landscape of color and fragrance that has become a centerpiece of Zilker Botanical Garden. Here\, visitors can touch\, taste\, and smell they way through nearly 200 varieties of herbs\, depending on the season. Bees and butterflies dot the beds of basil\, lavender\, and calendula. There are classic culinary herbs like rosemary\, mint\, and thyme alongside herbs revered for their health attributes\, including aloe and echinacea. \nIn addition to hands-on learning in the Zilker Herb Garden\, members enjoy: \n\nMonthly meetings with expert speakers on diverse topics (currently via zoom)\nEducational workshops and seminars throughout the year\nStudy groups focused on culinary herbs and herbal products\nField trips to unique gardens and herb-loving businesses\nDelicious herbal refreshments at our in-person meetings\nFellowship with interesting and informed herb lovers\n\nPlease join us in exploring the wonderful world of herbs! \nYou can also find us on Facebook
URL:https://lakewaygardenclub.com/event/austin-herb-society-monthly-meeting/
LOCATION:Zilker Botanical Garden\, 2220 Barton Springs Road\, Austin\, TX\, 78746\, United States
CATEGORIES:Free,Garden Organization,Meeting,Zilker Botanical Garden
ATTACH;FMTTYPE=image/jpeg:https://lakewaygardenclub.com/wp-content/uploads/2023/04/austinherbsociety.jpg
END:VEVENT
END:VCALENDAR