BEGIN:VCALENDAR
VERSION:2.0
PRODID:-//Lakeway Garden Club - ECPv6.15.20//NONSGML v1.0//EN
CALSCALE:GREGORIAN
METHOD:PUBLISH
X-WR-CALNAME:Lakeway Garden Club
X-ORIGINAL-URL:https://lakewaygardenclub.com
X-WR-CALDESC:Events for Lakeway Garden Club
REFRESH-INTERVAL;VALUE=DURATION:PT1H
X-Robots-Tag:noindex
X-PUBLISHED-TTL:PT1H
BEGIN:VTIMEZONE
TZID:America/Chicago
BEGIN:DAYLIGHT
TZOFFSETFROM:-0600
TZOFFSETTO:-0500
TZNAME:CDT
DTSTART:20230312T080000
END:DAYLIGHT
BEGIN:STANDARD
TZOFFSETFROM:-0500
TZOFFSETTO:-0600
TZNAME:CST
DTSTART:20231105T070000
END:STANDARD
BEGIN:DAYLIGHT
TZOFFSETFROM:-0600
TZOFFSETTO:-0500
TZNAME:CDT
DTSTART:20240310T080000
END:DAYLIGHT
BEGIN:STANDARD
TZOFFSETFROM:-0500
TZOFFSETTO:-0600
TZNAME:CST
DTSTART:20241103T070000
END:STANDARD
BEGIN:DAYLIGHT
TZOFFSETFROM:-0600
TZOFFSETTO:-0500
TZNAME:CDT
DTSTART:20250309T080000
END:DAYLIGHT
BEGIN:STANDARD
TZOFFSETFROM:-0500
TZOFFSETTO:-0600
TZNAME:CST
DTSTART:20251102T070000
END:STANDARD
END:VTIMEZONE
BEGIN:VEVENT
DTSTART;TZID=America/Chicago:20240301T090000
DTEND;TZID=America/Chicago:20240301T100000
DTSTAMP:20260425T164925
CREATED:20240210T053904Z
LAST-MODIFIED:20240210T055606Z
UID:1554-1709283600-1709287200@lakewaygardenclub.com
SUMMARY:Night Pollinators Webinar
DESCRIPTION:When you think of pollinators you often think of butterflies\, bees and birds flying around during the bright of day.  But there are nocturnal pollinators of equal importance.  Some studies have shown that one third of plant families have nocturnal pollinators visit them.  Join Molly Keck\, AgriLife Extension IPM Specialist and Board Certified Entomologist as she shares which pollinators come out at night and what you can do to help their populations
URL:https://lakewaygardenclub.com/event/night-pollinators-webinar/
LOCATION:BCMG Cultivate Webinar\, San Antonio\, TX\, United States
CATEGORIES:Class,Free,Online
ATTACH;FMTTYPE=image/jpeg:https://lakewaygardenclub.com/wp-content/uploads/2024/02/pollinatormoth.jpg
END:VEVENT
BEGIN:VEVENT
DTSTART;TZID=America/Chicago:20240301T103000
DTEND;TZID=America/Chicago:20240301T113000
DTSTAMP:20260425T164925
CREATED:20240210T054329Z
LAST-MODIFIED:20240210T054329Z
UID:1559-1709289000-1709292600@lakewaygardenclub.com
SUMMARY:Texas Superstar®Trees Webinar
DESCRIPTION:Trees are the most important investment for your landscape and often bring a significant increase to your home’s value. David Rodriguez – Extension Horticulturist with Texas A&M AgriLife Extension Service will talk about selecting\, planting\, and maintaining trees for your residential landscape.
URL:https://lakewaygardenclub.com/event/texas-superstartrees-webinar/
LOCATION:BCMG Cultivate Webinar\, San Antonio\, TX\, United States
CATEGORIES:Class,Free,Online
ATTACH;FMTTYPE=image/jpeg:https://lakewaygardenclub.com/wp-content/uploads/2024/02/vitex.jpg
END:VEVENT
BEGIN:VEVENT
DTSTART;TZID=America/Chicago:20240301T120000
DTEND;TZID=America/Chicago:20240301T130000
DTSTAMP:20260425T164925
CREATED:20240210T054541Z
LAST-MODIFIED:20240210T054541Z
UID:1562-1709294400-1709298000@lakewaygardenclub.com
SUMMARY:Let’s Talk Lawncare Webinar
DESCRIPTION:Concerned about having reasonable expectations of your lawn with our summer heat\, winter freezes\, and drought conditions? Join Bill Swantner\, Bexar County Master Gardener\, as he explains how to keep turf grass healthy and attractive. Bill will share tips on mowing\, fertilizing\, watering\, controlling weeds and insects\, and more on a month by month basis.
URL:https://lakewaygardenclub.com/event/lets-talk-lawncare-webinar/
LOCATION:BCMG Cultivate Webinar\, San Antonio\, TX\, United States
CATEGORIES:Class,Free,Online
ATTACH;FMTTYPE=image/jpeg:https://lakewaygardenclub.com/wp-content/uploads/2024/02/grass.jpg
END:VEVENT
END:VCALENDAR