BEGIN:VCALENDAR
VERSION:2.0
PRODID:-//Lakeway Garden Club - ECPv6.15.20//NONSGML v1.0//EN
CALSCALE:GREGORIAN
METHOD:PUBLISH
X-ORIGINAL-URL:https://lakewaygardenclub.com
X-WR-CALDESC:Events for Lakeway Garden Club
REFRESH-INTERVAL;VALUE=DURATION:PT1H
X-Robots-Tag:noindex
X-PUBLISHED-TTL:PT1H
BEGIN:VTIMEZONE
TZID:America/Chicago
BEGIN:DAYLIGHT
TZOFFSETFROM:-0600
TZOFFSETTO:-0500
TZNAME:CDT
DTSTART:20220313T080000
END:DAYLIGHT
BEGIN:STANDARD
TZOFFSETFROM:-0500
TZOFFSETTO:-0600
TZNAME:CST
DTSTART:20221106T070000
END:STANDARD
BEGIN:DAYLIGHT
TZOFFSETFROM:-0600
TZOFFSETTO:-0500
TZNAME:CDT
DTSTART:20230312T080000
END:DAYLIGHT
BEGIN:STANDARD
TZOFFSETFROM:-0500
TZOFFSETTO:-0600
TZNAME:CST
DTSTART:20231105T070000
END:STANDARD
BEGIN:DAYLIGHT
TZOFFSETFROM:-0600
TZOFFSETTO:-0500
TZNAME:CDT
DTSTART:20240310T080000
END:DAYLIGHT
BEGIN:STANDARD
TZOFFSETFROM:-0500
TZOFFSETTO:-0600
TZNAME:CST
DTSTART:20241103T070000
END:STANDARD
BEGIN:DAYLIGHT
TZOFFSETFROM:-0600
TZOFFSETTO:-0500
TZNAME:CDT
DTSTART:20250309T080000
END:DAYLIGHT
BEGIN:STANDARD
TZOFFSETFROM:-0500
TZOFFSETTO:-0600
TZNAME:CST
DTSTART:20251102T070000
END:STANDARD
END:VTIMEZONE
BEGIN:VEVENT
DTSTART;TZID=America/Chicago:20240508T100000
DTEND;TZID=America/Chicago:20240508T120000
DTSTAMP:20260423T173433
CREATED:20240322T003850Z
LAST-MODIFIED:20240322T004639Z
UID:1641-1715162400-1715169600@lakewaygardenclub.com
SUMMARY:6 D’s of Container Gardening Success  - Texas Tough Plants Series
DESCRIPTION:Texas A&M AgriLife Extension-Travis County continues their 2024 Texas Tough Plants educational series with 6 D’s of Container Gardening Success\, May 8th\, 10 am to noon.\n\n\n\nNot everyone has a yard or plot to garden in. Plant selection is just as important if you grow plants in containers. Kirk Walden\, Travis County Master Gardener\, will be our final session May 8th at 10 am. Kirk will cover the major considerations and decisions that lead to gardening success – from design and soil to irrigation and sunlight. Participants will come away with a list of recommended plants and resources suitable for Central Texas \n\n\n\nThose interested must register in advance to receive a link.\n\n\n \n\n\nMore information on the entire webinar series can be found here.\n\n\n\n 
URL:https://lakewaygardenclub.com/event/6-ds-of-container-gardening-success-texas-tough-plants-series/
LOCATION:Texas A&M AgriLife Extension\, 1600 Smith Road\, Austin\, TX\, 78721\, United States
CATEGORIES:Class,Free,Online,Texas A&M AgriLife Extension
ATTACH;FMTTYPE=image/png:https://lakewaygardenclub.com/wp-content/uploads/2024/02/Tough-Texas-Plants-Webinar-Series-General-IG.png
END:VEVENT
BEGIN:VEVENT
DTSTART;TZID=America/Chicago:20240410T100000
DTEND;TZID=America/Chicago:20240410T120000
DTSTAMP:20260423T173433
CREATED:20240322T003440Z
LAST-MODIFIED:20240322T004605Z
UID:1639-1712743200-1712750400@lakewaygardenclub.com
SUMMARY:Trees: Your Landscape Legacy - Texas Tough Plants Series
DESCRIPTION:Texas A&M AgriLife Extension-Travis County continues their 2024 Texas Tough Plants educational series with Trees: Your Landscape Legacy\, April 10th\, 10 am to noon.\n\n\n \n\n\nYvonne Schneider\, Travis County Master Gardener Tree Specialist\, will explore the many benefits that trees provide for your personal property as well as the general environment. A special focus will be placed on choosing the right tree that is well-suited to Austin’s climate and soil conditions. The program will be presented utilizing a webinar format.\n\n\n \n\n\nThose interested must register in advance to receive a link.\n\n\n \n\n\nMore information on the entire webinar series can be found here.
URL:https://lakewaygardenclub.com/event/texas-tough-plants-series-april-10/
LOCATION:Texas A&M AgriLife Extension\, 1600 Smith Road\, Austin\, TX\, 78721\, United States
CATEGORIES:Class,Free,Online,Texas A&M AgriLife Extension
ATTACH;FMTTYPE=image/png:https://lakewaygardenclub.com/wp-content/uploads/2024/02/Tough-Texas-Plants-Webinar-Series-General-IG.png
END:VEVENT
BEGIN:VEVENT
DTSTART;TZID=America/Chicago:20240320T100000
DTEND;TZID=America/Chicago:20240320T120000
DTSTAMP:20260423T173433
CREATED:20240227T220205Z
LAST-MODIFIED:20240322T004514Z
UID:1590-1710928800-1710936000@lakewaygardenclub.com
SUMMARY:Native Landscapes for Wildlife - Texas Tough Plants Series
DESCRIPTION:Texas A&M AgriLife Extension-Travis County continues their 2024 Texas Tough Plants educational series with Native Landscapes for Wildlife\, March 20th\, 10 am to noon.\n\n\n \n\n\nJohn Davis\, Conservation Program Coordinator for Austin Parks and Recreation\, will cover the aspects of wildlife habitat and how to create them in your own garden. A special focus will be placed on the value of native plants to provide food and shelter. The program will be presented utilizing a webinar format.\n\n\n \n\n\nThose interested must register in advance to receive a link.\n\n\n \n\n\nMore information on the entire webinar series can be found here.
URL:https://lakewaygardenclub.com/event/native-landscapes-for-wildlife-texas-tough-plants-series/
LOCATION:Texas A&M AgriLife Extension\, 1600 Smith Road\, Austin\, TX\, 78721\, United States
CATEGORIES:Class,Free,Online,Texas A&M AgriLife Extension
ATTACH;FMTTYPE=image/png:https://lakewaygardenclub.com/wp-content/uploads/2024/02/Tough-Texas-Plants-Webinar-Series-General-IG.png
END:VEVENT
BEGIN:VEVENT
DTSTART;TZID=America/Chicago:20240302T120000
DTEND;TZID=America/Chicago:20240302T130000
DTSTAMP:20260423T173433
CREATED:20240210T055234Z
LAST-MODIFIED:20240210T055246Z
UID:1570-1709380800-1709384400@lakewaygardenclub.com
SUMMARY:Texas Native Ornamental Shrubs Webinar
DESCRIPTION:The use of native shrubs in our landscape is just… natural! Join Lynn Cox\, Bexar County Master Gardener\, as she shares the benefits of using natives and introduces some of the many native shrubs that will bring color and more to your landscape.
URL:https://lakewaygardenclub.com/event/texas-native-ornamental-shrubs-webinar/
LOCATION:BCMG Cultivate Webinar\, San Antonio\, TX\, United States
CATEGORIES:Class,Free,Online
ATTACH;FMTTYPE=image/jpeg:https://lakewaygardenclub.com/wp-content/uploads/2024/02/TexasSage.jpg
END:VEVENT
BEGIN:VEVENT
DTSTART;TZID=America/Chicago:20240302T103000
DTEND;TZID=America/Chicago:20240302T113000
DTSTAMP:20260423T173433
CREATED:20240210T055024Z
LAST-MODIFIED:20240210T055024Z
UID:1567-1709375400-1709379000@lakewaygardenclub.com
SUMMARY:Wildflower or Weed? Webinar
DESCRIPTION:Some of our native wildflowers have bad reputations as weeds\, but do they really deserve so much hate? Join Lee Marlowe\, Sustainable Landscape Ecologist from the San Antonio River Authority as she shares the benefits of some of the “weedy” native plants that might find their way into your yard uninvited. You may discover that some of these wild plants are perfect for your landscape goals.
URL:https://lakewaygardenclub.com/event/wildflower-or-weed-webinar/
LOCATION:BCMG Cultivate Webinar\, San Antonio\, TX\, United States
CATEGORIES:Class,Free,Online
ATTACH;FMTTYPE=image/png:https://lakewaygardenclub.com/wp-content/uploads/2024/02/spiderwort-sq.png
END:VEVENT
BEGIN:VEVENT
DTSTART;TZID=America/Chicago:20240302T090000
DTEND;TZID=America/Chicago:20240302T100000
DTSTAMP:20260423T173433
CREATED:20240210T054812Z
LAST-MODIFIED:20240210T054812Z
UID:1565-1709370000-1709373600@lakewaygardenclub.com
SUMMARY:Spring into Landscape Gardening Webinar
DESCRIPTION:Spring is the season for renewal. Come join Lynn Cox\, Bexar County Master Gardener\, as she discusses what can be done to refresh\, renew\, and revitalize your garden this spring.
URL:https://lakewaygardenclub.com/event/spring-into-landscape-gardening-webinar/
LOCATION:BCMG Cultivate Webinar\, San Antonio\, TX\, United States
CATEGORIES:Class,Free,Online
ATTACH;FMTTYPE=image/png:https://lakewaygardenclub.com/wp-content/uploads/2024/01/12.png
END:VEVENT
BEGIN:VEVENT
DTSTART;TZID=America/Chicago:20240301T120000
DTEND;TZID=America/Chicago:20240301T130000
DTSTAMP:20260423T173433
CREATED:20240210T054541Z
LAST-MODIFIED:20240210T054541Z
UID:1562-1709294400-1709298000@lakewaygardenclub.com
SUMMARY:Let’s Talk Lawncare Webinar
DESCRIPTION:Concerned about having reasonable expectations of your lawn with our summer heat\, winter freezes\, and drought conditions? Join Bill Swantner\, Bexar County Master Gardener\, as he explains how to keep turf grass healthy and attractive. Bill will share tips on mowing\, fertilizing\, watering\, controlling weeds and insects\, and more on a month by month basis.
URL:https://lakewaygardenclub.com/event/lets-talk-lawncare-webinar/
LOCATION:BCMG Cultivate Webinar\, San Antonio\, TX\, United States
CATEGORIES:Class,Free,Online
ATTACH;FMTTYPE=image/jpeg:https://lakewaygardenclub.com/wp-content/uploads/2024/02/grass.jpg
END:VEVENT
BEGIN:VEVENT
DTSTART;TZID=America/Chicago:20240301T103000
DTEND;TZID=America/Chicago:20240301T113000
DTSTAMP:20260423T173433
CREATED:20240210T054329Z
LAST-MODIFIED:20240210T054329Z
UID:1559-1709289000-1709292600@lakewaygardenclub.com
SUMMARY:Texas Superstar®Trees Webinar
DESCRIPTION:Trees are the most important investment for your landscape and often bring a significant increase to your home’s value. David Rodriguez – Extension Horticulturist with Texas A&M AgriLife Extension Service will talk about selecting\, planting\, and maintaining trees for your residential landscape.
URL:https://lakewaygardenclub.com/event/texas-superstartrees-webinar/
LOCATION:BCMG Cultivate Webinar\, San Antonio\, TX\, United States
CATEGORIES:Class,Free,Online
ATTACH;FMTTYPE=image/jpeg:https://lakewaygardenclub.com/wp-content/uploads/2024/02/vitex.jpg
END:VEVENT
BEGIN:VEVENT
DTSTART;TZID=America/Chicago:20240301T090000
DTEND;TZID=America/Chicago:20240301T100000
DTSTAMP:20260423T173433
CREATED:20240210T053904Z
LAST-MODIFIED:20240210T055606Z
UID:1554-1709283600-1709287200@lakewaygardenclub.com
SUMMARY:Night Pollinators Webinar
DESCRIPTION:When you think of pollinators you often think of butterflies\, bees and birds flying around during the bright of day.  But there are nocturnal pollinators of equal importance.  Some studies have shown that one third of plant families have nocturnal pollinators visit them.  Join Molly Keck\, AgriLife Extension IPM Specialist and Board Certified Entomologist as she shares which pollinators come out at night and what you can do to help their populations
URL:https://lakewaygardenclub.com/event/night-pollinators-webinar/
LOCATION:BCMG Cultivate Webinar\, San Antonio\, TX\, United States
CATEGORIES:Class,Free,Online
ATTACH;FMTTYPE=image/jpeg:https://lakewaygardenclub.com/wp-content/uploads/2024/02/pollinatormoth.jpg
END:VEVENT
BEGIN:VEVENT
DTSTART;TZID=America/Chicago:20240221T100000
DTEND;TZID=America/Chicago:20240221T120000
DTSTAMP:20260423T173433
CREATED:20240212T194850Z
LAST-MODIFIED:20240212T194914Z
UID:1574-1708509600-1708516800@lakewaygardenclub.com
SUMMARY:Native and Adapted Plants - Texas Tough Plants Series
DESCRIPTION:What are the best native and adapted plants to use in central Texas that can tolerate extremes of heat and cold\, drought and deluge? Find out when the Texas A&M AgriLife Extension-Travis County kicks off the 2024 Texas Tough Plants webinar series with Native and Adapted Plants for Central Texas and Wild About Plants\, on February 21st\, 10 am to noon. \nThose interested must register in advance to receive a link to the webinar. \nAttendees can submit questions during the webinar and get answers live as time allows. More information on the entire webinar series can be found here.
URL:https://lakewaygardenclub.com/event/native-and-adapted-plants-webinar/
LOCATION:Texas A&M AgriLife Extension\, 1600 Smith Road\, Austin\, TX\, 78721\, United States
CATEGORIES:Class,Free,Online,Texas A&M AgriLife Extension
ATTACH;FMTTYPE=image/png:https://lakewaygardenclub.com/wp-content/uploads/2024/02/Tough-Texas-Plants-Webinar-Series-IG.png
END:VEVENT
BEGIN:VEVENT
DTSTART;TZID=America/Chicago:20230621T130000
DTEND;TZID=America/Chicago:20230621T143000
DTSTAMP:20260423T173433
CREATED:20230615T214921Z
LAST-MODIFIED:20230615T214921Z
UID:1043-1687352400-1687357800@lakewaygardenclub.com
SUMMARY:Webinar: Native Host Plants for Texas Pollinators
DESCRIPTION:Embark into the fascinating world of pollinators with experts Lynne and Jim Weber\, authors of “Native Host Plants for Texas Butterflies” and “Native Host Plants for Texas Moths“. This webinar delves beyond the beauty of blooming flowers\, illuminating the vital role of native host plants in supporting the lifecycle of our local pollinators. Learn about the fundamental yet often overlooked aspect of pollinator conservation — the provision of safe havens for egg-laying and nourishing larval food sources that fuel the metamorphosis into the winged marvels we cherish. \nLearn practical strategies to incorporate these vital plants into your own garden\, transforming it into a nurturing sanctuary for pollinators. This isn’t just about beautifying your yard; it’s a call to contribute to the sustainability of our local ecosystem. Join us and become an active participant in preserving Texas’ diverse and remarkable biodiversity. Presented by Bee City Austin. \nRegister online to attend this webinar.
URL:https://lakewaygardenclub.com/event/webinar-native-host-plants-for-texas-pollinators/
LOCATION:Lakeway Garden Club\, Lakeway\, TX\, 78734\, United States
CATEGORIES:Class,Free,Online
ATTACH;FMTTYPE=image/jpeg:https://lakewaygardenclub.com/wp-content/uploads/2023/06/pollinator.jpg
ORGANIZER;CN="Lakeway Garden Club":MAILTO:info@lakewaygardenclub.com
END:VEVENT
BEGIN:VEVENT
DTSTART;TZID=America/Chicago:20230531T120000
DTEND;TZID=America/Chicago:20230531T130000
DTSTAMP:20260423T173433
CREATED:20230509T214057Z
LAST-MODIFIED:20230509T214057Z
UID:973-1685534400-1685538000@lakewaygardenclub.com
SUMMARY:Webinar: Everything Everyone Should Know About Butterflies
DESCRIPTION:Join Molly Keck\, Entomologist at Texas A&M AgriLife Extension Service discuss butterflies and what you should know about them to attract and keep them in your garden. Molly Keck is a Senior Program Specialist in Integrated Pest Management and a Board-Certified Entomologist with Texas A&M AgriLife Extension Service – Bexar County. This free Zoom webinar is open to the public.  Join Molly for this series of informative seminars on the 15 bugs everyone should know about and their impact in our homes and landscapes. \nJoin Zoom Webinar \nMeeting ID – 863 6857 1398\nPassword – 15BUGS
URL:https://lakewaygardenclub.com/event/webinar-everything-everyone-should-know-about-butterflies/
LOCATION:Texas A&M AgriLife Extension\, 1600 Smith Road\, Austin\, TX\, 78721\, United States
CATEGORIES:Class,Free,Online,Texas A&M AgriLife Extension
ATTACH;FMTTYPE=image/jpeg:https://lakewaygardenclub.com/wp-content/uploads/2023/05/monarchzinnia.jpg
END:VEVENT
END:VCALENDAR