BEGIN:VCALENDAR
VERSION:2.0
PRODID:-//Lakeway Garden Club - ECPv6.15.20//NONSGML v1.0//EN
CALSCALE:GREGORIAN
METHOD:PUBLISH
X-WR-CALNAME:Lakeway Garden Club
X-ORIGINAL-URL:https://lakewaygardenclub.com
X-WR-CALDESC:Events for Lakeway Garden Club
REFRESH-INTERVAL;VALUE=DURATION:PT1H
X-Robots-Tag:noindex
X-PUBLISHED-TTL:PT1H
BEGIN:VTIMEZONE
TZID:America/Chicago
BEGIN:DAYLIGHT
TZOFFSETFROM:-0600
TZOFFSETTO:-0500
TZNAME:CDT
DTSTART:20250309T080000
END:DAYLIGHT
BEGIN:STANDARD
TZOFFSETFROM:-0500
TZOFFSETTO:-0600
TZNAME:CST
DTSTART:20251102T070000
END:STANDARD
BEGIN:DAYLIGHT
TZOFFSETFROM:-0600
TZOFFSETTO:-0500
TZNAME:CDT
DTSTART:20260308T080000
END:DAYLIGHT
BEGIN:STANDARD
TZOFFSETFROM:-0500
TZOFFSETTO:-0600
TZNAME:CST
DTSTART:20261101T070000
END:STANDARD
BEGIN:DAYLIGHT
TZOFFSETFROM:-0600
TZOFFSETTO:-0500
TZNAME:CDT
DTSTART:20270314T080000
END:DAYLIGHT
BEGIN:STANDARD
TZOFFSETFROM:-0500
TZOFFSETTO:-0600
TZNAME:CST
DTSTART:20271107T070000
END:STANDARD
END:VTIMEZONE
BEGIN:VEVENT
DTSTART;VALUE=DATE:20260425
DTEND;VALUE=DATE:20260426
DTSTAMP:20260425T124058
CREATED:20260406T161203Z
LAST-MODIFIED:20260406T161203Z
UID:2009-1777075200-1777161599@lakewaygardenclub.com
SUMMARY:Texas Wildflower Day
DESCRIPTION:Texas Wildflower Day serves as an annual tribute to the state’s vibrant floral landscape\, observed every year on the fourth Saturday of April. This 45-year-old tradition honors the aesthetic beauty\, ecological significance\, and vast diversity of Texas flora while actively advocating for vital conservation efforts. \nThe celebration was established by Texas Woman’s University (TWU) in 1980 to highlight the importance of preserving the state’s natural environment. Since its inception\, the day has focused on educating the public about the delicate balance of the local ecosystem and the necessity of protecting native habitats. \nThe impact of this celebration extends beyond a single day of appreciation. The inaugural event at TWU fostered a renewed interest in botanical studies and environmental stewardship across the state. Today\, Texas Wildflower Day remains a cornerstone for community engagement and the continued preservation of the Lone Star State’s unique natural heritage
URL:https://lakewaygardenclub.com/event/texas-wildflower-day/
LOCATION:Lakeway Garden Club\, Lakeway\, TX\, 78734\, United States
CATEGORIES:Outdoor,Special Event
ATTACH;FMTTYPE=image/jpeg:https://lakewaygardenclub.com/wp-content/uploads/2026/04/tx-wildflowers.jpg
ORGANIZER;CN="Lakeway Garden Club":MAILTO:info@lakewaygardenclub.com
END:VEVENT
BEGIN:VEVENT
DTSTART;VALUE=DATE:20260605
DTEND;VALUE=DATE:20260608
DTSTAMP:20260425T124058
CREATED:20260405T195324Z
LAST-MODIFIED:20260405T195324Z
UID:1999-1780617600-1780876799@lakewaygardenclub.com
SUMMARY:Blanco Lavender Festival
DESCRIPTION:Attention lavender lovers! The beautiful Blanco Lavender Festival takes place over the weekend of June 7th – 9th.  Visit the sweet little town of Blanco during the Festival\, where there will be food\, drink\, music\, vendors and\, of course\, lots of lavender!! Visit Texas’ First commercial lavender farm and enjoy the Lavender Market on the grounds of the historic old Blanco County Courthouse\, where you can take in some great live music in the park. \nThe Blanco Lavender Festival is a project of the Blanco Chamber of Commerce and the major fundraiser for the year for the Chamber.
URL:https://lakewaygardenclub.com/event/blanco-lavender-festival-3/
LOCATION:Blanco Lavender Festival\, Blanco\, TX\, United States
CATEGORIES:Festival,Outdoor,Plant Sale
ATTACH;FMTTYPE=image/png:https://lakewaygardenclub.com/wp-content/uploads/2026/04/Blanco-Lavender-Festival-IG-LGC-2024.png
END:VEVENT
END:VCALENDAR