BEGIN:VCALENDAR
VERSION:2.0
PRODID:-//Lakeway Garden Club - ECPv6.15.20//NONSGML v1.0//EN
CALSCALE:GREGORIAN
METHOD:PUBLISH
X-ORIGINAL-URL:https://lakewaygardenclub.com
X-WR-CALDESC:Events for Lakeway Garden Club
REFRESH-INTERVAL;VALUE=DURATION:PT1H
X-Robots-Tag:noindex
X-PUBLISHED-TTL:PT1H
BEGIN:VTIMEZONE
TZID:America/Chicago
BEGIN:DAYLIGHT
TZOFFSETFROM:-0600
TZOFFSETTO:-0500
TZNAME:CDT
DTSTART:20230312T080000
END:DAYLIGHT
BEGIN:STANDARD
TZOFFSETFROM:-0500
TZOFFSETTO:-0600
TZNAME:CST
DTSTART:20231105T070000
END:STANDARD
BEGIN:DAYLIGHT
TZOFFSETFROM:-0600
TZOFFSETTO:-0500
TZNAME:CDT
DTSTART:20240310T080000
END:DAYLIGHT
BEGIN:STANDARD
TZOFFSETFROM:-0500
TZOFFSETTO:-0600
TZNAME:CST
DTSTART:20241103T070000
END:STANDARD
BEGIN:DAYLIGHT
TZOFFSETFROM:-0600
TZOFFSETTO:-0500
TZNAME:CDT
DTSTART:20250309T080000
END:DAYLIGHT
BEGIN:STANDARD
TZOFFSETFROM:-0500
TZOFFSETTO:-0600
TZNAME:CST
DTSTART:20251102T070000
END:STANDARD
END:VTIMEZONE
BEGIN:VEVENT
DTSTART;TZID=America/Chicago:20241203T100000
DTEND;TZID=America/Chicago:20241203T113000
DTSTAMP:20260424T111055
CREATED:20240109T191216Z
LAST-MODIFIED:20240109T191216Z
UID:1536-1733220000-1733225400@lakewaygardenclub.com
SUMMARY:Austin Herb Society Monthly Meeting
DESCRIPTION:Since 1983\, the Austin Herb Society has been educating members and the community about herbs\, including propagation\, landscaping\, history\, folklore\, and culinary\, medicinal\, and decorative uses of herbs. While our members are united by an interest in herbs\, they are also a diverse group of individuals: from gardeners and herbalists to cooks and business owners. \nAHS members design and maintain the Zilker Herb Garden-a dazzling landscape of color and fragrance that has become a centerpiece of Zilker Botanical Garden. Here\, visitors can touch\, taste\, and smell they way through nearly 200 varieties of herbs\, depending on the season. Bees and butterflies dot the beds of basil\, lavender\, and calendula. There are classic culinary herbs like rosemary\, mint\, and thyme alongside herbs revered for their health attributes\, including aloe and echinacea. \nIn addition to hands-on learning in the Zilker Herb Garden\, members enjoy: \n\nMonthly meetings with expert speakers on diverse topics (currently via zoom)\nEducational workshops and seminars throughout the year\nStudy groups focused on culinary herbs and herbal products\nField trips to unique gardens and herb-loving businesses\nDelicious herbal refreshments at our in-person meetings\nFellowship with interesting and informed herb lovers\n\nPlease join us in exploring the wonderful world of herbs! \nYou can also find us on Facebook
URL:https://lakewaygardenclub.com/event/austin-herb-society-monthly-meeting-17/
LOCATION:Zilker Botanical Garden\, 2220 Barton Springs Road\, Austin\, TX\, 78746\, United States
CATEGORIES:Free,Garden Organization,Meeting,Zilker Botanical Garden
ATTACH;FMTTYPE=image/jpeg:https://lakewaygardenclub.com/wp-content/uploads/2023/04/austinherbsociety.jpg
END:VEVENT
BEGIN:VEVENT
DTSTART;TZID=America/Chicago:20241206T100000
DTEND;TZID=America/Chicago:20241206T110000
DTSTAMP:20260424T111055
CREATED:20240109T190727Z
LAST-MODIFIED:20240109T190727Z
UID:1514-1733479200-1733482800@lakewaygardenclub.com
SUMMARY:Austin Ikebana Group Monthly Meeting
DESCRIPTION:The Austin Ikebana Group was founded by Isamu Taniguchi (circa 1902-1992)\, who started building the Taniguchi Japanese Garden when he was 70 years old. Ikebana is more than simply arranging flowers-its Japanese characters mean “giving life to flowers.” This art form has spiritual and philosophical roots\, where the relationship between every flower\, stem\, branch\, leaf\, and even container expresses a balanced and harmonious nature. The feelings of the arranger play a key role as well. Members rotate leading demonstrations and workshops. Because members have trained in various schools of Ikebana\, including Ohara\, Sogetsu\, Ikenobo\, and Ichiyo\, they bring a rich atmosphere of learning and growth to the meetings. This becomes a contemplative practice of expressing gentleness and elegance through the art of flower arrangement. Meetings are monthly on the first Friday at 10am.
URL:https://lakewaygardenclub.com/event/austin-ikebana-group-monthly-meeting-21/
LOCATION:Zilker Botanical Garden\, 2220 Barton Springs Road\, Austin\, TX\, 78746\, United States
CATEGORIES:Garden Organization,Meeting,Zilker Botanical Garden
ATTACH;FMTTYPE=image/webp:https://lakewaygardenclub.com/wp-content/uploads/2023/04/il_fullxfull.3061789954_1c20.webp
END:VEVENT
BEGIN:VEVENT
DTSTART;TZID=America/Chicago:20241226T090000
DTEND;TZID=America/Chicago:20241226T170000
DTSTAMP:20260424T111055
CREATED:20240109T184826Z
LAST-MODIFIED:20240109T184826Z
UID:1465-1735203600-1735232400@lakewaygardenclub.com
SUMMARY:Free Day at Zilker Botanical Garden
DESCRIPTION:On select dates throughout the year\, Zilker Botanical Garden offers free days where no admission is charged. \nFree Days for 2024: January 15\, February 19\, March 12\, April 28\, July 14\, September 7\, November 11\, December 26 \nNo advance registration is necessary. Final entry to the Garden is 4:30pm. \nParking is always free and available via our main parking lot\, which can be accessed through the front entrance of the garden. If overflow parking is needed\, our overflow lot at 2300 Stratford Drive will be open. If you park in the overflow lot\, you can enter directly across the street through the Hartman Gate at the back entrance. This is a highly ornamental gate and is easily recognizable.
URL:https://lakewaygardenclub.com/event/free-day-at-zilker-dec/
LOCATION:Zilker Botanical Garden\, 2220 Barton Springs Road\, Austin\, TX\, 78746\, United States
CATEGORIES:Free,Zilker Botanical Garden
ATTACH;FMTTYPE=image/jpeg:https://lakewaygardenclub.com/wp-content/uploads/2024/01/zilkerlily.jpg
END:VEVENT
END:VCALENDAR