BEGIN:VCALENDAR
VERSION:2.0
PRODID:-//Lakeway Garden Club - ECPv6.15.20//NONSGML v1.0//EN
CALSCALE:GREGORIAN
METHOD:PUBLISH
X-WR-CALNAME:Lakeway Garden Club
X-ORIGINAL-URL:https://lakewaygardenclub.com
X-WR-CALDESC:Events for Lakeway Garden Club
REFRESH-INTERVAL;VALUE=DURATION:PT1H
X-Robots-Tag:noindex
X-PUBLISHED-TTL:PT1H
BEGIN:VTIMEZONE
TZID:America/Chicago
BEGIN:DAYLIGHT
TZOFFSETFROM:-0600
TZOFFSETTO:-0500
TZNAME:CDT
DTSTART:20220313T080000
END:DAYLIGHT
BEGIN:STANDARD
TZOFFSETFROM:-0500
TZOFFSETTO:-0600
TZNAME:CST
DTSTART:20221106T070000
END:STANDARD
BEGIN:DAYLIGHT
TZOFFSETFROM:-0600
TZOFFSETTO:-0500
TZNAME:CDT
DTSTART:20230312T080000
END:DAYLIGHT
BEGIN:STANDARD
TZOFFSETFROM:-0500
TZOFFSETTO:-0600
TZNAME:CST
DTSTART:20231105T070000
END:STANDARD
BEGIN:DAYLIGHT
TZOFFSETFROM:-0600
TZOFFSETTO:-0500
TZNAME:CDT
DTSTART:20240310T080000
END:DAYLIGHT
BEGIN:STANDARD
TZOFFSETFROM:-0500
TZOFFSETTO:-0600
TZNAME:CST
DTSTART:20241103T070000
END:STANDARD
END:VTIMEZONE
BEGIN:VEVENT
DTSTART;TZID=America/Chicago:20230407T100000
DTEND;TZID=America/Chicago:20230407T113000
DTSTAMP:20260425T092737
CREATED:20230322T015802Z
LAST-MODIFIED:20230322T015802Z
UID:803-1680861600-1680867000@lakewaygardenclub.com
SUMMARY:Austin Ikebana Group Monthly Meeting
DESCRIPTION:The Austin Ikebana Group was founded by Isamu Taniguchi (circa 1902-1992)\, who started building the Taniguchi Japanese Garden when he was 70 years old. Ikebana is more than simply arranging flowers-its Japanese characters mean “giving life to flowers.” This art form has spiritual and philosophical roots\, where the relationship between every flower\, stem\, branch\, leaf\, and even container expresses a balanced and harmonious nature. The feelings of the arranger play a key role as well. Members rotate leading demonstrations and workshops. Because members have trained in various schools of Ikebana\, including Ohara\, Sogetsu\, Ikenobo\, and Ichiyo\, they bring a rich atmosphere of learning and growth to the meetings. This becomes a contemplative practice of expressing gentleness and elegance through the art of flower arrangement. Meetings are monthly on the first Friday at 10am.
URL:https://lakewaygardenclub.com/event/austin-ikebana-group-monthly-meeting/
LOCATION:Zilker Botanical Garden\, 2220 Barton Springs Road\, Austin\, TX\, 78746\, United States
CATEGORIES:Garden Organization,Zilker Botanical Garden
ATTACH;FMTTYPE=image/jpeg:https://lakewaygardenclub.com/wp-content/uploads/2023/03/ikebana.jpg
ORGANIZER;CN="Lakeway Garden Club":MAILTO:info@lakewaygardenclub.com
END:VEVENT
BEGIN:VEVENT
DTSTART;TZID=America/Chicago:20230404T100000
DTEND;TZID=America/Chicago:20230404T113000
DTSTAMP:20260425T092737
CREATED:20230405T041105Z
LAST-MODIFIED:20230405T041221Z
UID:833-1680602400-1680607800@lakewaygardenclub.com
SUMMARY:Spirit of Japanese Gardens
DESCRIPTION:Take a trip to gardens around the world without even leaving Austin. Please join Dr. Molly Ogorzaly as she contrasts Western and Eastern gardening traditions and explains how religious beliefs influenced the conception and construction of Japanese gardens. Dr. Ogorzaly\, will share design principles and identify adapted plants that can be used in Central Texas. These designs and plants are featured in Austin’s Taniguchi Japanese Garden\, which opened in 1969 and was built by Isamu Taniguchi. His motivation in building the garden was that “through the construction of this visible garden\, I might provide a symbol of universal peace.” \nAfter the presentation\, we will walk down to enjoy the Taniguchi Japanese Garden\, a tranquil\, meditative spot in the middle of Zilker Botanical Garden. Enjoy snacks and matcha green tea at 9:30 before the presentation at 10:00. This is the monthly Austin Herb Society club meeting. No registration is required. Attendance at the seminar is free and open to the public.
URL:https://lakewaygardenclub.com/event/spirit-of-japanese-gardens/
LOCATION:Zilker Botanical Garden\, 2220 Barton Springs Road\, Austin\, TX\, 78746\, United States
CATEGORIES:Free,Garden Organization,Lecture,Zilker Botanical Garden
ATTACH;FMTTYPE=image/jpeg:https://lakewaygardenclub.com/wp-content/uploads/2023/04/taniguchi-zilker-bridge-photo.jpg
END:VEVENT
BEGIN:VEVENT
DTSTART;TZID=America/Chicago:20230327T140000
DTEND;TZID=America/Chicago:20230327T150000
DTSTAMP:20260425T092737
CREATED:20230313T155736Z
LAST-MODIFIED:20230313T155736Z
UID:769-1679925600-1679929200@lakewaygardenclub.com
SUMMARY:Let's Grow: WaterWise Gardens
DESCRIPTION:Lakeway Municipal Utility District (LMUD) is hosting a week-long series of water-related speakers from March 27-31 at their district office (1097 Lohmans Crossing). Join us on Monday March 27th at 2pm when the Lakeway Garden Club shares tips for successfully growing drought-tolerant\, low-maintenance native plants and how to create a WaterWise garden! The Lakeway Garden Club is free and open to all local area residents. For information about the Lakeway Garden Club\, visit https://lakewaygardenclub.com
URL:https://lakewaygardenclub.com/event/lets-grow-waterwise-gardens/
LOCATION:Lakeway Municipal Utility District\, 1097 Lohmans Crossing\, Lakeway\, TX\, 78734\, United States
CATEGORIES:Free,Garden Tips,Let's Grow Series
ATTACH;FMTTYPE=image/png:https://lakewaygardenclub.com/wp-content/uploads/2023/03/2023-Lets-Grow-Water-Wise-Gardens.png
ORGANIZER;CN="Lakeway Garden Club":MAILTO:info@lakewaygardenclub.com
END:VEVENT
BEGIN:VEVENT
DTSTART;TZID=America/Chicago:20230325T090000
DTEND;TZID=America/Chicago:20230325T130000
DTSTAMP:20260425T092737
CREATED:20230222T204012Z
LAST-MODIFIED:20230222T204012Z
UID:671-1679734800-1679749200@lakewaygardenclub.com
SUMMARY:2023 Earth-Kind Field Day
DESCRIPTION:Join us at the 2023 Earth-Kind Field Day this spring! Texas A&M AgriLife Extension Service and Travis County Master Gardeners announce their spring 2023 Earth-Kind Gardening Field Day to be held Saturday\, March 25th from 9 am to 1 pm at the Travis County AgriLife Extension office located at 1600 Smith Road\, Austin\, TX 78721 (map). Parking is available along Smith Road. The event is free and open to the public. \nThe spring 2023 theme is Container Gardening 101 – for indoor and outdoor gardening. The first 100 attendees will receive a free 5.5″ eco-container and saucer. \nWorkshops will teach participants about houseplant care\, growing ornamentals or vegetables in pots\, and create a composting system. Other activities focus on vermicomposting\, irrigation\, rainwater harvesting\, and entomology. A limited supply of Earth-Kind plants and the popular Travis County Master Gardener publications Garden Guide for Austin and Vicinity\, and From Drought to Deluge: The Resilient Central Texas Garden will be available for purchase. \nSee you there! \nSchedule:\n\n9:00 a.m. Compost Workshop.\nLearn how to turn everyday waste from your home or garden into beneficial compost.\n\n  \n\n10:00 a.m. Houseplant University.\nGet tips on plant selection\, watering\, and light to help you successfully grow indoor plants. A demonstration on repotting and dividing is included. You’ll also learn how to manage pests – including soil gnats!\n\n  \n\n11:00 a.m. The 6D’s of Container Gardening.\nWatch a demonstration on planting a container garden for your outdoor living spaces. Advice on types of soil\, pot size\, drainage\, and more.\n\n  \n\n12:00 p.m. Ribbon Cutting on New Greenhouse\nDedication Ceremony for new educational greenhouse
URL:https://lakewaygardenclub.com/event/2023-earth-kind-field-day/
LOCATION:Texas A&M AgriLife Extension\, 1600 Smith Road\, Austin\, TX\, 78721\, United States
CATEGORIES:Ask a Master Gardener,Earth-Kind,Texas A&M AgriLife Extension,Workshop
ATTACH;FMTTYPE=image/png:https://lakewaygardenclub.com/wp-content/uploads/2023/02/2023-Earth-Kind-Field-Day.png
END:VEVENT
BEGIN:VEVENT
DTSTART;VALUE=DATE:20230324
DTEND;VALUE=DATE:20230327
DTSTAMP:20260425T092737
CREATED:20230321T232526Z
LAST-MODIFIED:20230321T235150Z
UID:797-1679616000-1679875199@lakewaygardenclub.com
SUMMARY:Wildflower Center's Native Plant Sale
DESCRIPTION:The Lady Bird Johnson Wildflower Center’s Spring Native Plant Sale features a variety of Texas natives\, including perennial and annual flowers\, grasses\, vines\, shrubs and trees for shady and sunny gardens. Native plants conserve water; lower mowing costs; provide habitat for birds\, butterflies and other wildlife; protect and enrich soil; and reduce the use of fertilizer and pesticides. Plus\, they’re beautiful! Starting 9am-1pm on the weekend of March 24th (Fri\, Sat\, Sun) and continuing each weekend through May 7th\, 2023. \n\n\nStarting March 31\, guests will be admitted to the plant sale on a first-come\, first-served basis. Entry is included with the cost of general admission.
URL:https://lakewaygardenclub.com/event/wildflower-centers-native-plant-sale/
LOCATION:Wildflower Center\, 4801 La Crosse Ave\, Austin\, TX\, 78739\, United States
CATEGORIES:Plant Sale,Wildflower Center
ATTACH;FMTTYPE=image/jpeg:https://lakewaygardenclub.com/wp-content/uploads/2023/03/plantsale.jpg
ORGANIZER;CN="Lakeway Garden Club":MAILTO:info@lakewaygardenclub.com
END:VEVENT
BEGIN:VEVENT
DTSTART;TZID=America/Chicago:20230323T190000
DTEND;TZID=America/Chicago:20230323T210000
DTSTAMP:20260425T092737
CREATED:20230223T063918Z
LAST-MODIFIED:20230223T063918Z
UID:737-1679598000-1679605200@lakewaygardenclub.com
SUMMARY:Class: The Lovely Iris
DESCRIPTION:Ellen Singleton\, President of the Iris Society of Austin\, will discuss the basics of growing beautiful irises that will grace your garden for years\, ushering in the glory of Spring. \nPresented by The Garden Club of Austin
URL:https://lakewaygardenclub.com/event/class-the-lovely-iris/
LOCATION:Zilker Botanical Garden\, 2220 Barton Springs Road\, Austin\, TX\, 78746\, United States
ATTACH;FMTTYPE=image/jpeg:https://lakewaygardenclub.com/wp-content/uploads/2023/02/dutchiris.jpg
END:VEVENT
BEGIN:VEVENT
DTSTART;TZID=America/Chicago:20230323T093000
DTEND;TZID=America/Chicago:20230323T113000
DTSTAMP:20260425T092737
CREATED:20230223T065125Z
LAST-MODIFIED:20230223T065125Z
UID:740-1679563800-1679571000@lakewaygardenclub.com
SUMMARY:Class: An Introduction to Herbal Medicine
DESCRIPTION:Violet Crown Garden Club’s March monthly meeting will feature a program on herbal plants presented by Autumn Schulze. Attendees will increase their appreciation for plants with the potential as herbal remedies. Social time starts at 9:30 AM. The program begins at 10 AM with an optional club business meeting after. Both in-person and via Zoom\, guests and members are encouraged to participate with like-minded gardeners to appreciate the beauty of nature in our gardens. \nAutumn Schulze is a Past President of the Austin Herb Society\, a biomedical scientist\, herbalist\, gut health mentor\, food as medicine expert\, and CEO of Autumn’s Harvest\, LLC\, in Austin\, Texas. \nThis will take place in the Zilker Auditorium. To receive the Zoom link and attend virtually\, email rosezavala77@gmail.com
URL:https://lakewaygardenclub.com/event/class-an-introduction-to-herbal-medicine/
LOCATION:Zilker Botanical Garden\, 2220 Barton Springs Road\, Austin\, TX\, 78746\, United States
CATEGORIES:Class,Free,Zilker Botanical Garden
ATTACH;FMTTYPE=image/jpeg:https://lakewaygardenclub.com/wp-content/uploads/2023/02/herbalmedicines.jpg
END:VEVENT
BEGIN:VEVENT
DTSTART;VALUE=DATE:20230321
DTEND;VALUE=DATE:20230322
DTSTAMP:20260425T092737
CREATED:20230222T235613Z
LAST-MODIFIED:20230222T235613Z
UID:714-1679356800-1679443199@lakewaygardenclub.com
SUMMARY:Vernal Equinox
DESCRIPTION:Happy First Day of Spring!\n\nWhat is the Vernal Equinox?\nIt is one of two moments in the year when the Sun is exactly above the Equator and day and night are of equal length; also\, either of the two points in the sky where the ecliptic (the Sun’s annual pathway) and the celestial equator intersect. In the Northern Hemisphere the vernal equinox falls about March 20 or 21\, as the Sun crosses the celestial equator going north. In the Southern Hemisphere the equinox occurs on September 22 or 23\, when the Sun moves south across the celestial equator. According to the astronomical definition of the seasons\, the vernal equinox also marks the beginning of spring\, which lasts until the summer solstice (June 20 or 21 in the Northern Hemisphere\, December 21 or 22 in the Southern Hemisphere).
URL:https://lakewaygardenclub.com/event/vernal-equinox/
LOCATION:Lakeway Garden Club\, Lakeway\, TX\, 78734\, United States
CATEGORIES:Garden Tips,Lakeway Garden Club
ATTACH;FMTTYPE=image/png:https://lakewaygardenclub.com/wp-content/uploads/2023/02/LGC_FacebookCover-1.png
ORGANIZER;CN="Lakeway Garden Club":MAILTO:info@lakewaygardenclub.com
END:VEVENT
BEGIN:VEVENT
DTSTART;TZID=America/Chicago:20230320T100000
DTEND;TZID=America/Chicago:20230320T110000
DTSTAMP:20260425T092737
CREATED:20230223T000959Z
LAST-MODIFIED:20230223T014149Z
UID:720-1679306400-1679310000@lakewaygardenclub.com
SUMMARY:Class: Keep Austin Beautiful
DESCRIPTION:Learn to about Austin’s Creeks with Keep Austin Beautiful presented by Edward Pung from Keep Austin Beautiful.\n\nLearn basic ecological concepts: what makes up a riparian ecosystem\, its function\, the characteristics of healthy vs. degraded areas\, and how ecologists and conservationists go about restoring riparian areas\, with examples. Also learn how to get involved with KAB and the Adopt-a-Creek program!
URL:https://lakewaygardenclub.com/event/class-keep-austin-beautiful/
LOCATION:The Natural Gardener\, 8648 Old Bee Caves Rd\, Austin\, TX\, 78735\, United States
CATEGORIES:Class,Free,The Natural Gardener
ATTACH;FMTTYPE=image/jpeg:https://lakewaygardenclub.com/wp-content/uploads/2023/02/keepaustinbeautiful.jpg
END:VEVENT
BEGIN:VEVENT
DTSTART;TZID=America/Chicago:20230315T100000
DTEND;TZID=America/Chicago:20230315T113000
DTSTAMP:20260425T092737
CREATED:20230223T063633Z
LAST-MODIFIED:20230223T063633Z
UID:735-1678874400-1678879800@lakewaygardenclub.com
SUMMARY:Class: Cooking with Herbs
DESCRIPTION:Learn to cook with herbs with Judith Craft\, the past VP of Horticulture for Austin Herb Society. She will guide you toward rich flavors in your cooking as well as sharing medicinal\, decorative\, and environmental benefits. \nPresented by the Yaupon Garden Club of Austin
URL:https://lakewaygardenclub.com/event/class-cooking-with-herbs/
LOCATION:Zilker Botanical Garden\, 2220 Barton Springs Road\, Austin\, TX\, 78746\, United States
CATEGORIES:Class,Free,Zilker Botanical Garden
ATTACH;FMTTYPE=image/jpeg:https://lakewaygardenclub.com/wp-content/uploads/2021/12/rosemary.jpg
END:VEVENT
BEGIN:VEVENT
DTSTART;VALUE=DATE:20230312
DTEND;VALUE=DATE:20230313
DTSTAMP:20260425T092737
CREATED:20230222T234624Z
LAST-MODIFIED:20230222T235037Z
UID:711-1678579200-1678665599@lakewaygardenclub.com
SUMMARY:Daylight Saving Time Begins
DESCRIPTION:Time to Spring Forward! Daylight Saving Time Begins at 2am. Set clocks 1hr forward and hope for the best.
URL:https://lakewaygardenclub.com/event/daylight-saving-time-begins/
LOCATION:Lakeway Garden Club\, Lakeway\, TX\, 78734\, United States
CATEGORIES:Garden Tips,Lakeway Garden Club
ATTACH;FMTTYPE=image/jpeg:https://lakewaygardenclub.com/wp-content/uploads/2023/02/daylight-saving-time.jpg
ORGANIZER;CN="Lakeway Garden Club":MAILTO:info@lakewaygardenclub.com
END:VEVENT
BEGIN:VEVENT
DTSTART;TZID=America/Chicago:20230303T093000
DTEND;TZID=America/Chicago:20230303T120000
DTSTAMP:20260425T092737
CREATED:20230223T061504Z
LAST-MODIFIED:20230223T061504Z
UID:724-1677835800-1677844800@lakewaygardenclub.com
SUMMARY:Ikebana Flower Demonstration
DESCRIPTION:Join for Austin Ikebana Group’s March meeting. Mr. Don Olsen\, a master from Ichiyo School of Ikebana\, will demonstrate the art of Ikebana (Japanese flower arrangement) with driftwoods. \nDon Olsen is a pioneer in Ikebana. He became interested in Ikebana when he was serving in Okinawa and later started to learn in Japan under the Headmaster of Ichiyo School of Ikebana.  He has been a member of San Antonio Ikebana International for 50 years and president of the group for many years. He has been an Ichiyo master for a long time with students in San Antonio\, Austin\, and Houston; many of which become instructors under his teaching. Mr. Olsen is well respected in both Ikebana and pottery fields. \nPresented by the Austin Ikebana Group\nThis event is free to the public (adult only) and open to attend as guest observers (no flower materials provided). With limited seats in Auditorium\, pre-registration is required. Register by emailing austinikebanagroup@gmail.com \n\n\nOpen to the public\, free to attend.
URL:https://lakewaygardenclub.com/event/ikebana-flower-demonstration/
LOCATION:Zilker Botanical Garden\, 2220 Barton Springs Road\, Austin\, TX\, 78746\, United States
CATEGORIES:Class,Free,Zilker Botanical Garden
ATTACH;FMTTYPE=image/png:https://lakewaygardenclub.com/wp-content/uploads/2023/02/AIG-Mar-2023-creative-500x500-1.png
END:VEVENT
BEGIN:VEVENT
DTSTART;VALUE=DATE:20230302
DTEND;VALUE=DATE:20230303
DTSTAMP:20260425T092737
CREATED:20230222T234100Z
LAST-MODIFIED:20230222T234100Z
UID:708-1677715200-1677801599@lakewaygardenclub.com
SUMMARY:Average Last Frost
DESCRIPTION:March 2nd is our average last date for frost in the Central Texas area. Watch the weather before you plant just in case there are any last minute cold snaps!\n\nSourced from Farmer’s Almanac website.
URL:https://lakewaygardenclub.com/event/average-last-frost/
LOCATION:Lakeway Garden Club\, Lakeway\, TX\, 78734\, United States
CATEGORIES:Garden Tips,Lakeway Garden Club
ATTACH;FMTTYPE=image/jpeg:https://lakewaygardenclub.com/wp-content/uploads/2023/02/frost-on-plants.jpg
ORGANIZER;CN="Lakeway Garden Club":MAILTO:info@lakewaygardenclub.com
END:VEVENT
BEGIN:VEVENT
DTSTART;TZID=America/Chicago:20230228T100000
DTEND;TZID=America/Chicago:20230228T110000
DTSTAMP:20260425T092737
CREATED:20230222T231308Z
LAST-MODIFIED:20230222T231308Z
UID:696-1677578400-1677582000@lakewaygardenclub.com
SUMMARY:Class: English Cottage Gardens in Texas
DESCRIPTION:Have you ever wanted an English style cottage garden but not sure where to start? This Natural Gardener class will review tips\, techniques\, and drought tolerant plant selection for an English style garden with a Texas touch!
URL:https://lakewaygardenclub.com/event/class-english-cottage-gardens-in-texas/
LOCATION:The Natural Gardener\, 8648 Old Bee Caves Rd\, Austin\, TX\, 78735\, United States
CATEGORIES:Class,Free,The Natural Gardener
ATTACH;FMTTYPE=image/jpeg:https://lakewaygardenclub.com/wp-content/uploads/2023/02/englishcottage.jpg
END:VEVENT
BEGIN:VEVENT
DTSTART;TZID=America/Chicago:20230226T190000
DTEND;TZID=America/Chicago:20230226T210000
DTSTAMP:20260425T092737
CREATED:20230223T062928Z
LAST-MODIFIED:20230223T062928Z
UID:729-1677438000-1677445200@lakewaygardenclub.com
SUMMARY:Class: Begonia Basics
DESCRIPTION:Join as Valerie Morris of the Austin Area Begonia Society as she presents “Begonia Basics\,” and learn how to grow begonias. \n\nThis is the monthly meeting for The Garden Club of Austin and will be held in the Auditorium. \nOpen to the public\, free to attend.
URL:https://lakewaygardenclub.com/event/class-begonia-basics/
LOCATION:Zilker Botanical Garden\, 2220 Barton Springs Road\, Austin\, TX\, 78746\, United States
CATEGORIES:Class,Free,Zilker Botanical Garden
ATTACH;FMTTYPE=image/jpeg:https://lakewaygardenclub.com/wp-content/uploads/2023/02/begonia-scaled.jpg
END:VEVENT
BEGIN:VEVENT
DTSTART;TZID=America/Chicago:20230225T100000
DTEND;TZID=America/Chicago:20230225T120000
DTSTAMP:20260425T092737
CREATED:20230222T230935Z
LAST-MODIFIED:20230222T231416Z
UID:691-1677319200-1677326400@lakewaygardenclub.com
SUMMARY:Workshop: Fruits\, Nuts and Berries
DESCRIPTION:Join us for this very popular workshop on fruits\, nuts\, and berries! Jim covers all aspects of home orchard production\, from variety selection\, to pruning and harvesting. This workshop includes a live demonstration of pruning in our Natural Gardener orchard\, so please dress according to the weather! Jim is our Central Texas specialist\, having studied and worked in horticulture since the late 1970’s. He is the author of Growing Grapes in Texas: Commercial Vineyard to Backyard Vine and the Texas Peach Handbook. His books will be available for sale and for signing after the class. There is so much information to cover and Jim is so generous with his time: this class is around two hours long. \n\nPresented by guest speaker Jim Kamas\, Associate Professor at Texas A&M
URL:https://lakewaygardenclub.com/event/fruits-nuts-and-berries-workshop/
LOCATION:The Natural Gardener\, 8648 Old Bee Caves Rd\, Austin\, TX\, 78735\, United States
CATEGORIES:Class,Free,The Natural Gardener,Workshop
ATTACH;FMTTYPE=image/jpeg:https://lakewaygardenclub.com/wp-content/uploads/2023/02/Autumn-Fruits-Nuts-and-Berries.jpg
END:VEVENT
BEGIN:VEVENT
DTSTART;VALUE=DATE:20230214
DTEND;VALUE=DATE:20230215
DTSTAMP:20260425T092737
CREATED:20230222T232010Z
LAST-MODIFIED:20230222T232010Z
UID:700-1676332800-1676419199@lakewaygardenclub.com
SUMMARY:Prune Roses
DESCRIPTION:Prune roses around Valentine’s Day and Labor Day each year.
URL:https://lakewaygardenclub.com/event/prune-roses/
LOCATION:Lakeway Garden Club\, Lakeway\, TX\, 78734\, United States
CATEGORIES:Garden Tips,Lakeway Garden Club
ATTACH;FMTTYPE=image/jpeg:https://lakewaygardenclub.com/wp-content/uploads/2023/02/rose2.jpg
ORGANIZER;CN="Lakeway Garden Club":MAILTO:info@lakewaygardenclub.com
END:VEVENT
END:VCALENDAR