BEGIN:VCALENDAR
VERSION:2.0
PRODID:-//Lakeway Garden Club - ECPv6.15.20//NONSGML v1.0//EN
CALSCALE:GREGORIAN
METHOD:PUBLISH
X-ORIGINAL-URL:https://lakewaygardenclub.com
X-WR-CALDESC:Events for Lakeway Garden Club
REFRESH-INTERVAL;VALUE=DURATION:PT1H
X-Robots-Tag:noindex
X-PUBLISHED-TTL:PT1H
BEGIN:VTIMEZONE
TZID:America/Chicago
BEGIN:DAYLIGHT
TZOFFSETFROM:-0600
TZOFFSETTO:-0500
TZNAME:CDT
DTSTART:20220313T080000
END:DAYLIGHT
BEGIN:STANDARD
TZOFFSETFROM:-0500
TZOFFSETTO:-0600
TZNAME:CST
DTSTART:20221106T070000
END:STANDARD
BEGIN:DAYLIGHT
TZOFFSETFROM:-0600
TZOFFSETTO:-0500
TZNAME:CDT
DTSTART:20230312T080000
END:DAYLIGHT
BEGIN:STANDARD
TZOFFSETFROM:-0500
TZOFFSETTO:-0600
TZNAME:CST
DTSTART:20231105T070000
END:STANDARD
BEGIN:DAYLIGHT
TZOFFSETFROM:-0600
TZOFFSETTO:-0500
TZNAME:CDT
DTSTART:20240310T080000
END:DAYLIGHT
BEGIN:STANDARD
TZOFFSETFROM:-0500
TZOFFSETTO:-0600
TZNAME:CST
DTSTART:20241103T070000
END:STANDARD
END:VTIMEZONE
BEGIN:VEVENT
DTSTART;TZID=America/Chicago:20230404T100000
DTEND;TZID=America/Chicago:20230404T113000
DTSTAMP:20260425T223056
CREATED:20230405T041105Z
LAST-MODIFIED:20230405T041221Z
UID:833-1680602400-1680607800@lakewaygardenclub.com
SUMMARY:Spirit of Japanese Gardens
DESCRIPTION:Take a trip to gardens around the world without even leaving Austin. Please join Dr. Molly Ogorzaly as she contrasts Western and Eastern gardening traditions and explains how religious beliefs influenced the conception and construction of Japanese gardens. Dr. Ogorzaly\, will share design principles and identify adapted plants that can be used in Central Texas. These designs and plants are featured in Austin’s Taniguchi Japanese Garden\, which opened in 1969 and was built by Isamu Taniguchi. His motivation in building the garden was that “through the construction of this visible garden\, I might provide a symbol of universal peace.” \nAfter the presentation\, we will walk down to enjoy the Taniguchi Japanese Garden\, a tranquil\, meditative spot in the middle of Zilker Botanical Garden. Enjoy snacks and matcha green tea at 9:30 before the presentation at 10:00. This is the monthly Austin Herb Society club meeting. No registration is required. Attendance at the seminar is free and open to the public.
URL:https://lakewaygardenclub.com/event/spirit-of-japanese-gardens/
LOCATION:Zilker Botanical Garden\, 2220 Barton Springs Road\, Austin\, TX\, 78746\, United States
CATEGORIES:Free,Garden Organization,Lecture,Zilker Botanical Garden
ATTACH;FMTTYPE=image/jpeg:https://lakewaygardenclub.com/wp-content/uploads/2023/04/taniguchi-zilker-bridge-photo.jpg
END:VEVENT
BEGIN:VEVENT
DTSTART;TZID=America/Chicago:20230407T100000
DTEND;TZID=America/Chicago:20230407T113000
DTSTAMP:20260425T223056
CREATED:20230322T015802Z
LAST-MODIFIED:20230322T015802Z
UID:803-1680861600-1680867000@lakewaygardenclub.com
SUMMARY:Austin Ikebana Group Monthly Meeting
DESCRIPTION:The Austin Ikebana Group was founded by Isamu Taniguchi (circa 1902-1992)\, who started building the Taniguchi Japanese Garden when he was 70 years old. Ikebana is more than simply arranging flowers-its Japanese characters mean “giving life to flowers.” This art form has spiritual and philosophical roots\, where the relationship between every flower\, stem\, branch\, leaf\, and even container expresses a balanced and harmonious nature. The feelings of the arranger play a key role as well. Members rotate leading demonstrations and workshops. Because members have trained in various schools of Ikebana\, including Ohara\, Sogetsu\, Ikenobo\, and Ichiyo\, they bring a rich atmosphere of learning and growth to the meetings. This becomes a contemplative practice of expressing gentleness and elegance through the art of flower arrangement. Meetings are monthly on the first Friday at 10am.
URL:https://lakewaygardenclub.com/event/austin-ikebana-group-monthly-meeting/
LOCATION:Zilker Botanical Garden\, 2220 Barton Springs Road\, Austin\, TX\, 78746\, United States
CATEGORIES:Garden Organization,Zilker Botanical Garden
ATTACH;FMTTYPE=image/jpeg:https://lakewaygardenclub.com/wp-content/uploads/2023/03/ikebana.jpg
ORGANIZER;CN="Lakeway Garden Club":MAILTO:info@lakewaygardenclub.com
END:VEVENT
BEGIN:VEVENT
DTSTART;TZID=America/Chicago:20230407T183000
DTEND;TZID=America/Chicago:20230407T230000
DTSTAMP:20260425T223056
CREATED:20230405T042708Z
LAST-MODIFIED:20230405T042708Z
UID:843-1680892200-1680908400@lakewaygardenclub.com
SUMMARY:The Surreal Garden
DESCRIPTION:Returning Spring of 2023! Ion Art will illuminate the Zilker Botanical Garden for the second consecutive year with The Surreal Garden Exhibition. For two weekends – April 7-8 and 13-15\, experience this neon phenomenon as it enchants the Garden. Support local artists while simultaneously supporting the Zilker Botanical Garden Conservancy. \nDress in your best Surreal attire and enjoy a night full of interactive art\, music\, fantastical costumes\, live entertainment\, dancing\, unlimited photo opportunities\, and people-watching. \nLocal food trailers\, dessert tables\, and cash bars will be served on-site. Vendors available on selective nights: Garbo’s Lobster Rolls\, TacoMan 512\, Downtown Burgers\, Burro Cheese Kitchen\, Sugar Mama’s Bakeshop\, Zucchini Kill\, and Pretty Cute Coffee; cash bar services provided by Black Sheep Lodge.
URL:https://lakewaygardenclub.com/event/the-surreal-garden/
LOCATION:Zilker Botanical Garden\, 2220 Barton Springs Road\, Austin\, TX\, 78746\, United States
CATEGORIES:Kids,Special Event,Zilker Botanical Garden
ATTACH;FMTTYPE=image/png:https://lakewaygardenclub.com/wp-content/uploads/2023/04/surrealgarden.png
END:VEVENT
BEGIN:VEVENT
DTSTART;TZID=America/Chicago:20230408T093000
DTEND;TZID=America/Chicago:20230408T140000
DTSTAMP:20260425T223056
CREATED:20230405T041755Z
LAST-MODIFIED:20230405T041755Z
UID:836-1680946200-1680962400@lakewaygardenclub.com
SUMMARY:Austin Herb Society Plant Sale & Garden Expo
DESCRIPTION:Shop for organic herbs\, vegetables\, and native plants at great prices! We also sell rare herbs grown by our members. Browse our vendors for daylilies\, herbal tinctures\, teas\, lotions\, aromatherapy products\, bamboo crafts\, jewelry\, ceramic plant markers\, and more. Chat with our knowledgeable members about growing and using herbs while you shop. Join a guided tour of Zilker Herb Garden to see how your plants will grow! Entertain the kids with hands-on crafts. No sales tax on plant purchases\, this is an AHS Tax-Free Sales Day. AHS is a 501(c)(3) nonprofit organization. \nAttend educational workshops with expert AHS members on: “The Benefits of Using Ginger\,” “Herbal Skincare” & “Best Herbs to Grow for Making Tea.”
URL:https://lakewaygardenclub.com/event/austin-herb-society-plant-sale-garden-expo/
LOCATION:Zilker Botanical Garden\, 2220 Barton Springs Road\, Austin\, TX\, 78746\, United States
CATEGORIES:Free,Garden Organization,Plant Sale,Zilker Botanical Garden
ATTACH;FMTTYPE=image/jpeg:https://lakewaygardenclub.com/wp-content/uploads/2023/02/herbalmedicines.jpg
END:VEVENT
BEGIN:VEVENT
DTSTART;TZID=America/Chicago:20230410T180000
DTEND;TZID=America/Chicago:20230410T210000
DTSTAMP:20260425T223056
CREATED:20230405T042204Z
LAST-MODIFIED:20230405T042204Z
UID:841-1681149600-1681160400@lakewaygardenclub.com
SUMMARY:Class: Organic Guide To Spring Insects
DESCRIPTION:Join entomologist Wizzie Brown from TAMU for a class that will cover common spring insects found in the vegetable garden. We will discuss identification\, biology\, and organic control strategies for these insects. Doors open at 6:00 pm\, talk starts at 7! Don’t forget to bring seeds and plants to swap afterward. If you can’t make it in person we will also stream the event via YouTube and zoom. \nAbout the Presenter\nMs. Brown serves as Program Specialist – IPM in the Austin metroplex encompassing Travis County and surrounding counties. Austin is the 4th largest city in Texas and the 13th largest in the nation. From 2000-2006 it was the 3rd fastest-growing U.S. city. The climate is subtropical with hot\, humid summers and mild winters. The community is racially mixed\, with white and Hispanic as the predominant races. The most important industries are government\, computer systems and information technology\, colleges and universities\, and business headquarters. The music industry and blue-collar industries are also important occupations. The range of political positions among Austinites spans from the very liberal to the very conservative. IPM concepts\, however\, bridge the political\, ethnic\, and cultural gaps. They offer common sense solutions to pest problems that provide economic\, environmental\, human health\, and quality of life benefits to people\, irrespective of their employment\, ethnicity\, or political persuasion
URL:https://lakewaygardenclub.com/event/class-organic-guide-to-spring-insects/
LOCATION:Zilker Botanical Garden\, 2220 Barton Springs Road\, Austin\, TX\, 78746\, United States
CATEGORIES:Class,Free,Garden Tips,Zilker Botanical Garden
ATTACH;FMTTYPE=image/jpeg:https://lakewaygardenclub.com/wp-content/uploads/2023/04/photo-1604839918397-846f50e754d1.jpg
END:VEVENT
BEGIN:VEVENT
DTSTART;TZID=America/Chicago:20230412T190000
DTEND;TZID=America/Chicago:20230412T200000
DTSTAMP:20260425T223056
CREATED:20230320T152556Z
LAST-MODIFIED:20230320T152556Z
UID:784-1681326000-1681329600@lakewaygardenclub.com
SUMMARY:Austin Bonsai Society Monthly Meeting
DESCRIPTION:Bonsai is a living art form\, with each plant constantly changing under the hand of the artist. It is a painting never quite finished. Bonsai also change with the seasons\, with each plant having its own unique attractiveness during each season. Miniature maples\, tiny elms\, delicate pines\, and junipers reflect both the seasons and the climates where they grow. Under our eyes\, and in miniature form\, we are privileged to watch the budding and leafing out of spring\, followed by the flowers and fruit of summer\, and the stark\, yet beautiful\, effect of bare branches against the winter sky. \nBonsai is an exciting adventure that cannot be adequately described to those who have not experienced it personally. Miniature trees and landscapes\, carefully nurtured in the seemingly too small containers\, return to us much more than they exact in the cost of creating and maintaining these plants\, which soon become our “children.” Bonsai is an adventure in which you can participate with us. \nYou can find the Austin Bonsai Society on Facebook\, Instagram\, and YouTube. \n 
URL:https://lakewaygardenclub.com/event/austin-bonsai-society-monthly-meeting/
LOCATION:Zilker Botanical Garden\, 2220 Barton Springs Road\, Austin\, TX\, 78746\, United States
CATEGORIES:Garden Organization,Zilker Botanical Garden
ATTACH;FMTTYPE=image/jpeg:https://lakewaygardenclub.com/wp-content/uploads/2023/03/bonsai.jpg
ORGANIZER;CN="Lakeway Garden Club":MAILTO:info@lakewaygardenclub.com
END:VEVENT
BEGIN:VEVENT
DTSTART;TZID=America/Chicago:20230422T120000
DTEND;TZID=America/Chicago:20230422T140000
DTSTAMP:20260425T223056
CREATED:20230222T224939Z
LAST-MODIFIED:20230405T042912Z
UID:678-1682164800-1682172000@lakewaygardenclub.com
SUMMARY:Lakeway Garden Club Open House
DESCRIPTION:To celebrate Earth Day\, the Lakeway Garden Club is hosting their first open house at the Lake Travis Community Library. The Lakeway Garden Club will offer an overview of the club\, its upcoming projects and how to become a member for free. We will also offer an area where you can find answers to most questions about growing vegetables\, native plants and more. There will be a fun Earth Day origami activity for the kids too! Don’t miss this Earth Day event with some free\, family- friendly gardening fun! Light refreshments provided.
URL:https://lakewaygardenclub.com/event/earth-day-open-house/
LOCATION:Lake Travis Community Library\, 1938 Lohmans Crossing\, Austin\, TX\, 78734\, United States
CATEGORIES:Ask a Master Gardener,Kids,Lake Travis Community Library,Lakeway Garden Club,Plant Clinic
ATTACH;FMTTYPE=image/png:https://lakewaygardenclub.com/wp-content/uploads/2023/02/LGC_Square_EarthDayOpenHouse-1.png
ORGANIZER;CN="Lakeway Garden Club":MAILTO:info@lakewaygardenclub.com
END:VEVENT
BEGIN:VEVENT
DTSTART;TZID=America/Chicago:20230429T100000
DTEND;TZID=America/Chicago:20230429T113000
DTSTAMP:20260425T223056
CREATED:20230420T050718Z
LAST-MODIFIED:20230420T050718Z
UID:884-1682762400-1682767800@lakewaygardenclub.com
SUMMARY:Designing Faerie Houses With Locally Sourced Natural Materials Workshop
DESCRIPTION:Learn to identify natural building materials to use in your own faerie house designs! Enjoy a guided walk around the garden to practice recognizing building materials found in nature followed by a chance to sketch your own faerie house designs in a scenic area of the garden. The workshop group will meet at the flagpole in front of the garden center at 10 am. \nThe workshop presenter is Lindsay Loftin who is the Culture & Arts Education Specialist at the Zilker Botanical Garden and this year’s Woodland Faerie Trail Coordinator. Lindsay loves designing faerie houses with children and has previously taught faerie house design workshops at Earth Native Wilderness Survival School and Art Outside Festival \nIncluded with admission\, free for Conservancy members.
URL:https://lakewaygardenclub.com/event/designing-faerie-houses-with-locally-sourced-natural-materials-workshop/
LOCATION:Zilker Botanical Garden\, 2220 Barton Springs Road\, Austin\, TX\, 78746\, United States
CATEGORIES:Kids,Workshop,Zilker Botanical Garden
ATTACH;FMTTYPE=image/jpeg:https://lakewaygardenclub.com/wp-content/uploads/2023/04/faerie.jpeg
END:VEVENT
BEGIN:VEVENT
DTSTART;TZID=America/Chicago:20230429T100000
DTEND;TZID=America/Chicago:20230429T120000
DTSTAMP:20260425T223056
CREATED:20230420T055730Z
LAST-MODIFIED:20230420T055730Z
UID:908-1682762400-1682769600@lakewaygardenclub.com
SUMMARY:Gardening for Birds & Pollinators
DESCRIPTION:No matter its size\, your garden can have a big impact on our ecosystem! Discover how to use native plants to support birds and pollinators in this class\, led by Wildflower Center Lead Horticulturist Amy Medley. Space is limited. Registration is required.
URL:https://lakewaygardenclub.com/event/gardening-for-birds-pollinators/
LOCATION:Wildflower Center\, 4801 La Crosse Ave\, Austin\, TX\, 78739\, United States
CATEGORIES:Class,Wildflower Center
ATTACH;FMTTYPE=image/jpeg:https://lakewaygardenclub.com/wp-content/uploads/2023/04/hummingbirdsage.jpg
END:VEVENT
END:VCALENDAR