BEGIN:VCALENDAR
VERSION:2.0
PRODID:-//Lakeway Garden Club - ECPv6.15.20//NONSGML v1.0//EN
CALSCALE:GREGORIAN
METHOD:PUBLISH
X-WR-CALNAME:Lakeway Garden Club
X-ORIGINAL-URL:https://lakewaygardenclub.com
X-WR-CALDESC:Events for Lakeway Garden Club
REFRESH-INTERVAL;VALUE=DURATION:PT1H
X-Robots-Tag:noindex
X-PUBLISHED-TTL:PT1H
BEGIN:VTIMEZONE
TZID:America/Chicago
BEGIN:DAYLIGHT
TZOFFSETFROM:-0600
TZOFFSETTO:-0500
TZNAME:CDT
DTSTART:20220313T080000
END:DAYLIGHT
BEGIN:STANDARD
TZOFFSETFROM:-0500
TZOFFSETTO:-0600
TZNAME:CST
DTSTART:20221106T070000
END:STANDARD
BEGIN:DAYLIGHT
TZOFFSETFROM:-0600
TZOFFSETTO:-0500
TZNAME:CDT
DTSTART:20230312T080000
END:DAYLIGHT
BEGIN:STANDARD
TZOFFSETFROM:-0500
TZOFFSETTO:-0600
TZNAME:CST
DTSTART:20231105T070000
END:STANDARD
BEGIN:DAYLIGHT
TZOFFSETFROM:-0600
TZOFFSETTO:-0500
TZNAME:CDT
DTSTART:20240310T080000
END:DAYLIGHT
BEGIN:STANDARD
TZOFFSETFROM:-0500
TZOFFSETTO:-0600
TZNAME:CST
DTSTART:20241103T070000
END:STANDARD
END:VTIMEZONE
BEGIN:VEVENT
DTSTART;VALUE=DATE:20230704
DTEND;VALUE=DATE:20230705
DTSTAMP:20260425T175754
CREATED:20230405T044610Z
LAST-MODIFIED:20230405T044610Z
UID:856-1688428800-1688515199@lakewaygardenclub.com
SUMMARY:4th of July
DESCRIPTION:Have a Happy 4th!
URL:https://lakewaygardenclub.com/event/4th-of-july/
LOCATION:Lakeway Garden Club\, Lakeway\, TX\, 78734\, United States
CATEGORIES:Free,Kids,Lakeway Garden Club
ATTACH;FMTTYPE=image/jpeg:https://lakewaygardenclub.com/wp-content/uploads/2023/04/fireworks.jpg
ORGANIZER;CN="Lakeway Garden Club":MAILTO:info@lakewaygardenclub.com
END:VEVENT
BEGIN:VEVENT
DTSTART;TZID=America/Chicago:20230707T100000
DTEND;TZID=America/Chicago:20230707T110000
DTSTAMP:20260425T175754
CREATED:20230615T221708Z
LAST-MODIFIED:20230615T221708Z
UID:1052-1688724000-1688727600@lakewaygardenclub.com
SUMMARY:Austin Ikebana Group Monthly Meeting
DESCRIPTION:The Austin Ikebana Group was founded by Isamu Taniguchi (circa 1902-1992)\, who started building the Taniguchi Japanese Garden when he was 70 years old. Ikebana is more than simply arranging flowers-its Japanese characters mean “giving life to flowers.” This art form has spiritual and philosophical roots\, where the relationship between every flower\, stem\, branch\, leaf\, and even container expresses a balanced and harmonious nature. The feelings of the arranger play a key role as well. Members rotate leading demonstrations and workshops. Because members have trained in various schools of Ikebana\, including Ohara\, Sogetsu\, Ikenobo\, and Ichiyo\, they bring a rich atmosphere of learning and growth to the meetings. This becomes a contemplative practice of expressing gentleness and elegance through the art of flower arrangement. Meetings are monthly on the first Friday at 10am.
URL:https://lakewaygardenclub.com/event/austin-ikebana-group-monthly-meeting-4/
LOCATION:Zilker Botanical Garden\, 2220 Barton Springs Road\, Austin\, TX\, 78746\, United States
CATEGORIES:Garden Organization,Meeting,Zilker Botanical Garden
ATTACH;FMTTYPE=image/webp:https://lakewaygardenclub.com/wp-content/uploads/2023/04/il_fullxfull.3061789954_1c20.webp
END:VEVENT
BEGIN:VEVENT
DTSTART;TZID=America/Chicago:20230708T100000
DTEND;TZID=America/Chicago:20230708T110000
DTSTAMP:20260425T175754
CREATED:20230615T211332Z
LAST-MODIFIED:20230615T213429Z
UID:1020-1688810400-1688814000@lakewaygardenclub.com
SUMMARY:Class: Native Plants
DESCRIPTION:Learn basic design principles and how to incorporate native plants into your landscape with Colleen Dieter.
URL:https://lakewaygardenclub.com/event/class-native-plants/
LOCATION:The Natural Gardener\, 8648 Old Bee Caves Rd\, Austin\, TX\, 78735\, United States
CATEGORIES:Class,Free,The Natural Gardener
ATTACH;FMTTYPE=image/jpeg:https://lakewaygardenclub.com/wp-content/uploads/2023/02/englishcottage.jpg
END:VEVENT
BEGIN:VEVENT
DTSTART;TZID=America/Chicago:20230711T100000
DTEND;TZID=America/Chicago:20230711T110000
DTSTAMP:20260425T175754
CREATED:20230615T211549Z
LAST-MODIFIED:20230615T211549Z
UID:1022-1689069600-1689073200@lakewaygardenclub.com
SUMMARY:Class: Veggie 101
DESCRIPTION:Learn how to grow your own food.  Walk through the basics from soil prep\, to raised beds\, to planting in the right season.
URL:https://lakewaygardenclub.com/event/class-veggie-101/
LOCATION:The Natural Gardener\, 8648 Old Bee Caves Rd\, Austin\, TX\, 78735\, United States
CATEGORIES:Class,Free,The Natural Gardener
ATTACH;FMTTYPE=image/png:https://lakewaygardenclub.com/wp-content/uploads/2023/04/veggiebounty.png
END:VEVENT
BEGIN:VEVENT
DTSTART;TZID=America/Chicago:20230712T190000
DTEND;TZID=America/Chicago:20230712T200000
DTSTAMP:20260425T175754
CREATED:20230320T153519Z
LAST-MODIFIED:20230320T153609Z
UID:792-1689188400-1689192000@lakewaygardenclub.com
SUMMARY:Austin Bonsai Society Monthly Meeting
DESCRIPTION:Bonsai is a living art form\, with each plant constantly changing under the hand of the artist. It is a painting never quite finished. Bonsai also change with the seasons\, with each plant having its own unique attractiveness during each season. Miniature maples\, tiny elms\, delicate pines\, and junipers reflect both the seasons and the climates where they grow. Under our eyes\, and in miniature form\, we are privileged to watch the budding and leafing out of spring\, followed by the flowers and fruit of summer\, and the stark\, yet beautiful\, effect of bare branches against the winter sky. \nBonsai is an exciting adventure that cannot be adequately described to those who have not experienced it personally. Miniature trees and landscapes\, carefully nurtured in the seemingly too small containers\, return to us much more than they exact in the cost of creating and maintaining these plants\, which soon become our “children.” Bonsai is an adventure in which you can participate with us. \nYou can find the Austin Bonsai Society on Facebook\, Instagram\, and YouTube.
URL:https://lakewaygardenclub.com/event/792/
LOCATION:Zilker Botanical Garden\, 2220 Barton Springs Road\, Austin\, TX\, 78746\, United States
CATEGORIES:Garden Organization,Zilker Botanical Garden
ATTACH;FMTTYPE=image/jpeg:https://lakewaygardenclub.com/wp-content/uploads/2023/03/bonsai.jpg
ORGANIZER;CN="Lakeway Garden Club":MAILTO:info@lakewaygardenclub.com
END:VEVENT
BEGIN:VEVENT
DTSTART;TZID=America/Chicago:20230715T100000
DTEND;TZID=America/Chicago:20230715T110000
DTSTAMP:20260425T175754
CREATED:20230615T212337Z
LAST-MODIFIED:20230615T212337Z
UID:1024-1689415200-1689418800@lakewaygardenclub.com
SUMMARY:Class: Wonderful World of Microgreens
DESCRIPTION:Are you ready to get growing indoors? Austin Davenport will walk us through all the tricks for growing microgreens inside during the dog days of summer.
URL:https://lakewaygardenclub.com/event/class-wonderful-world-of-microgreens/
LOCATION:The Natural Gardener\, 8648 Old Bee Caves Rd\, Austin\, TX\, 78735\, United States
CATEGORIES:Class,Free,The Natural Gardener
ATTACH;FMTTYPE=image/jpeg:https://lakewaygardenclub.com/wp-content/uploads/2023/06/microgreens.jpg
END:VEVENT
BEGIN:VEVENT
DTSTART;TZID=America/Chicago:20230717T183000
DTEND;TZID=America/Chicago:20230717T203000
DTSTAMP:20260425T175754
CREATED:20230615T223418Z
LAST-MODIFIED:20230615T223418Z
UID:1077-1689618600-1689625800@lakewaygardenclub.com
SUMMARY:Austin Pond Society Monthly Meeting
DESCRIPTION:The Austin Pond Society is a nonprofit organization made up of more than 100 members dedicated to increasing awareness of water gardening and to distributing information on pond construction\, maintenance\, water lilies\, and Koi keeping. The APS is composed of people from all walks of life and ages who are interested in backyard ponds\, streams\, fountains\, waterfalls\, Koi\, goldfish\, plants\, and all the things it takes to make your own little bit of paradise in your own backyard.
URL:https://lakewaygardenclub.com/event/austin-pond-society-monthly-meeting-2/
LOCATION:Zilker Botanical Garden\, 2220 Barton Springs Road\, Austin\, TX\, 78746\, United States
CATEGORIES:Free,Garden Organization,Meeting,Zilker Botanical Garden
ATTACH;FMTTYPE=image/jpeg:https://lakewaygardenclub.com/wp-content/uploads/2023/06/austinpond.jpg
END:VEVENT
BEGIN:VEVENT
DTSTART;TZID=America/Chicago:20230718T100000
DTEND;TZID=America/Chicago:20230718T110000
DTSTAMP:20260425T175754
CREATED:20230615T212503Z
LAST-MODIFIED:20230615T212503Z
UID:1027-1689674400-1689678000@lakewaygardenclub.com
SUMMARY:Class: Garden Tips for Growing Tomatoes and Peppers
DESCRIPTION:Learn tips on growing tomatoes and peppers in the Texas heat with Justin Martin.
URL:https://lakewaygardenclub.com/event/class-garden-tips-for-growing-tomatoes-and-peppers/
LOCATION:The Natural Gardener\, 8648 Old Bee Caves Rd\, Austin\, TX\, 78735\, United States
CATEGORIES:Class,Free,The Natural Gardener
ATTACH;FMTTYPE=image/jpeg:https://lakewaygardenclub.com/wp-content/uploads/2023/06/tomato.jpg
END:VEVENT
BEGIN:VEVENT
DTSTART;TZID=America/Chicago:20230722T100000
DTEND;TZID=America/Chicago:20230722T110000
DTSTAMP:20260425T175754
CREATED:20230615T212832Z
LAST-MODIFIED:20230615T212832Z
UID:1029-1690020000-1690023600@lakewaygardenclub.com
SUMMARY:Class: Herb Gardening 101
DESCRIPTION:Learn the fundamentals of herb growing from soil and nutrient requirements \, how and when to harvest\, to preservation and storage from Caroline Riley.
URL:https://lakewaygardenclub.com/event/class-herb-gardening-101/
LOCATION:The Natural Gardener\, 8648 Old Bee Caves Rd\, Austin\, TX\, 78735\, United States
CATEGORIES:Class,Free,The Natural Gardener
ATTACH;FMTTYPE=image/png:https://lakewaygardenclub.com/wp-content/uploads/2023/06/herbs.png
END:VEVENT
BEGIN:VEVENT
DTSTART;TZID=America/Chicago:20230725T100000
DTEND;TZID=America/Chicago:20230725T110000
DTSTAMP:20260425T175754
CREATED:20230615T213000Z
LAST-MODIFIED:20230615T213000Z
UID:1032-1690279200-1690282800@lakewaygardenclub.com
SUMMARY:Class: Patio Gardening
DESCRIPTION:Want to grow your own food but don’t have the space or maybe you want to start small? Walk through the basics of container gardening and how to get the most out of your space.
URL:https://lakewaygardenclub.com/event/class-patio-gardening/
LOCATION:The Natural Gardener\, 8648 Old Bee Caves Rd\, Austin\, TX\, 78735\, United States
CATEGORIES:Class,Free,The Natural Gardener
ATTACH;FMTTYPE=image/webp:https://lakewaygardenclub.com/wp-content/uploads/2023/05/containerscolorful.webp
END:VEVENT
BEGIN:VEVENT
DTSTART;TZID=America/Chicago:20230729T100000
DTEND;TZID=America/Chicago:20230729T110000
DTSTAMP:20260425T175754
CREATED:20230615T213309Z
LAST-MODIFIED:20230615T213309Z
UID:1034-1690624800-1690628400@lakewaygardenclub.com
SUMMARY:Class: Permaculture Design
DESCRIPTION:Join this open forum where class attendees can bring their challenges to the table. Learn about conventional solutions as well as ecological solutions from Leffler Ross.
URL:https://lakewaygardenclub.com/event/class-permaculture-design/
LOCATION:The Natural Gardener\, 8648 Old Bee Caves Rd\, Austin\, TX\, 78735\, United States
CATEGORIES:Class,Free,The Natural Gardener
ATTACH;FMTTYPE=image/jpeg:https://lakewaygardenclub.com/wp-content/uploads/2021/04/cropped-Garden.jpg
END:VEVENT
BEGIN:VEVENT
DTSTART;TZID=America/Chicago:20230729T103000
DTEND;TZID=America/Chicago:20230729T123000
DTSTAMP:20260425T175754
CREATED:20230615T221211Z
LAST-MODIFIED:20230615T221211Z
UID:1050-1690626600-1690633800@lakewaygardenclub.com
SUMMARY:Workshop: Plant Propagation
DESCRIPTION:Ever wanted to know the science and art of making more plants from your plants? Visit Zilker Botanical Garden on July 29th at 10:30 for our plant propagation workshop. Learn the science behind plant propagation including everything from leaf to stem to seed to spore\, and then practice propagation techniques on demonstration plants. Folks will be able to take home propagation materials from the workshop. \nThis workshop is included with admission (free for members)\, but separate workshop registration is required to attend. When you complete registration\, you will be prompted to pay for an admission ticket. This way you won’t need to purchase admission upon arrival for the workshop!
URL:https://lakewaygardenclub.com/event/workshop-plant-propagation/
LOCATION:Zilker Botanical Garden\, 2220 Barton Springs Road\, Austin\, TX\, 78746\, United States
CATEGORIES:Workshop,Zilker Botanical Garden
ATTACH;FMTTYPE=image/jpeg:https://lakewaygardenclub.com/wp-content/uploads/2023/05/gardenoutreach.jpg
END:VEVENT
END:VCALENDAR