BEGIN:VCALENDAR
VERSION:2.0
PRODID:-//Lakeway Garden Club - ECPv6.15.20//NONSGML v1.0//EN
CALSCALE:GREGORIAN
METHOD:PUBLISH
X-WR-CALNAME:Lakeway Garden Club
X-ORIGINAL-URL:https://lakewaygardenclub.com
X-WR-CALDESC:Events for Lakeway Garden Club
REFRESH-INTERVAL;VALUE=DURATION:PT1H
X-Robots-Tag:noindex
X-PUBLISHED-TTL:PT1H
BEGIN:VTIMEZONE
TZID:America/Chicago
BEGIN:DAYLIGHT
TZOFFSETFROM:-0600
TZOFFSETTO:-0500
TZNAME:CDT
DTSTART:20220313T080000
END:DAYLIGHT
BEGIN:STANDARD
TZOFFSETFROM:-0500
TZOFFSETTO:-0600
TZNAME:CST
DTSTART:20221106T070000
END:STANDARD
BEGIN:DAYLIGHT
TZOFFSETFROM:-0600
TZOFFSETTO:-0500
TZNAME:CDT
DTSTART:20230312T080000
END:DAYLIGHT
BEGIN:STANDARD
TZOFFSETFROM:-0500
TZOFFSETTO:-0600
TZNAME:CST
DTSTART:20231105T070000
END:STANDARD
BEGIN:DAYLIGHT
TZOFFSETFROM:-0600
TZOFFSETTO:-0500
TZNAME:CDT
DTSTART:20240310T080000
END:DAYLIGHT
BEGIN:STANDARD
TZOFFSETFROM:-0500
TZOFFSETTO:-0600
TZNAME:CST
DTSTART:20241103T070000
END:STANDARD
END:VTIMEZONE
BEGIN:VEVENT
DTSTART;TZID=America/Chicago:20231201T100000
DTEND;TZID=America/Chicago:20231201T110000
DTSTAMP:20260425T105914
CREATED:20230615T222117Z
LAST-MODIFIED:20230615T222117Z
UID:1057-1701424800-1701428400@lakewaygardenclub.com
SUMMARY:Austin Ikebana Group Monthly Meeting
DESCRIPTION:The Austin Ikebana Group was founded by Isamu Taniguchi (circa 1902-1992)\, who started building the Taniguchi Japanese Garden when he was 70 years old. Ikebana is more than simply arranging flowers-its Japanese characters mean “giving life to flowers.” This art form has spiritual and philosophical roots\, where the relationship between every flower\, stem\, branch\, leaf\, and even container expresses a balanced and harmonious nature. The feelings of the arranger play a key role as well. Members rotate leading demonstrations and workshops. Because members have trained in various schools of Ikebana\, including Ohara\, Sogetsu\, Ikenobo\, and Ichiyo\, they bring a rich atmosphere of learning and growth to the meetings. This becomes a contemplative practice of expressing gentleness and elegance through the art of flower arrangement. Meetings are monthly on the first Friday at 10am.
URL:https://lakewaygardenclub.com/event/austin-ikebana-group-monthly-meeting-9/
LOCATION:Zilker Botanical Garden\, 2220 Barton Springs Road\, Austin\, TX\, 78746\, United States
CATEGORIES:Garden Organization,Meeting,Zilker Botanical Garden
ATTACH;FMTTYPE=image/webp:https://lakewaygardenclub.com/wp-content/uploads/2023/04/il_fullxfull.3061789954_1c20.webp
END:VEVENT
BEGIN:VEVENT
DTSTART;TZID=America/Chicago:20231205T100000
DTEND;TZID=America/Chicago:20231205T113000
DTSTAMP:20260425T105914
CREATED:20230615T222932Z
LAST-MODIFIED:20230615T222932Z
UID:1072-1701770400-1701775800@lakewaygardenclub.com
SUMMARY:Austin Herb Society Monthly Meeting
DESCRIPTION:Since 1983\, the Austin Herb Society has been educating members and the community about herbs\, including propagation\, landscaping\, history\, folklore\, and culinary\, medicinal\, and decorative uses of herbs. While our members are united by an interest in herbs\, they are also a diverse group of individuals: from gardeners and herbalists to cooks and business owners. \nAHS members design and maintain the Zilker Herb Garden-a dazzling landscape of color and fragrance that has become a centerpiece of Zilker Botanical Garden. Here\, visitors can touch\, taste\, and smell they way through nearly 200 varieties of herbs\, depending on the season. Bees and butterflies dot the beds of basil\, lavender\, and calendula. There are classic culinary herbs like rosemary\, mint\, and thyme alongside herbs revered for their health attributes\, including aloe and echinacea. \nIn addition to hands-on learning in the Zilker Herb Garden\, members enjoy: \n\nMonthly meetings with expert speakers on diverse topics (currently via zoom)\nEducational workshops and seminars throughout the year\nStudy groups focused on culinary herbs and herbal products\nField trips to unique gardens and herb-loving businesses\nDelicious herbal refreshments at our in-person meetings\nFellowship with interesting and informed herb lovers\n\nPlease join us in exploring the wonderful world of herbs! \nYou can also find us on Facebook
URL:https://lakewaygardenclub.com/event/austin-herb-society-monthly-meeting-5/
LOCATION:Zilker Botanical Garden\, 2220 Barton Springs Road\, Austin\, TX\, 78746\, United States
CATEGORIES:Free,Garden Organization,Meeting,Zilker Botanical Garden
ATTACH;FMTTYPE=image/jpeg:https://lakewaygardenclub.com/wp-content/uploads/2023/04/austinherbsociety.jpg
END:VEVENT
BEGIN:VEVENT
DTSTART;TZID=America/Chicago:20231207T103000
DTEND;TZID=America/Chicago:20231207T120000
DTSTAMP:20260425T105914
CREATED:20230928T043944Z
LAST-MODIFIED:20230930T190602Z
UID:1207-1701945000-1701950400@lakewaygardenclub.com
SUMMARY:Lakeway Garden Club Holiday Member Mixer
DESCRIPTION:Lakeway Garden Club hosts a quarterly meeting for all members at the Lake Travis Community Library. Our December 7th holiday get together will include group discussions about smart gardening\, holiday plants and opportunities for volunteering in local garden projects. We’d love to display photos of our members’ gardens\, so please send in your garden pix and we will share them during our meeting. If you would like to request a future garden topic or have a specific gardening question\, please let us know. So RSVP and bring your favorite holiday treats to share and join us on December 7th. All are welcome to join for free if they are not already a member. See you then! \nRSVP online.
URL:https://lakewaygardenclub.com/event/lakeway-garden-club-member-mixer/
LOCATION:Lake Travis Community Library\, 1938 Lohmans Crossing\, Austin\, TX\, 78734\, United States
CATEGORIES:Free,Garden Organization,Lake Travis Community Library,Lakeway Garden Club,Meeting
ATTACH;FMTTYPE=image/png:https://lakewaygardenclub.com/wp-content/uploads/2023/09/LGC_Square_HolidayMemberMixer.png
ORGANIZER;CN="Lakeway Garden Club":MAILTO:info@lakewaygardenclub.com
END:VEVENT
END:VCALENDAR