BEGIN:VCALENDAR
VERSION:2.0
PRODID:-//Lakeway Garden Club - ECPv6.15.20//NONSGML v1.0//EN
CALSCALE:GREGORIAN
METHOD:PUBLISH
X-WR-CALNAME:Lakeway Garden Club
X-ORIGINAL-URL:https://lakewaygardenclub.com
X-WR-CALDESC:Events for Lakeway Garden Club
REFRESH-INTERVAL;VALUE=DURATION:PT1H
X-Robots-Tag:noindex
X-PUBLISHED-TTL:PT1H
BEGIN:VTIMEZONE
TZID:America/Chicago
BEGIN:DAYLIGHT
TZOFFSETFROM:-0600
TZOFFSETTO:-0500
TZNAME:CDT
DTSTART:20230312T080000
END:DAYLIGHT
BEGIN:STANDARD
TZOFFSETFROM:-0500
TZOFFSETTO:-0600
TZNAME:CST
DTSTART:20231105T070000
END:STANDARD
BEGIN:DAYLIGHT
TZOFFSETFROM:-0600
TZOFFSETTO:-0500
TZNAME:CDT
DTSTART:20240310T080000
END:DAYLIGHT
BEGIN:STANDARD
TZOFFSETFROM:-0500
TZOFFSETTO:-0600
TZNAME:CST
DTSTART:20241103T070000
END:STANDARD
BEGIN:DAYLIGHT
TZOFFSETFROM:-0600
TZOFFSETTO:-0500
TZNAME:CDT
DTSTART:20250309T080000
END:DAYLIGHT
BEGIN:STANDARD
TZOFFSETFROM:-0500
TZOFFSETTO:-0600
TZNAME:CST
DTSTART:20251102T070000
END:STANDARD
END:VTIMEZONE
BEGIN:VEVENT
DTSTART;TZID=America/Chicago:20240202T090000
DTEND;TZID=America/Chicago:20240202T110000
DTSTAMP:20260425T075831
CREATED:20240109T172610Z
LAST-MODIFIED:20240109T181355Z
UID:1399-1706864400-1706871600@lakewaygardenclub.com
SUMMARY:Texas A&M AgriLife Open House - Houseplants
DESCRIPTION:Join Us in the Texas A&M AgriLife Demo Garden for our monthly Open House!\nThe first Friday morning of every month is designated as a FREE open house for the Texas A&M AgriLife Earth-Kind Demonstration Garden at 1600 Smith Road\, Austin. You’ll be able to visit the garden and speak with the Travis County Master Gardener volunteers who maintain it as well as get your gardening questions answered by the Plant Clinic staff. Each month will also feature some sort of demonstration or workshop that deep dive into subject areas. See monthly topics below. \nMonthly Topics\n\nJanuary 5th – Tree Trimming\nFebruary 2nd – Houseplant University\nMarch 1st – Rose Pruning\nApril 5th – Spring Vegetable Gardening\nMay 3rd – Mulch 101\nJune 7th – IPM Insect Management\nJuly 5th – Shade Cloth\nAugust 2nd – Solarization\nAugust 16th – Light Requirements\nSeptember 6th – Soil Texture and Composting\nSeptember 20th – Landscape Design Site Analysis\nOctober 4th –Entomology and Plant Pathology Scavenger Hunt\nNovember 1st – Vegetable Garden layout and rotation\nDecember 6th – Tool Care
URL:https://lakewaygardenclub.com/event/agrilife-open-house-houseplants/
LOCATION:Texas A&M AgriLife Extension\, 1600 Smith Road\, Austin\, TX\, 78721\, United States
CATEGORIES:Class,Earth-Kind,Free,Outdoor,Texas A&M AgriLife Extension
ATTACH;FMTTYPE=image/png:https://lakewaygardenclub.com/wp-content/uploads/2024/01/2.png
END:VEVENT
BEGIN:VEVENT
DTSTART;TZID=America/Chicago:20240202T100000
DTEND;TZID=America/Chicago:20240202T110000
DTSTAMP:20260425T075831
CREATED:20240109T190359Z
LAST-MODIFIED:20240109T190359Z
UID:1494-1706868000-1706871600@lakewaygardenclub.com
SUMMARY:Austin Ikebana Group Monthly Meeting
DESCRIPTION:The Austin Ikebana Group was founded by Isamu Taniguchi (circa 1902-1992)\, who started building the Taniguchi Japanese Garden when he was 70 years old. Ikebana is more than simply arranging flowers-its Japanese characters mean “giving life to flowers.” This art form has spiritual and philosophical roots\, where the relationship between every flower\, stem\, branch\, leaf\, and even container expresses a balanced and harmonious nature. The feelings of the arranger play a key role as well. Members rotate leading demonstrations and workshops. Because members have trained in various schools of Ikebana\, including Ohara\, Sogetsu\, Ikenobo\, and Ichiyo\, they bring a rich atmosphere of learning and growth to the meetings. This becomes a contemplative practice of expressing gentleness and elegance through the art of flower arrangement. Meetings are monthly on the first Friday at 10am.
URL:https://lakewaygardenclub.com/event/austin-ikebana-group-monthly-meeting-11/
LOCATION:Zilker Botanical Garden\, 2220 Barton Springs Road\, Austin\, TX\, 78746\, United States
CATEGORIES:Garden Organization,Meeting,Zilker Botanical Garden
ATTACH;FMTTYPE=image/webp:https://lakewaygardenclub.com/wp-content/uploads/2023/04/il_fullxfull.3061789954_1c20.webp
END:VEVENT
BEGIN:VEVENT
DTSTART;TZID=America/Chicago:20240206T100000
DTEND;TZID=America/Chicago:20240206T113000
DTSTAMP:20260425T075831
CREATED:20240109T190859Z
LAST-MODIFIED:20240109T190859Z
UID:1518-1707213600-1707219000@lakewaygardenclub.com
SUMMARY:Austin Herb Society Monthly Meeting
DESCRIPTION:Since 1983\, the Austin Herb Society has been educating members and the community about herbs\, including propagation\, landscaping\, history\, folklore\, and culinary\, medicinal\, and decorative uses of herbs. While our members are united by an interest in herbs\, they are also a diverse group of individuals: from gardeners and herbalists to cooks and business owners. \nAHS members design and maintain the Zilker Herb Garden-a dazzling landscape of color and fragrance that has become a centerpiece of Zilker Botanical Garden. Here\, visitors can touch\, taste\, and smell they way through nearly 200 varieties of herbs\, depending on the season. Bees and butterflies dot the beds of basil\, lavender\, and calendula. There are classic culinary herbs like rosemary\, mint\, and thyme alongside herbs revered for their health attributes\, including aloe and echinacea. \nIn addition to hands-on learning in the Zilker Herb Garden\, members enjoy: \n\nMonthly meetings with expert speakers on diverse topics (currently via zoom)\nEducational workshops and seminars throughout the year\nStudy groups focused on culinary herbs and herbal products\nField trips to unique gardens and herb-loving businesses\nDelicious herbal refreshments at our in-person meetings\nFellowship with interesting and informed herb lovers\n\nPlease join us in exploring the wonderful world of herbs! \nYou can also find us on Facebook
URL:https://lakewaygardenclub.com/event/austin-herb-society-monthly-meeting-8/
LOCATION:Zilker Botanical Garden\, 2220 Barton Springs Road\, Austin\, TX\, 78746\, United States
CATEGORIES:Free,Garden Organization,Meeting,Zilker Botanical Garden
ATTACH;FMTTYPE=image/jpeg:https://lakewaygardenclub.com/wp-content/uploads/2023/04/austinherbsociety.jpg
END:VEVENT
BEGIN:VEVENT
DTSTART;TZID=America/Chicago:20240214T190000
DTEND;TZID=America/Chicago:20240214T200000
DTSTAMP:20260425T075831
CREATED:20240109T185842Z
LAST-MODIFIED:20240109T185842Z
UID:1472-1707937200-1707940800@lakewaygardenclub.com
SUMMARY:Austin Bonsai Society Monthly Meeting
DESCRIPTION:Bonsai is a living art form\, with each plant constantly changing under the hand of the artist. It is a painting never quite finished. Bonsai also change with the seasons\, with each plant having its own unique attractiveness during each season. Miniature maples\, tiny elms\, delicate pines\, and junipers reflect both the seasons and the climates where they grow. Under our eyes\, and in miniature form\, we are privileged to watch the budding and leafing out of spring\, followed by the flowers and fruit of summer\, and the stark\, yet beautiful\, effect of bare branches against the winter sky. \nBonsai is an exciting adventure that cannot be adequately described to those who have not experienced it personally. Miniature trees and landscapes\, carefully nurtured in the seemingly too small containers\, return to us much more than they exact in the cost of creating and maintaining these plants\, which soon become our “children.” Bonsai is an adventure in which you can participate with us. \nYou can find the Austin Bonsai Society on Facebook\, Instagram\, and YouTube.
URL:https://lakewaygardenclub.com/event/austin-bonsai-society-monthly-meeting-9/
LOCATION:Zilker Botanical Garden\, 2220 Barton Springs Road\, Austin\, TX\, 78746\, United States
CATEGORIES:Garden Organization,Zilker Botanical Garden
ATTACH;FMTTYPE=image/png:https://lakewaygardenclub.com/wp-content/uploads/2024/01/LGC-Bonsai.png
ORGANIZER;CN="Lakeway Garden Club":MAILTO:info@lakewaygardenclub.com
END:VEVENT
BEGIN:VEVENT
DTSTART;TZID=America/Chicago:20240219T090000
DTEND;TZID=America/Chicago:20240219T170000
DTSTAMP:20260425T075831
CREATED:20240109T184205Z
LAST-MODIFIED:20240109T184926Z
UID:1453-1708333200-1708362000@lakewaygardenclub.com
SUMMARY:Free Day at Zilker Botanical Garden
DESCRIPTION:On select dates throughout the year\, Zilker Botanical Garden offers free days where no admission is charged. \nFree Days for 2024: January 15\, February 19\, March 12\, April 28\, July 14\, September 7\, November 11\, December 26 \nNo advance registration is necessary. Final entry to the Garden is 4:30pm. \nParking is always free and available via our main parking lot\, which can be accessed through the front entrance of the garden. If overflow parking is needed\, our overflow lot at 2300 Stratford Drive will be open. If you park in the overflow lot\, you can enter directly across the street through the Hartman Gate at the back entrance. This is a highly ornamental gate and is easily recognizable.
URL:https://lakewaygardenclub.com/event/free-day-at-zilker-feb/
LOCATION:Zilker Botanical Garden\, 2220 Barton Springs Road\, Austin\, TX\, 78746\, United States
CATEGORIES:Free,Zilker Botanical Garden
ATTACH;FMTTYPE=image/jpeg:https://lakewaygardenclub.com/wp-content/uploads/2024/01/zilkerlily.jpg
END:VEVENT
BEGIN:VEVENT
DTSTART;TZID=America/Chicago:20240221T100000
DTEND;TZID=America/Chicago:20240221T120000
DTSTAMP:20260425T075831
CREATED:20240212T194850Z
LAST-MODIFIED:20240212T194914Z
UID:1574-1708509600-1708516800@lakewaygardenclub.com
SUMMARY:Native and Adapted Plants - Texas Tough Plants Series
DESCRIPTION:What are the best native and adapted plants to use in central Texas that can tolerate extremes of heat and cold\, drought and deluge? Find out when the Texas A&M AgriLife Extension-Travis County kicks off the 2024 Texas Tough Plants webinar series with Native and Adapted Plants for Central Texas and Wild About Plants\, on February 21st\, 10 am to noon. \nThose interested must register in advance to receive a link to the webinar. \nAttendees can submit questions during the webinar and get answers live as time allows. More information on the entire webinar series can be found here.
URL:https://lakewaygardenclub.com/event/native-and-adapted-plants-webinar/
LOCATION:Texas A&M AgriLife Extension\, 1600 Smith Road\, Austin\, TX\, 78721\, United States
CATEGORIES:Class,Free,Online,Texas A&M AgriLife Extension
ATTACH;FMTTYPE=image/png:https://lakewaygardenclub.com/wp-content/uploads/2024/02/Tough-Texas-Plants-Webinar-Series-IG.png
END:VEVENT
BEGIN:VEVENT
DTSTART;TZID=America/Chicago:20240221T180000
DTEND;TZID=America/Chicago:20240221T200000
DTSTAMP:20260425T075831
CREATED:20231025T194209Z
LAST-MODIFIED:20240912T040300Z
UID:1256-1708538400-1708545600@lakewaygardenclub.com
SUMMARY:Landscape Design Class: Curb Appeal
DESCRIPTION:Join HGTV featured Landscape Designer Gay Gray and learn how to create an inviting landscape in your yard. \nLearn the basics in curb appeal and backyard design from Gay Gray who has been a featured landscape designer on HGTV and focuses on earth wise and organic gardening. Learn what deer-resistant and drought-tolerant plantings will work great in your landscape. Now your home can be more inviting to family and friends and have that extra detail which may have a potential buyer taking a closer look. The first 5 participants who register will have their pictures used as examples in class for design suggestions and ideas. \nAbout Gay Gray\nAfter a long career as an intellectual property litigator focusing on patent law\, Gay Bonorden Gray decided to do her part in making the world a more beautiful place.  Leaving a secure position in a Fortune 500 company as in-house counsel\, Gay went back to school to pursue a career in horticulture.   Since starting her business in landscaping\, Gay’s designs have appeared in print in several publications by Sunset Magazines and Books (available at retailers like Barnes and Noble and Home Depot) and have appeared multiple times on HGTV.   She filmed two television shows for HGTV’s Landscape Smart\, and had much fun doing it.
URL:https://lakewaygardenclub.com/event/landscape-design-class-curb-appeal-3/
LOCATION:Lakeway Activity Center\, 105 Cross Creek\, Lakeway\, TX\, 78734\, United States
CATEGORIES:Class,Lakeway Activity Center
ATTACH;FMTTYPE=image/png:https://lakewaygardenclub.com/wp-content/uploads/2023/10/Landcape-Design-Class-square.png
END:VEVENT
END:VCALENDAR