BEGIN:VCALENDAR
VERSION:2.0
PRODID:-//Lakeway Garden Club - ECPv6.15.20//NONSGML v1.0//EN
CALSCALE:GREGORIAN
METHOD:PUBLISH
X-WR-CALNAME:Lakeway Garden Club
X-ORIGINAL-URL:https://lakewaygardenclub.com
X-WR-CALDESC:Events for Lakeway Garden Club
REFRESH-INTERVAL;VALUE=DURATION:PT1H
X-Robots-Tag:noindex
X-PUBLISHED-TTL:PT1H
BEGIN:VTIMEZONE
TZID:America/Chicago
BEGIN:DAYLIGHT
TZOFFSETFROM:-0600
TZOFFSETTO:-0500
TZNAME:CDT
DTSTART:20230312T080000
END:DAYLIGHT
BEGIN:STANDARD
TZOFFSETFROM:-0500
TZOFFSETTO:-0600
TZNAME:CST
DTSTART:20231105T070000
END:STANDARD
BEGIN:DAYLIGHT
TZOFFSETFROM:-0600
TZOFFSETTO:-0500
TZNAME:CDT
DTSTART:20240310T080000
END:DAYLIGHT
BEGIN:STANDARD
TZOFFSETFROM:-0500
TZOFFSETTO:-0600
TZNAME:CST
DTSTART:20241103T070000
END:STANDARD
BEGIN:DAYLIGHT
TZOFFSETFROM:-0600
TZOFFSETTO:-0500
TZNAME:CDT
DTSTART:20250309T080000
END:DAYLIGHT
BEGIN:STANDARD
TZOFFSETFROM:-0500
TZOFFSETTO:-0600
TZNAME:CST
DTSTART:20251102T070000
END:STANDARD
END:VTIMEZONE
BEGIN:VEVENT
DTSTART;TZID=America/Chicago:20240802T090000
DTEND;TZID=America/Chicago:20240802T110000
DTSTAMP:20260424T184019
CREATED:20240109T173958Z
LAST-MODIFIED:20240109T182529Z
UID:1415-1722589200-1722596400@lakewaygardenclub.com
SUMMARY:Texas A&M AgriLife Open House - Solarization
DESCRIPTION:Join Us in the Texas A&M AgriLife Demo Garden for our monthly Open House!\nThe first Friday morning of every month is designated as a FREE open house for the Texas A&M AgriLife Earth-Kind Demonstration Garden at 1600 Smith Road\, Austin. You’ll be able to visit the garden and speak with the Travis County Master Gardener volunteers who maintain it as well as get your gardening questions answered by the Plant Clinic staff. Each month will also feature some sort of demonstration or workshop that deep dive into subject areas. See monthly topics below. \nMonthly Topics\n\nJanuary 5th – Tree Trimming\nFebruary 2nd – Houseplant University\nMarch 1st – Rose Pruning\nApril 5th – Spring Vegetable Gardening\nMay 3rd – Mulch 101\nJune 7th – IPM Insect Management\nJuly 5th – Shade Cloth\nAugust 2nd – Solarization\nAugust 16th – Light Requirements\nSeptember 6th – Soil Texture and Composting\nSeptember 20th – Landscape Design Site Analysis\nOctober 4th –Entomology and Plant Pathology Scavenger Hunt\nNovember 1st – Vegetable Garden layout and rotation\nDecember 6th – Tool Care
URL:https://lakewaygardenclub.com/event/agrilife-open-house-solarization/
LOCATION:Texas A&M AgriLife Extension\, 1600 Smith Road\, Austin\, TX\, 78721\, United States
CATEGORIES:Class,Earth-Kind,Free,Outdoor,Texas A&M AgriLife Extension
ATTACH;FMTTYPE=image/png:https://lakewaygardenclub.com/wp-content/uploads/2024/01/8.png
END:VEVENT
BEGIN:VEVENT
DTSTART;TZID=America/Chicago:20240802T100000
DTEND;TZID=America/Chicago:20240802T110000
DTSTAMP:20260424T184019
CREATED:20240109T190557Z
LAST-MODIFIED:20240109T190557Z
UID:1506-1722592800-1722596400@lakewaygardenclub.com
SUMMARY:Austin Ikebana Group Monthly Meeting
DESCRIPTION:The Austin Ikebana Group was founded by Isamu Taniguchi (circa 1902-1992)\, who started building the Taniguchi Japanese Garden when he was 70 years old. Ikebana is more than simply arranging flowers-its Japanese characters mean “giving life to flowers.” This art form has spiritual and philosophical roots\, where the relationship between every flower\, stem\, branch\, leaf\, and even container expresses a balanced and harmonious nature. The feelings of the arranger play a key role as well. Members rotate leading demonstrations and workshops. Because members have trained in various schools of Ikebana\, including Ohara\, Sogetsu\, Ikenobo\, and Ichiyo\, they bring a rich atmosphere of learning and growth to the meetings. This becomes a contemplative practice of expressing gentleness and elegance through the art of flower arrangement. Meetings are monthly on the first Friday at 10am.
URL:https://lakewaygardenclub.com/event/austin-ikebana-group-monthly-meeting-17/
LOCATION:Zilker Botanical Garden\, 2220 Barton Springs Road\, Austin\, TX\, 78746\, United States
CATEGORIES:Garden Organization,Meeting,Zilker Botanical Garden
ATTACH;FMTTYPE=image/webp:https://lakewaygardenclub.com/wp-content/uploads/2023/04/il_fullxfull.3061789954_1c20.webp
END:VEVENT
BEGIN:VEVENT
DTSTART;TZID=America/Chicago:20240814T190000
DTEND;TZID=America/Chicago:20240814T200000
DTSTAMP:20260424T184019
CREATED:20240109T190115Z
LAST-MODIFIED:20240109T190115Z
UID:1484-1723662000-1723665600@lakewaygardenclub.com
SUMMARY:Austin Bonsai Society Monthly Meeting
DESCRIPTION:Bonsai is a living art form\, with each plant constantly changing under the hand of the artist. It is a painting never quite finished. Bonsai also change with the seasons\, with each plant having its own unique attractiveness during each season. Miniature maples\, tiny elms\, delicate pines\, and junipers reflect both the seasons and the climates where they grow. Under our eyes\, and in miniature form\, we are privileged to watch the budding and leafing out of spring\, followed by the flowers and fruit of summer\, and the stark\, yet beautiful\, effect of bare branches against the winter sky. \nBonsai is an exciting adventure that cannot be adequately described to those who have not experienced it personally. Miniature trees and landscapes\, carefully nurtured in the seemingly too small containers\, return to us much more than they exact in the cost of creating and maintaining these plants\, which soon become our “children.” Bonsai is an adventure in which you can participate with us. \nYou can find the Austin Bonsai Society on Facebook\, Instagram\, and YouTube.
URL:https://lakewaygardenclub.com/event/austin-bonsai-society-monthly-meeting-15/
LOCATION:Zilker Botanical Garden\, 2220 Barton Springs Road\, Austin\, TX\, 78746\, United States
CATEGORIES:Garden Organization,Zilker Botanical Garden
ATTACH;FMTTYPE=image/png:https://lakewaygardenclub.com/wp-content/uploads/2024/01/LGC-Bonsai.png
ORGANIZER;CN="Lakeway Garden Club":MAILTO:info@lakewaygardenclub.com
END:VEVENT
BEGIN:VEVENT
DTSTART;TZID=America/Chicago:20240816T090000
DTEND;TZID=America/Chicago:20240816T110000
DTSTAMP:20260424T184019
CREATED:20240109T174539Z
LAST-MODIFIED:20240109T182831Z
UID:1421-1723798800-1723806000@lakewaygardenclub.com
SUMMARY:Texas A&M AgriLife Open House - Light Requirements
DESCRIPTION:Join Us in the Texas A&M AgriLife Demo Garden for our monthly Open House!\nThe first Friday morning of every month is designated as a FREE open house for the Texas A&M AgriLife Earth-Kind Demonstration Garden at 1600 Smith Road\, Austin. You’ll be able to visit the garden and speak with the Travis County Master Gardener volunteers who maintain it as well as get your gardening questions answered by the Plant Clinic staff. Each month will also feature some sort of demonstration or workshop that deep dive into subject areas. See monthly topics below. \nMonthly Topics\n\nJanuary 5th – Tree Trimming\nFebruary 2nd – Houseplant University\nMarch 1st – Rose Pruning\nApril 5th – Spring Vegetable Gardening\nMay 3rd – Mulch 101\nJune 7th – IPM Insect Management\nJuly 5th – Shade Cloth\nAugust 2nd – Solarization\nAugust 16th – Light Requirements\nSeptember 6th – Soil Texture and Composting\nSeptember 20th – Landscape Design Site Analysis\nOctober 4th –Entomology and Plant Pathology Scavenger Hunt\nNovember 1st – Vegetable Garden layout and rotation\nDecember 6th – Tool Care
URL:https://lakewaygardenclub.com/event/agrilife-open-house-light/
LOCATION:Lakeway Municipal Utility District\, 1097 Lohmans Crossing\, Lakeway\, TX\, 78734\, United States
CATEGORIES:Class,Earth-Kind,Free,Outdoor,Texas A&M AgriLife Extension
ATTACH;FMTTYPE=image/png:https://lakewaygardenclub.com/wp-content/uploads/2024/01/9.png
END:VEVENT
END:VCALENDAR